BEGIN:VCALENDAR
VERSION:2.0
PRODID:-//Party-Insider - ECPv6.15.20//NONSGML v1.0//EN
CALSCALE:GREGORIAN
METHOD:PUBLISH
X-ORIGINAL-URL:https://www.party-insider.com
X-WR-CALDESC:Veranstaltungen im Party-Insider
REFRESH-INTERVAL;VALUE=DURATION:PT1H
X-Robots-Tag:noindex
X-PUBLISHED-TTL:PT1H
BEGIN:VTIMEZONE
TZID:Europe/Zurich
BEGIN:DAYLIGHT
TZOFFSETFROM:+0100
TZOFFSETTO:+0200
TZNAME:CEST
DTSTART:20240331T010000
END:DAYLIGHT
BEGIN:STANDARD
TZOFFSETFROM:+0200
TZOFFSETTO:+0100
TZNAME:CET
DTSTART:20241027T010000
END:STANDARD
BEGIN:DAYLIGHT
TZOFFSETFROM:+0100
TZOFFSETTO:+0200
TZNAME:CEST
DTSTART:20250330T010000
END:DAYLIGHT
BEGIN:STANDARD
TZOFFSETFROM:+0200
TZOFFSETTO:+0100
TZNAME:CET
DTSTART:20251026T010000
END:STANDARD
BEGIN:DAYLIGHT
TZOFFSETFROM:+0100
TZOFFSETTO:+0200
TZNAME:CEST
DTSTART:20260329T010000
END:DAYLIGHT
BEGIN:STANDARD
TZOFFSETFROM:+0200
TZOFFSETTO:+0100
TZNAME:CET
DTSTART:20261025T010000
END:STANDARD
END:VTIMEZONE
BEGIN:VEVENT
DTSTART;TZID=Europe/Zurich:20250218T080000
DTEND;TZID=Europe/Zurich:20250218T170000
DTSTAMP:20260424T212521
CREATED:20250218T221025Z
LAST-MODIFIED:20250218T221025Z
UID:10000221-1739865600-1739898000@www.party-insider.com
SUMMARY:♥️ I LOVE HIP HOP ♥️ im Grey Konstanz
DESCRIPTION:PARTY AUF 4 FLOORS \nI LOVE HIP HOP DAS ORIGINAL\nDeutschland größtes Hip Hop Event\nin der größten Disco am Bodensee. \nGREY Konstanz \nBig energy\, bigger than ever! \nNEXT DATE: Saturday 29.03.25 \nYou better be there. \nILHH! AND YOU?\n💕
URL:https://www.party-insider.com/event/%e2%99%a5%ef%b8%8f-i-love-hip-hop-%e2%99%a5%ef%b8%8f-im-grey-konstanz/
END:VEVENT
END:VCALENDAR