BEGIN:VCALENDAR
VERSION:2.0
PRODID:-//Party-Insider - ECPv6.15.20//NONSGML v1.0//EN
CALSCALE:GREGORIAN
METHOD:PUBLISH
X-WR-CALNAME:Party-Insider
X-ORIGINAL-URL:https://www.party-insider.com
X-WR-CALDESC:Veranstaltungen im Party-Insider
REFRESH-INTERVAL;VALUE=DURATION:PT1H
X-Robots-Tag:noindex
X-PUBLISHED-TTL:PT1H
BEGIN:VTIMEZONE
TZID:Europe/Zurich
BEGIN:DAYLIGHT
TZOFFSETFROM:+0100
TZOFFSETTO:+0200
TZNAME:CEST
DTSTART:20240331T010000
END:DAYLIGHT
BEGIN:STANDARD
TZOFFSETFROM:+0200
TZOFFSETTO:+0100
TZNAME:CET
DTSTART:20241027T010000
END:STANDARD
BEGIN:DAYLIGHT
TZOFFSETFROM:+0100
TZOFFSETTO:+0200
TZNAME:CEST
DTSTART:20250330T010000
END:DAYLIGHT
BEGIN:STANDARD
TZOFFSETFROM:+0200
TZOFFSETTO:+0100
TZNAME:CET
DTSTART:20251026T010000
END:STANDARD
BEGIN:DAYLIGHT
TZOFFSETFROM:+0100
TZOFFSETTO:+0200
TZNAME:CEST
DTSTART:20260329T010000
END:DAYLIGHT
BEGIN:STANDARD
TZOFFSETFROM:+0200
TZOFFSETTO:+0100
TZNAME:CET
DTSTART:20261025T010000
END:STANDARD
END:VTIMEZONE
BEGIN:VEVENT
DTSTART;TZID=Europe/Zurich:20250227T120000
DTEND;TZID=Europe/Zurich:20250228T020000
DTSTAMP:20260424T181812
CREATED:20250221T125607Z
LAST-MODIFIED:20250221T125607Z
UID:10000231-1740657600-1740708000@www.party-insider.com
SUMMARY:KATZ FASTNACHTS PARTY in Schwarze Katz Konstanz
DESCRIPTION:Willkommen zur großen Fasnachts Party in der Schwarzen Katz: \nSCHMOTZIGER DUNSCHTIG: Ab 12:00 bis Open End – bis 17 Uhr Eintritt frei! \nFASNACHTS SAMSTAG: Ab 20:00 Uhr\nFeiert mit unseren DJ’s zu den größten Hits aller Zeiten in der Bar und in unserem Party-Zelt! Holt Euch rechtzeitig euer Einlassbändchen* im Vorverkauf. Wir freuen uns auf Euch! \nVORVERKUAUFSTELLEN:\nNamNam Club\nFastnachtsladen Niederburg Konstanz\n*Das Einlassband garantiert nicht den Eintritt während eines Einlassstopp.\nKeine Lust anzustehen aber immer garantierten Einlass zu haben ?\nFragt beim Vorverkauf nach unseren Golden Bändchen.\nAchtung die Anzahl ist streng limitiert
URL:https://www.party-insider.com/event/katz-fastnachts-party-in-schwarze-katz-konstanz/
LOCATION:Schwarze Katz Konstanz\, Katzgasse 8\, Konstanz\, 78462\, Germany
CATEGORIES:Schwarze Katz
ATTACH;FMTTYPE=image/jpeg:https://www.party-insider.com/wp-content/uploads/2025/02/katz_27-02-25_modified.jpeg
END:VEVENT
BEGIN:VEVENT
DTSTART;TZID=Europe/Zurich:20250227T130000
DTEND;TZID=Europe/Zurich:20250228T050000
DTSTAMP:20260424T181812
CREATED:20250223T152303Z
LAST-MODIFIED:20250223T152303Z
UID:10000245-1740661200-1740718800@www.party-insider.com
SUMMARY:Schmudo im Antik Konstanz
DESCRIPTION:MUSIC BY \nFUNK HOUSE | DEEP TECH | TECH HOUSE I TECHNO \nMARCELLO FIORENZA\, TONI ROSSETTI (STUGGITOWN RECORDS)\, ZOKI (SMOSO)\, LUCA PALADINO (LAKERAVE) \n 
URL:https://www.party-insider.com/event/schmudo-im-antik-konstanz/
ATTACH;FMTTYPE=image/png:https://www.party-insider.com/wp-content/uploads/2025/02/IMG_2025-02-23-161102.png
END:VEVENT
BEGIN:VEVENT
DTSTART;TZID=Europe/Zurich:20250227T140000
DTEND;TZID=Europe/Zurich:20250228T050000
DTSTAMP:20260424T181812
CREATED:20250218T223820Z
LAST-MODIFIED:20250219T052950Z
UID:10000225-1740664800-1740718800@www.party-insider.com
SUMMARY:Fasnacht Party im il Boccone Konstanz
DESCRIPTION:Feiere Fasnacht mit uns im il Boccone Konstanz. \nWann? Donnerstag\, 27. Februar 2025\, ab 14:00 Uhr \nWo? Il Boccone\, Konstanz \nMit dabei: DJ Elmo sorgt für die beste Stimmung! \nEintritt frei! \nKommt vorbei\, feiert mit uns und genießt eine unvergessliche Fasnacht voller Musik\, guter Laune. \nWir freuen uns auf euch!
URL:https://www.party-insider.com/event/fasnacht-party-im-grey-konstanz/
LOCATION:Il Boccone Konstanz\, Bodanstraße 20 - 26\, Konstanz\, 78462
CATEGORIES:il Boccone
ATTACH;FMTTYPE=image/jpeg:https://www.party-insider.com/wp-content/uploads/2025/02/IMG_0330.jpeg
END:VEVENT
BEGIN:VEVENT
DTSTART;TZID=Europe/Zurich:20250227T170000
DTEND;TZID=Europe/Zurich:20250228T050000
DTSTAMP:20260424T181812
CREATED:20250225T004711Z
LAST-MODIFIED:20251227T150646Z
UID:10000308-1740675600-1740718800@www.party-insider.com
SUMMARY:Techno College im Destille Konstanz
DESCRIPTION:Leider hat die Stadt der Wiedereröffnung der 107 Bar für morgen einen Riegel vorgeschoben. Daher kann die Party dieses mal nicht wie gewohnt stattfinden. \nWir verlagern daher kurzfristig die Party in die @destille_konstanz und starten ab 17 Uhr.
URL:https://www.party-insider.com/event/techno-college-im-kantine-konstanz/
ATTACH;FMTTYPE=image/jpeg:https://www.party-insider.com/wp-content/uploads/2025/02/IMG_0605.jpeg
END:VEVENT
BEGIN:VEVENT
DTSTART;TZID=Europe/Zurich:20250227T193000
DTEND;TZID=Europe/Zurich:20250228T010000
DTSTAMP:20260424T181812
CREATED:20250227T152702Z
LAST-MODIFIED:20250227T154635Z
UID:10000377-1740684600-1740704400@www.party-insider.com
SUMMARY:Schmudo Party im Peggys Frauenfeld
DESCRIPTION:Grosses Fasnachts Wochenende im\nPeggys! \nDonnerstag 27. Februar\nSchmudo Party mit Lokalmatador DJ Turi und Gugge \nFreitag 28. Februar\nDisco meets Fasnacht mit DJ Little Maze \nSamstag 1. März\nXXL Fasnachts Party mit DJ Marc One \nSonntag 2. März\nGeschlossen \nDienstag 4. März\nPiratenbegräbnis mit Gugge \nBar geöffnet ab 17 Uhr!\nParty ab 19/21 Uhr!\nZutritt ab 18 Jahren! \nGratis Eintritt für alle mit Verkleidung!\nFr & Sa Club Night 22 – 01 Uhr CHF 5.- Eintritt
URL:https://www.party-insider.com/event/schmudo-party-im-peggys-frauenfeld/
ATTACH;FMTTYPE=image/png:https://www.party-insider.com/wp-content/uploads/2025/02/IMG_2025-02-27-161909.png
END:VEVENT
BEGIN:VEVENT
DTSTART;TZID=Europe/Zurich:20250227T210000
DTEND;TZID=Europe/Zurich:20250228T020000
DTSTAMP:20260424T181812
CREATED:20250223T095309Z
LAST-MODIFIED:20250223T102609Z
UID:10000237-1740690000-1740708000@www.party-insider.com
SUMMARY:Die K9-Disco am Schmotzigen mit DJ Carnevale im Kulturzentrum K9 Konstanz
DESCRIPTION:Zur fünften Jahreszeit bittet DJ Andrea Carnevale zum Tanz zu Songs aus den 60igern bis in die 80iger! Ihr erlebt eine Zeitreise durch die Musikgeschichte\, dokumentiert anhand von Musikvideos\, als es noch keine rein synthetische Musik gab!\nErlebt diese einzigartige Atmosphäre mitten in Konstanz\, in einer ehemaligen Kirche zu tanzen\, Generationen übergreifendes Publikum\, positive Vibes!\nAuf dass die Endorphine die Tanzfläche fluten!
URL:https://www.party-insider.com/event/die-k9-disco-am-schmotzigen-mit-dj-carnevale-im-kulturzentrum-k9/
ATTACH;FMTTYPE=image/jpeg:https://www.party-insider.com/wp-content/uploads/2025/02/IMG_0500.jpeg
END:VEVENT
END:VCALENDAR