BEGIN:VCALENDAR
VERSION:2.0
PRODID:-//Party-Insider - ECPv6.15.20//NONSGML v1.0//EN
CALSCALE:GREGORIAN
METHOD:PUBLISH
X-WR-CALNAME:Party-Insider
X-ORIGINAL-URL:https://www.party-insider.com
X-WR-CALDESC:Veranstaltungen im Party-Insider
REFRESH-INTERVAL;VALUE=DURATION:PT1H
X-Robots-Tag:noindex
X-PUBLISHED-TTL:PT1H
BEGIN:VTIMEZONE
TZID:Europe/Zurich
BEGIN:DAYLIGHT
TZOFFSETFROM:+0100
TZOFFSETTO:+0200
TZNAME:CEST
DTSTART:20240331T010000
END:DAYLIGHT
BEGIN:STANDARD
TZOFFSETFROM:+0200
TZOFFSETTO:+0100
TZNAME:CET
DTSTART:20241027T010000
END:STANDARD
BEGIN:DAYLIGHT
TZOFFSETFROM:+0100
TZOFFSETTO:+0200
TZNAME:CEST
DTSTART:20250330T010000
END:DAYLIGHT
BEGIN:STANDARD
TZOFFSETFROM:+0200
TZOFFSETTO:+0100
TZNAME:CET
DTSTART:20251026T010000
END:STANDARD
BEGIN:DAYLIGHT
TZOFFSETFROM:+0100
TZOFFSETTO:+0200
TZNAME:CEST
DTSTART:20260329T010000
END:DAYLIGHT
BEGIN:STANDARD
TZOFFSETFROM:+0200
TZOFFSETTO:+0100
TZNAME:CET
DTSTART:20261025T010000
END:STANDARD
END:VTIMEZONE
BEGIN:VEVENT
DTSTART;TZID=Europe/Zurich:20250306T200000
DTEND;TZID=Europe/Zurich:20250306T230000
DTSTAMP:20260424T181753
CREATED:20250305T091928Z
LAST-MODIFIED:20250305T093810Z
UID:10000392-1741291200-1741302000@www.party-insider.com
SUMMARY:SHIMMER im Kula Konstanz
DESCRIPTION:Liebe und Musik – Tour 2025 Support: Emma Josephine Einlass: 19:00 Beginn: 20:00 VVK: 17\,13 EUR (inkl. Gebühren) / 16\,00 EUR (ProfiShop und Kula Bar) AK: 18\,00 EUR\n\n\n\n\n\n\nZeit & Ort\n\n\n06. März 2025\, 20:00 \nKULA\, Joseph-Belli-Weg 5\, 78467 Konstanz\, Deutschland \n\n\n\n\n\n\nÜber die Veranstaltung\n\n\n\n🔗TICKET LINK \nEintrittskarten sind erhältlich bei:  \nProfiShop ( Hussenstraße 49\, 78462 Konstanz ) und in der Kula-Bar – 16 EUR  \nliska kann leider aus gesundheitlichen Gründen nicht wie geplant als teil der Doppelshow auftreten. Dafür wird Emma Josephine als Support einspringen. \nWir freuen uns\, wenn ihr trotzdem zu dieser bezaubernden Show kommt. Solltet ihr ausschließlich wegen liska Tickets gekauft haben\, könnt ihr die dort zurückgeben\, wo ihr sie gekauft habt. \n\n\n\n\n\n\n\n\n\nSHIMMER. macht Indiepop mit Einflüssen aus Disco und Funk mit deutschen Texten und verzichtet dabei komplett auf Backingtracks oder Playbacks. Die vier aus Stuttgart machen ihre Musik ausschließlich live – aus der Liebe zur Musik. Diese einzigartige Stimmung macht sich bei den Auftritten bemerkbar und darum soll es im März 2025 auch gehen. Alle tanzen\, alle fühlen\, alle lassen sich in den Moment fallen und überall good vibes. \n SHIMMER. Instagram
URL:https://www.party-insider.com/event/shimmer-im-kula-konstanz/
LOCATION:Kulturladen Konstanz\, Joseph-Belli-Weg 5\, Konstanz\, 78467\, Germany
CATEGORIES:Kulturladen
ATTACH;FMTTYPE=image/jpeg:https://www.party-insider.com/wp-content/uploads/2025/03/IMG_0838.jpeg
END:VEVENT
END:VCALENDAR