BEGIN:VCALENDAR
VERSION:2.0
PRODID:-//Party-Insider - ECPv6.15.20//NONSGML v1.0//EN
CALSCALE:GREGORIAN
METHOD:PUBLISH
X-ORIGINAL-URL:https://www.party-insider.com
X-WR-CALDESC:Veranstaltungen im Party-Insider
REFRESH-INTERVAL;VALUE=DURATION:PT1H
X-Robots-Tag:noindex
X-PUBLISHED-TTL:PT1H
BEGIN:VTIMEZONE
TZID:Europe/Zurich
BEGIN:DAYLIGHT
TZOFFSETFROM:+0100
TZOFFSETTO:+0200
TZNAME:CEST
DTSTART:20240331T010000
END:DAYLIGHT
BEGIN:STANDARD
TZOFFSETFROM:+0200
TZOFFSETTO:+0100
TZNAME:CET
DTSTART:20241027T010000
END:STANDARD
BEGIN:DAYLIGHT
TZOFFSETFROM:+0100
TZOFFSETTO:+0200
TZNAME:CEST
DTSTART:20250330T010000
END:DAYLIGHT
BEGIN:STANDARD
TZOFFSETFROM:+0200
TZOFFSETTO:+0100
TZNAME:CET
DTSTART:20251026T010000
END:STANDARD
BEGIN:DAYLIGHT
TZOFFSETFROM:+0100
TZOFFSETTO:+0200
TZNAME:CEST
DTSTART:20260329T010000
END:DAYLIGHT
BEGIN:STANDARD
TZOFFSETFROM:+0200
TZOFFSETTO:+0100
TZNAME:CET
DTSTART:20261025T010000
END:STANDARD
END:VTIMEZONE
BEGIN:VEVENT
DTSTART;TZID=Europe/Zurich:20250307T200000
DTEND;TZID=Europe/Zurich:20250308T000000
DTSTAMP:20260424T182023
CREATED:20250219T064358Z
LAST-MODIFIED:20250219T064358Z
UID:10000230-1741377600-1741392000@www.party-insider.com
SUMMARY:THE BUSTERS | LOUD im Kulturladen Konstanz
DESCRIPTION:Einlass: 19:00 Beginn: 20:00 VVK: 34\,60 EUR (inkl. Gebühren) AK: TBA\n\n\n\n\n\nZeit & Ort\n\n\n07. März 2025\, 20:00 \nKULA\, Joseph-Belli-Weg 5\, 78467 Konstanz\, Deutschland \nÜber die Veranstaltung\n\n\n\n🔗TICKET LINK \n \nLOUD: eine Band\, eine Mission. \nDie Band: klare Botschaft und unerschütterliche Energie sind der Signature Sound von THE BUSTERS. Punkige Energie verschmilzt mit jamaikanischen Beats zu einer lauten und kompromisslosen Haltung gegen Rassismus. \nDie Mission: die Live-Venues in einen brodelnden Kessel zu verwandeln\, um gemeinsam Love und Unity zu feiern\, denn Hass und Hetze haben im Universum von THE BUSTERS keinen Platz. \nLOUD – gegen Rassismus\, für Zusammenhalt und Vielfalt! \nHol dir jetzt dein Ticket. Lass uns zusammen laut werden und gemeinsam ein starkes Zeichen setzen. \nLet’s get LOUD!
URL:https://www.party-insider.com/event/the-busters-loud-im-kulturladen-konstanz/
LOCATION:Kulturladen Konstanz\, Joseph-Belli-Weg 5\, Konstanz\, 78467\, Germany
CATEGORIES:Kulturladen
ATTACH;FMTTYPE=image/webp:https://www.party-insider.com/wp-content/uploads/2025/02/IMG_0341.webp
END:VEVENT
BEGIN:VEVENT
DTSTART;TZID=Europe/Zurich:20250307T210000
DTEND;TZID=Europe/Zurich:20250308T050000
DTSTAMP:20260424T182023
CREATED:20250305T081529Z
LAST-MODIFIED:20250305T081529Z
UID:10000391-1741381200-1741410000@www.party-insider.com
SUMMARY:Disco Party in Genx Konstanz
DESCRIPTION:
URL:https://www.party-insider.com/event/disco-party-in-genx-konstanz/
LOCATION:Poly Club Konstanz\, Maybachstraße 8\, Konstanz\, 78467\, Germany
CATEGORIES:Poly Club Konstanz
ATTACH;FMTTYPE=image/jpeg:https://www.party-insider.com/wp-content/uploads/2025/03/IMG_0836.jpeg
END:VEVENT
BEGIN:VEVENT
DTSTART;TZID=Europe/Zurich:20250307T220000
DTEND;TZID=Europe/Zurich:20250308T010000
DTSTAMP:20260424T182023
CREATED:20250307T052441Z
LAST-MODIFIED:20250307T052441Z
UID:10000397-1741384800-1741395600@www.party-insider.com
SUMMARY:Friday Night im PEGGY O'NEILL'S Frauenfeld
DESCRIPTION:
URL:https://www.party-insider.com/event/friday-night-im-peggy-oneills-frauenfeld/
ATTACH;FMTTYPE=image/jpeg:https://www.party-insider.com/wp-content/uploads/2025/03/IMG_0854.jpeg
END:VEVENT
BEGIN:VEVENT
DTSTART;TZID=Europe/Zurich:20250307T220000
DTEND;TZID=Europe/Zurich:20250308T020000
DTSTAMP:20260424T182023
CREATED:20250218T222912Z
LAST-MODIFIED:20251227T150701Z
UID:10000223-1741384800-1741399200@www.party-insider.com
SUMMARY:House Musik in Treu Tägerwilen
DESCRIPTION:
URL:https://www.party-insider.com/event/house-musik-im-zur-treu-taegerwilen/
LOCATION:Zur Treu Tägerwilen\, Hauptstrasse 99\, Tägerwilen\, 8274\, Switzerland
CATEGORIES:Zur Treu
ATTACH;FMTTYPE=image/jpeg:https://www.party-insider.com/wp-content/uploads/2025/02/IMG_0310.jpeg
END:VEVENT
BEGIN:VEVENT
DTSTART;TZID=Europe/Zurich:20250307T220000
DTEND;TZID=Europe/Zurich:20250308T040000
DTSTAMP:20260424T182023
CREATED:20250205T041526Z
LAST-MODIFIED:20250205T041526Z
UID:10000172-1741384800-1741406400@www.party-insider.com
SUMMARY:Lollipop Party im Bolero Winterthur
DESCRIPTION:
URL:https://www.party-insider.com/event/lollipop-party-im-bolero-winterthur/
LOCATION:Bolero Winterthur\, Vogelsangstrasse 10\, Winterthur\, 8400\, Switzerland
CATEGORIES:Bolero
ATTACH;FMTTYPE=image/jpeg:https://www.party-insider.com/wp-content/uploads/2025/02/IMG_0029.jpeg
END:VEVENT
BEGIN:VEVENT
DTSTART;TZID=Europe/Zurich:20250307T220000
DTEND;TZID=Europe/Zurich:20250308T040000
DTSTAMP:20260424T182023
CREATED:20250218T213708Z
LAST-MODIFIED:20250218T213708Z
UID:10000215-1741384800-1741406400@www.party-insider.com
SUMMARY:🎉 AFTER KATER PARTY 🎉 im Top10 Singen
DESCRIPTION:Nach der wilden Fasnacht kommt die Zeit für die erste Party ohne Kater! 🥳Komm vorbei und feiere mit uns den Start in die Woche nach der feucht-fröhlichen Fasnacht! 💃🕺 \nWir haben für dich die besten Drinks & Specials vorbereitet\, die den Kater vergessen lassen: 🍹🍸 \n👉 Spezial-Drinks 🥤 \n🍸 Katerkiller – Der Drink\, der den Tag nach der Nacht rettet! (Preis: 7 €)🍹 Fasnachts-Fieber – Mit fruchtigen Noten und einem Schuss Karneval! (Preis: 7 €)🥂 Erste-Hilfe-Cocktail – Für die ersten Schritte nach dem langen Wochenende! (Preis: 7€) \nDJ Flya wird mit seinen heißen Beats dafür sorgen\, dass dein Kater schnell vergessen ist! 🎧🔥Lass dich treiben und tanze bis zum Morgen! ✨💃🕺 \nDresscode: Dein Fasnachtskostüm oder ganz entspannt – Hauptsache\, du bist dabei! 🎭Wir freuen uns auf eine unvergessliche Nacht mit dir! 🎉🍾 \n✪ MAINHALL ✪\nDJ FLYA // Mixed Music\nRESERVIERUNGEN:\nDirekt über unsere Homepage – www.top10-singen.de\n★★★★★★★★★★★★★★★★★\nEINLASS AB 16 JAHREN (in Verbindung mit U18 Formular)\nDRESS TO IMPRESS\nÖffnungszeiten 22:00 – 4:00 Uhr\nEintritt: Abendkasse 8€\n★★★★★★★★★★★★★★★★★\nWir freuen uns auf euch!
URL:https://www.party-insider.com/event/%f0%9f%8e%89-after-kater-party-%f0%9f%8e%89-im-top10-singen/
LOCATION:TOP10 Singen\, Otto-Hahn-Str. 5\, Singen (Hohentwiel)\, 78224\, Germany
CATEGORIES:Top10
ATTACH;FMTTYPE=image/png:https://www.party-insider.com/wp-content/uploads/2025/02/top10_07-03-25.png
END:VEVENT
BEGIN:VEVENT
DTSTART;TZID=Europe/Zurich:20250307T220000
DTEND;TZID=Europe/Zurich:20250308T040000
DTSTAMP:20260424T182023
CREATED:20250305T171009Z
LAST-MODIFIED:20250305T171126Z
UID:10000393-1741384800-1741406400@www.party-insider.com
SUMMARY:Weil ich ein Mädchen bin im Erdbeermund Singen
DESCRIPTION:Weil ich ein Mädchen bin ist…\nEine säuft. Eine heult. Eine kichert irre vor sich hin.\nZwei rennen schreiend durch den Club.\nEine steht beim DJ und macht sich über den Rest der Truppe lustig…\n\nFrauen haben die ganze Nacht freien Eintritt.\n\nUnsere Getränkeaktionen:\njede 3er Gruppe Frauen erhält eine Falsche Sekt gratis\n\nGrüße vom Erdbeermund Team\n▀▀▀▀▀▀▀▀▀▀▀▀▀▀▀▀▀▀▀▀▀\nX Music by DJ Slott X\nBest of Mainstream\, Latino und Partyhits\n▀▀▀▀▀▀▀▀▀▀▀▀▀▀▀▀▀▀▀▀▀\nmore info\n►► Eintritt: 8\,00 EUR\n►► ab 21 Jahren\n►► Öffnungszeiten 22:00 – 4:00 Uhr\n►► Reservierungen: https://www.erdbeermund-singen.de
URL:https://www.party-insider.com/event/weil-ich-ein-maedchen-bin-im-erdbeermund-singen-7/
LOCATION:Erdbeermund Singen\, Otto-Hahn-Str. 5\, Singen (Hohentwiel)\, 78224\, Germany
CATEGORIES:Erdbeermund
ATTACH;FMTTYPE=image/png:https://www.party-insider.com/wp-content/uploads/2025/03/IMG_2025-03-05-181101.png
END:VEVENT
BEGIN:VEVENT
DTSTART;TZID=Europe/Zurich:20250307T230000
DTEND;TZID=Europe/Zurich:20250308T050000
DTSTAMP:20260424T182023
CREATED:20250209T141345Z
LAST-MODIFIED:20250209T142517Z
UID:10000204-1741388400-1741410000@www.party-insider.com
SUMMARY:Urban DJ R-SUDA in Sugar Club Winterthur
DESCRIPTION:
URL:https://www.party-insider.com/event/urban-dj-r-suda-in-suger-club-winterthur/
LOCATION:Sugar Club Winterthur\, Schaffhauserstrasse 201\, Winterthur\, 8400\, Switzerland
CATEGORIES:Sugar Club
ATTACH;FMTTYPE=image/jpeg:https://www.party-insider.com/wp-content/uploads/2025/02/IMG_0148.jpeg
END:VEVENT
BEGIN:VEVENT
DTSTART;TZID=Europe/Zurich:20250307T230000
DTEND;TZID=Europe/Zurich:20250308T050000
DTSTAMP:20260424T182023
CREATED:20250224T234513Z
LAST-MODIFIED:20250224T234828Z
UID:10000303-1741388400-1741410000@www.party-insider.com
SUMMARY:HipHop I Amapiano I FutureBeats I Newschool in Kantine Konstanz
DESCRIPTION:FR I 07.03.25 I 23:00 – 05:00 I Kantine Konstanz \nHipHop I Amapiano I FutureBeats I Newschool \n18+ \n+++¥+++¥+++¥+++¥+++¥ \nLineUp:\n🔊 @jaguarjoerg\n🔊 @dvt_money aka Dat\n🔊 @mad._.mat aka Madmoiselle \n+++¥+++¥+++¥+++¥+++¥ \nVVK: 8€\nAK: 10€ \n+++¥+++¥+++¥+++¥+++¥ \nWe do not tolerate any kind of racism\, sexism\, homophobia\, transphobia or other discrimination. \nHOUSE RIGHTS: House rights are the responsibility of the operator. The VVK ticket is not a guarantee of admission!\n#dontsstopthedance
URL:https://www.party-insider.com/event/hiphop-i-amapiano-i-futurebeats-i-newschool-in-kantine-konstanz/
LOCATION:Kantine Konstanz\, Oberlohnstraße 3\, Konstanz\, 78467\, Germany
CATEGORIES:Kantine
ATTACH;FMTTYPE=image/png:https://www.party-insider.com/wp-content/uploads/2025/02/Screenshot-2025-02-25-at-00.42.00_modfied.png
END:VEVENT
END:VCALENDAR