BEGIN:VCALENDAR
VERSION:2.0
PRODID:-//Party-Insider - ECPv6.15.20//NONSGML v1.0//EN
CALSCALE:GREGORIAN
METHOD:PUBLISH
X-WR-CALNAME:Party-Insider
X-ORIGINAL-URL:https://www.party-insider.com
X-WR-CALDESC:Veranstaltungen im Party-Insider
REFRESH-INTERVAL;VALUE=DURATION:PT1H
X-Robots-Tag:noindex
X-PUBLISHED-TTL:PT1H
BEGIN:VTIMEZONE
TZID:Europe/Zurich
BEGIN:DAYLIGHT
TZOFFSETFROM:+0100
TZOFFSETTO:+0200
TZNAME:CEST
DTSTART:20240331T010000
END:DAYLIGHT
BEGIN:STANDARD
TZOFFSETFROM:+0200
TZOFFSETTO:+0100
TZNAME:CET
DTSTART:20241027T010000
END:STANDARD
BEGIN:DAYLIGHT
TZOFFSETFROM:+0100
TZOFFSETTO:+0200
TZNAME:CEST
DTSTART:20250330T010000
END:DAYLIGHT
BEGIN:STANDARD
TZOFFSETFROM:+0200
TZOFFSETTO:+0100
TZNAME:CET
DTSTART:20251026T010000
END:STANDARD
BEGIN:DAYLIGHT
TZOFFSETFROM:+0100
TZOFFSETTO:+0200
TZNAME:CEST
DTSTART:20260329T010000
END:DAYLIGHT
BEGIN:STANDARD
TZOFFSETFROM:+0200
TZOFFSETTO:+0100
TZNAME:CET
DTSTART:20261025T010000
END:STANDARD
END:VTIMEZONE
BEGIN:VEVENT
DTSTART;TZID=Europe/Zurich:20250313T183000
DTEND;TZID=Europe/Zurich:20250314T000000
DTSTAMP:20260424T183050
CREATED:20250223T173702Z
LAST-MODIFIED:20250223T173702Z
UID:10000246-1741890600-1741910400@www.party-insider.com
SUMMARY:Breeze Afterwork Party im Glorious Bastards - Lago Konstanz
DESCRIPTION:Am Donnerstag 13.03.25 Breeze Afterwork Party @glorious.bastards im Lago Konstanz
URL:https://www.party-insider.com/event/breeze-afterwork-party-im-glorious-bastards-lago-konstanz-2/
LOCATION:Glorious Bastards Konstanz\, Bodanstraße 1\, Konstanz\, 78462\, Germany
CATEGORIES:Glorious Bastards
ATTACH;FMTTYPE=image/png:https://www.party-insider.com/wp-content/uploads/2025/02/IMG_2025-02-23-183443.png
END:VEVENT
END:VCALENDAR