BEGIN:VCALENDAR
VERSION:2.0
PRODID:-//Party-Insider - ECPv6.15.20//NONSGML v1.0//EN
CALSCALE:GREGORIAN
METHOD:PUBLISH
X-ORIGINAL-URL:https://www.party-insider.com
X-WR-CALDESC:Veranstaltungen im Party-Insider
REFRESH-INTERVAL;VALUE=DURATION:PT1H
X-Robots-Tag:noindex
X-PUBLISHED-TTL:PT1H
BEGIN:VTIMEZONE
TZID:Europe/Zurich
BEGIN:DAYLIGHT
TZOFFSETFROM:+0100
TZOFFSETTO:+0200
TZNAME:CEST
DTSTART:20240331T010000
END:DAYLIGHT
BEGIN:STANDARD
TZOFFSETFROM:+0200
TZOFFSETTO:+0100
TZNAME:CET
DTSTART:20241027T010000
END:STANDARD
BEGIN:DAYLIGHT
TZOFFSETFROM:+0100
TZOFFSETTO:+0200
TZNAME:CEST
DTSTART:20250330T010000
END:DAYLIGHT
BEGIN:STANDARD
TZOFFSETFROM:+0200
TZOFFSETTO:+0100
TZNAME:CET
DTSTART:20251026T010000
END:STANDARD
BEGIN:DAYLIGHT
TZOFFSETFROM:+0100
TZOFFSETTO:+0200
TZNAME:CEST
DTSTART:20260329T010000
END:DAYLIGHT
BEGIN:STANDARD
TZOFFSETFROM:+0200
TZOFFSETTO:+0100
TZNAME:CET
DTSTART:20261025T010000
END:STANDARD
END:VTIMEZONE
BEGIN:VEVENT
DTSTART;TZID=Europe/Zurich:20250315T200000
DTEND;TZID=Europe/Zurich:20250316T020000
DTSTAMP:20260424T183740
CREATED:20250227T143830Z
LAST-MODIFIED:20250309T131151Z
UID:10000376-1742068800-1742090400@www.party-insider.com
SUMMARY:Gone Wild & Bang the Head im Dreiegg Frauenfeld
DESCRIPTION:„GONEWILD & BANG THE HEAD» \nLive Punk/Rock Konzert & Party \n\nSa 15. Marz 2025\nStart: 20:00 UHR\n\nLIVE ON STAGE: \n\,short.case„ – Hardcore Punkrock vom Feinsten\, Oldschool und ungeschönt! „corpus delicti\, – Crossover Thrash Metal \nAFTERSHOWPARTY: \n„PTO & STE the Deejay» drehen auf – von Punk bis Metal\, direkt auf die Fresse! \nSPECIALS: \n\nBMX/Skater-Vibes\nOldschool-Dresscode willkommen (Band-Shirts\, Vans\, Baggy Pants\, …)\n\n• Wildes Pogen inklusive \nBANG YOUR HEAD! \n«Kommt zeitig\, der Platz ist begrenzt.»
URL:https://www.party-insider.com/event/gone-wild-bang-the-head-im-dreiegg-frauenfeld/
ATTACH;FMTTYPE=image/png:https://www.party-insider.com/wp-content/uploads/2025/02/IMG_2025-03-09-141125.png
END:VEVENT
BEGIN:VEVENT
DTSTART;TZID=Europe/Zurich:20250315T210000
DTEND;TZID=Europe/Zurich:20250316T020000
DTSTAMP:20260424T183740
CREATED:20250223T100940Z
LAST-MODIFIED:20250223T102432Z
UID:10000240-1742072400-1742090400@www.party-insider.com
SUMMARY:Die K9-Disco mit DJane Kathrin im Kulturzentrum K9
DESCRIPTION:Mixed Music
URL:https://www.party-insider.com/event/die-k9-disco-mit-djane-kathrin-im-kulturzentrum-k9/
ATTACH;FMTTYPE=image/jpeg:https://www.party-insider.com/wp-content/uploads/2025/02/IMG_0500.jpeg
END:VEVENT
BEGIN:VEVENT
DTSTART;TZID=Europe/Zurich:20250315T210000
DTEND;TZID=Europe/Zurich:20250316T020000
DTSTAMP:20260424T183740
CREATED:20250312T093903Z
LAST-MODIFIED:20250318T121110Z
UID:10000406-1742072400-1742090400@www.party-insider.com
SUMMARY:Saint Patricks Day im Peggy Frauenfeld
DESCRIPTION:Von 22:00 bis 01:00 Uhr kostet es 5.- CHF Eintritt
URL:https://www.party-insider.com/event/saint-patricks-day-im-peggy-frauenfeld/
LOCATION:Peggys Frauenfeld\, Metzgerstrasse 1\, Frauenfeld\, 8500\, Switzerland
CATEGORIES:Peggy
ATTACH;FMTTYPE=image/png:https://www.party-insider.com/wp-content/uploads/2025/03/IMG_2025-03-12-103622.png
END:VEVENT
BEGIN:VEVENT
DTSTART;TZID=Europe/Zurich:20250315T220000
DTEND;TZID=Europe/Zurich:20250316T040000
DTSTAMP:20260424T183740
CREATED:20250118T095954Z
LAST-MODIFIED:20250118T130710Z
UID:10000095-1742076000-1742097600@www.party-insider.com
SUMMARY:80's Just & Only im Schlosskeller Frauenfeld
DESCRIPTION:Erlebt die magische Atmosphäre der 80er Jahre im Schlosskeller Frauenfeld!\nAm Samstag\, den 15. März 2025\, ab 22.00 Uhr bringen wir euch zurück in die Zeit der Neonfarben\, Schulterpolster und legendären Hits. \n𝙎𝙥𝙚𝙘𝙞𝙖𝙡𝙨: \n\n Super Nintendo Game Station für alle Retro-Gaming-Enthusiaste\n Leuchtende Knicklichter für die perfekte Party-Atmosphäre\n Diskretion und ausreichend Platz zum Tanzen und Feiern\n Authentische 80s-Dekorationen\, die euch direkt in das bunte Jahrzehnt zurückversetzen\n\nTaucht ein in die Kultwelt der 80er und genießt die unvergleichliche Stimmung in einer atemberaubenden Location! \nDresscode: Alles ist möglich – von Neon-Looks bis zu stilechten Retro-Outfits. \nMarkiert euch das Datum und feiert mit uns die unvergesslichen 80er! Wir freuen uns auf euch!
URL:https://www.party-insider.com/event/80s-just-only-im-schlosskeller-frauenfeld-2/
LOCATION:Schlosskeller Frauenfeld\, Schlossmühlestrasse 1\, Frauenfeld\, 8500\, Switzerland
CATEGORIES:Schlosskeller
ATTACH;FMTTYPE=image/png:https://www.party-insider.com/wp-content/uploads/2025/01/schlosskeller_15-03-25_modified.png
END:VEVENT
BEGIN:VEVENT
DTSTART;TZID=Europe/Zurich:20250315T220000
DTEND;TZID=Europe/Zurich:20250316T040000
DTSTAMP:20260424T183740
CREATED:20250205T043116Z
LAST-MODIFIED:20250205T043116Z
UID:10000176-1742076000-1742097600@www.party-insider.com
SUMMARY:James Carter - diamonds im Bolero Winterthur
DESCRIPTION:
URL:https://www.party-insider.com/event/james-carter-diamonds-im-bolero-winterthur/
LOCATION:Bolero Winterthur\, Vogelsangstrasse 10\, Winterthur\, 8400\, Switzerland
CATEGORIES:Bolero
ATTACH;FMTTYPE=image/jpeg:https://www.party-insider.com/wp-content/uploads/2025/02/IMG_0032.jpeg
END:VEVENT
BEGIN:VEVENT
DTSTART;TZID=Europe/Zurich:20250315T220000
DTEND;TZID=Europe/Zurich:20250316T040000
DTSTAMP:20260424T183740
CREATED:20250306T214221Z
LAST-MODIFIED:20250306T214221Z
UID:10000395-1742076000-1742097600@www.party-insider.com
SUMMARY:Clubnight im Steg4 Konstanz
DESCRIPTION:Steg4 Clubnight \nDie Nachwehen der Fasnacht sollten verdaut sein und wir freuen uns auf eine neue Ausgabe der Steg4 Clubnight. \nGenießt wie immer bis 23:00 Uhr die Happy Hour mit einem sensationellen 2for1-Angebot. Erwartet erstklassigen Sound\, exzellente Drinks und die heißeste Partyatmosphäre der Stadt direkt am See. Es wird eine unvergessliche und absolut abgefahrene Partynacht\, die euch ordentlich ins Schwitzen bringen wird! \nDJ UNIQUE & FRIENDS sorgen die ganze Nacht über für den perfekten Beat mit den größten Mixed Music & Club Hits aus vier Jahrzehnten. Also zieht euch in euren besten Outfits an und seid bereit für eine Nacht voller legendärer Moves! \nWir können es kaum erwarten\, euch dort zu sehen! Lasst uns ordentlich feiern!\nWir freuen uns auf euch! \nVergünstigter Eintritt mit Reservierung auf party-news.de
URL:https://www.party-insider.com/event/clubnight-im-steg4-konstanz-3/
LOCATION:Steg4 Konstanz\, Hafenstraße 8\, Konstanz\, 78462
CATEGORIES:Steg4
ATTACH;FMTTYPE=image/png:https://www.party-insider.com/wp-content/uploads/2025/03/Screenshot-2025-03-06-at-22.40.15.png
END:VEVENT
BEGIN:VEVENT
DTSTART;TZID=Europe/Zurich:20250315T220000
DTEND;TZID=Europe/Zurich:20250316T043000
DTSTAMP:20260424T183740
CREATED:20250204T214558Z
LAST-MODIFIED:20250204T215022Z
UID:10000168-1742076000-1742099400@www.party-insider.com
SUMMARY:MODZE in Katakumba Tägerwilen
DESCRIPTION:KATAKUMBA x LAKERAVE pres. Techno meets Goa
URL:https://www.party-insider.com/event/modze-in-katakumba-taegerwilen/
LOCATION:Katakumba Tägerwilen\, Unterseestrasse 29B\, Kreuzlingen\, 8280\, Switzerland
CATEGORIES:Katakumba
ATTACH;FMTTYPE=image/jpeg:https://www.party-insider.com/wp-content/uploads/2025/02/katakumba_15-03-25.jpeg
END:VEVENT
BEGIN:VEVENT
DTSTART;TZID=Europe/Zurich:20250315T220000
DTEND;TZID=Europe/Zurich:20250316T050000
DTSTAMP:20260424T183740
CREATED:20250218T220540Z
LAST-MODIFIED:20250218T220540Z
UID:10000219-1742076000-1742101200@www.party-insider.com
SUMMARY:🌴 LA BOMBA FESTIVAL: REGGAETON 🌴 im Grey Konstanz
DESCRIPTION:PARTY AUF 4 FLOORS \nLA BOMBA FESTIVAL – 🌴 DIE GRÖßTE REGGAETON & LATIN PARTY am Bodensee! 🌴\nIm Club 1(Main-Hall) ist Sommerfeeling 🌴 angesagt mit feinster REGGAETON & LATIN MUSIC \nEinlass ab 22 Uhr\n🔴🔴🔴 EINTRITT FREI bis 23 Uhr 🔴🔴🔴\nFeier mit uns DEIN WOCHENENDE auf 🔴 VIER MUSIKBEREICHEN 🔴 in der größten Diskothek am Bodensee! \n# Lounge Reservierung unter:\nhttp://www.greyclub.de
URL:https://www.party-insider.com/event/%f0%9f%8c%b4-la-bomba-festival-reggaeton-%f0%9f%8c%b4-im-grey-konstanz/
LOCATION:Grey Konstanz\, Max-Stromeyerstr. 33\, Konstanz\, 78467\, Germany
CATEGORIES:Grey
ATTACH;FMTTYPE=image/jpeg:https://www.party-insider.com/wp-content/uploads/2025/02/grey_15-03-25_2.jpeg
END:VEVENT
BEGIN:VEVENT
DTSTART;TZID=Europe/Zurich:20250315T220000
DTEND;TZID=Europe/Zurich:20250316T050000
DTSTAMP:20260424T183740
CREATED:20250311T145000Z
LAST-MODIFIED:20250311T145224Z
UID:10000403-1742076000-1742101200@www.party-insider.com
SUMMARY:Die Mega 90er Party im Erdbeermund Singen
DESCRIPTION:Die Mega 90er Party\nOh ja wir schreiben wieder Geschichte…\nLasst uns gemeinsam 90er\, erleben!!!\nDER Samstag in deinem Lieblings Club\, wo jeder auf seine Kosten kommt.\nPartymukke  der 90er All Night Long und dieses Gefühl schwerelos zu sein.\nHier kannst du DU SELBST sein!!! Sei frei\, sei großartig & einzigartig.\nFühle die Nacht und tauche ein\, in alten und neuen Zeiten.\n\nDie wichtigsten Facts:\n– Separater Eingang (links auf dem Parkplatz)\n– Einlass ab 21 Jahren\n– Parkplätze vor der Tür\n– Kein Durchgang vom TOP10 innerhalb der Räumlichkeiten\n\nIhr habt Fragen? Schreibt uns eine Mail an\ninfo@erdbeermund-singen.de\n\nGrüße vom Erdbeermund Team\n▀▀▀▀▀▀▀▀▀▀▀▀▀▀▀▀▀▀▀▀▀\nBest of 90’s\nby DJ Webster\n▀▀▀▀▀▀▀▀▀▀▀▀▀▀▀▀▀▀▀▀▀\nmore info:\n►► Eintritt: 9\,00 €\n►► ab 21 Jahren\n►► Öffnungszeiten 22:00 – 5:00 Uhr\n►► https://www.erdbeermund-singen.de
URL:https://www.party-insider.com/event/die-mega-90er-party-im-erdbeermund-singen/
LOCATION:Erdbeermund Singen\, Otto-Hahn-Str. 5\, Singen (Hohentwiel)\, 78224\, Germany
CATEGORIES:Erdbeermund
ATTACH;FMTTYPE=image/jpeg:https://www.party-insider.com/wp-content/uploads/2025/03/IMG_0930.jpeg
END:VEVENT
BEGIN:VEVENT
DTSTART;TZID=Europe/Zurich:20250315T230000
DTEND;TZID=Europe/Zurich:20250316T050000
DTSTAMP:20260424T183740
CREATED:20250226T223514Z
LAST-MODIFIED:20250309T125452Z
UID:10000373-1742079600-1742101200@www.party-insider.com
SUMMARY:Bomba Latina im Top10 Singen
DESCRIPTION:Die original Bomba Latina im Top10 Singen! \n BOMBA LATINA Bereit für eine Nacht voller Vibe und Rhythmus? Tauche ein in die exotische Welt von BOMBA LATINA im TOP10 Singen und lass dich von mitreißenden Latin Beats\, gepaart mit Hip Hop und Afro Beats\, verführen.\nSounds by• BOMBA LATINA Soundsystem\n Samstag\, 15. März / TOP10 Singen Start: 23:00 Uhr\nVerpass nicht die Gelegenheit\, mit deinen Freunden eine Nacht der puren Energie zu erleben. Teile diesen Beitrag\, markiere deine Partycrew und genieße den Moment.
URL:https://www.party-insider.com/event/bomba-latina-im-top10-singen-2/
LOCATION:TOP10 Singen\, Otto-Hahn-Str. 5\, Singen (Hohentwiel)\, 78224\, Germany
CATEGORIES:Top10
ATTACH;FMTTYPE=image/jpeg:https://www.party-insider.com/wp-content/uploads/2025/02/IMG_0607.jpeg
END:VEVENT
BEGIN:VEVENT
DTSTART;TZID=Europe/Zurich:20250315T230000
DTEND;TZID=Europe/Zurich:20250316T050000
DTSTAMP:20260424T183740
CREATED:20250301T075246Z
LAST-MODIFIED:20250301T075518Z
UID:10000380-1742079600-1742101200@www.party-insider.com
SUMMARY:Bombilla in Kantine Konstanz
DESCRIPTION:Erwecke den Frühling in Dir \nSA 15/03/25 @kantinekn \nRICO PUESTEL *LIVE* @ricopuestel \nBOMBILLA @bombilla.music \nCHRISS PASCOTT @chrisspascott \nWenn es um Vielschichtigkeit geht\, ist Rico Puestel genau der richtige. In seiner mittlerweile über 20-jährigen Karriere hat er einen so großen musikalischen Output geschaffen\, der sich hier in wenigen Worten garnicht beschreiben lässt. \nVeröffentlichungen auf Cocoon\, Harthouse\, Get Physical\, \nSOSO\, Break New Soil uvm. \nRauf und runtergespielt auf der ganzen Welt von Sven Väth\, Gregor Tresher\, Laurent Garnier\, Sam Paganini… um nur einige zu nennen. \nSeine unzähligen Produktionen zeigen\, er kann hart\, er kann zart\, er kann treibend\, er kann verspielt. \nDieses Facettenreichtum wird er uns in der Kantine mit einem exkulsiven Live Set unter Beweis stellen. 100% eigene Rico Puestel Kompositionen in bisher nie gehörter Form erleben! \n#technocollege #kantinekn #technokonstanz #ricopuestel #bombilla #chrisspascott #konstanz #konstanzparty #technomusic #technoparty #undergroundtechno #rave #htwgkonstanz #unikonstanz #bodensee
URL:https://www.party-insider.com/event/bombilla-in-kantine-konstanz/
LOCATION:Kantine Konstanz\, Oberlohnstraße 3\, Konstanz\, 78467\, Germany
CATEGORIES:Kantine
ATTACH;FMTTYPE=image/png:https://www.party-insider.com/wp-content/uploads/2025/03/IMG_2025-03-01-084827.png
END:VEVENT
END:VCALENDAR