BEGIN:VCALENDAR
VERSION:2.0
PRODID:-//Party-Insider - ECPv6.15.20//NONSGML v1.0//EN
CALSCALE:GREGORIAN
METHOD:PUBLISH
X-WR-CALNAME:Party-Insider
X-ORIGINAL-URL:https://www.party-insider.com
X-WR-CALDESC:Veranstaltungen im Party-Insider
REFRESH-INTERVAL;VALUE=DURATION:PT1H
X-Robots-Tag:noindex
X-PUBLISHED-TTL:PT1H
BEGIN:VTIMEZONE
TZID:Europe/Zurich
BEGIN:DAYLIGHT
TZOFFSETFROM:+0100
TZOFFSETTO:+0200
TZNAME:CEST
DTSTART:20240331T010000
END:DAYLIGHT
BEGIN:STANDARD
TZOFFSETFROM:+0200
TZOFFSETTO:+0100
TZNAME:CET
DTSTART:20241027T010000
END:STANDARD
BEGIN:DAYLIGHT
TZOFFSETFROM:+0100
TZOFFSETTO:+0200
TZNAME:CEST
DTSTART:20250330T010000
END:DAYLIGHT
BEGIN:STANDARD
TZOFFSETFROM:+0200
TZOFFSETTO:+0100
TZNAME:CET
DTSTART:20251026T010000
END:STANDARD
BEGIN:DAYLIGHT
TZOFFSETFROM:+0100
TZOFFSETTO:+0200
TZNAME:CEST
DTSTART:20260329T010000
END:DAYLIGHT
BEGIN:STANDARD
TZOFFSETFROM:+0200
TZOFFSETTO:+0100
TZNAME:CET
DTSTART:20261025T010000
END:STANDARD
END:VTIMEZONE
BEGIN:VEVENT
DTSTART;TZID=Europe/Zurich:20250321T180000
DTEND;TZID=Europe/Zurich:20250321T220000
DTSTAMP:20260424T183047
CREATED:20250321T145535Z
LAST-MODIFIED:20250321T145621Z
UID:10000436-1742580000-1742594400@www.party-insider.com
SUMMARY:Sunset Lounge After Work im Bodenseeforum Konstanz
DESCRIPTION:Am 21. März lädt das Team des Bodenseeforum Konstanz euch von 18-22 Uhr wieder zur \nSUNSET LOUNGE ein! Freut euch auf entspannte achziger Beats\, leckere Drinks und spannende Spiele – der perfekte Mix\, um den Feierabend gebührend zu genießen. \nSpecial Drinks & Snacks \nProbiert unsere exklusiven Special Drinks: den erfrischenden Dejavu-Spritz oder – passend zur Fastenzeit – einen alkoholfreien Aperol Spritz sowie alkoholfreien Wein. Außerdem gibt es knusprige Kartoffel- und Wurzelgemüsespalten aus dem Ofen mit Limetten-Mayo & Apfel-Tomatenketchup – perfekt für den After-Work-Genuss! \nDJ Freshmaker – 80er Hits \nWie gewohnt sorgt@thefreshmakerfunk mit den besten 80er-Jahre-Beats für die perfekte musikalische Atmosphäre. Ob entspanntes Mitwippen oder ausgelassenes Tanzen – hier kommt jeder auf seine Kosten! \nSpieleabend mit dem Spielraum Bodensee e.V. \nAufgrund der tollen Resonanz freuen wir uns\, erneut ein Spieleabend anzubieten! In Zusammenarbeit mit dem neu gegründeten Verein „Spielraum Bodensee e.V.» könnt ihr eine Auswahl spannender Gesellschaftsspiele ausprobieren. \nAls besonderes Highlight bieten wir erneut das Social-Deduction-Spiel „Blood on the Clocktower» an. \nWichtig: Für „Blood on the Clocktower» ist eine Anmeldung erforderlich (die Links findet ihr auf unserer Website (bodenseeforum-konstanz.de/sunset-lounge) \nExklusives Highlight: Hausführung mit unserer Geschäftsführerin Ruth Bader \nWie immer startet die Führung um 20 Uhr und bietet spannende Einblicke hinter die Kulissen des Bodenseeforums. Und diesmal gibt es ein ganz besonderes Extra: Wir dürfen euch auf die Dachterrasse der IHK führen! Genießt diesen exklusiven Blick über Konstanz und erfahrt mehr über die Geschichte und Besonderheiten des Hauses. \nSeid dabei und genießt einen Abend voller guter Musik\, geselliger Spiele und leckerer Drinks! Wir freuen uns auf euch!
URL:https://www.party-insider.com/event/sunset-lounge-after-work-im-bodenseeforum-konstanz/
ATTACH;FMTTYPE=image/jpeg:https://www.party-insider.com/wp-content/uploads/2025/03/IMG_1246.jpeg
END:VEVENT
BEGIN:VEVENT
DTSTART;TZID=Europe/Zurich:20250321T193000
DTEND;TZID=Europe/Zurich:20250322T040000
DTSTAMP:20260424T183047
CREATED:20250205T040208Z
LAST-MODIFIED:20250205T040208Z
UID:10000170-1742585400-1742616000@www.party-insider.com
SUMMARY:Mama geht Tanzen - Neon 90 im Bolero Winterthur
DESCRIPTION:
URL:https://www.party-insider.com/event/mama-geht-tanzen-neon-90-im-bolero-winterthur/
LOCATION:Bolero Winterthur\, Vogelsangstrasse 10\, Winterthur\, 8400\, Switzerland
CATEGORIES:Bolero
ATTACH;FMTTYPE=image/jpeg:https://www.party-insider.com/wp-content/uploads/2025/02/IMG_0027.jpeg
END:VEVENT
BEGIN:VEVENT
DTSTART;TZID=Europe/Zurich:20250321T210000
DTEND;TZID=Europe/Zurich:20250322T010000
DTSTAMP:20260424T183047
CREATED:20250318T165340Z
LAST-MODIFIED:20250318T165556Z
UID:10000426-1742590800-1742605200@www.party-insider.com
SUMMARY:Tripgate im Peggys Frauenfeld
DESCRIPTION:
URL:https://www.party-insider.com/event/7ripgate-im-peggy-frauenfeld/
LOCATION:Peggys Frauenfeld\, Metzgerstrasse 1\, Frauenfeld\, 8500\, Switzerland
CATEGORIES:Peggy
ATTACH;FMTTYPE=image/jpeg:https://www.party-insider.com/wp-content/uploads/2025/03/IMG_2025-03-18-175015.jpeg
END:VEVENT
BEGIN:VEVENT
DTSTART;TZID=Europe/Zurich:20250321T210000
DTEND;TZID=Europe/Zurich:20250322T050000
DTSTAMP:20260424T183047
CREATED:20250318T224357Z
LAST-MODIFIED:20250318T224642Z
UID:10000428-1742590800-1742619600@www.party-insider.com
SUMMARY:Disco Party im GenX Konstanz
DESCRIPTION:DJ Dennis
URL:https://www.party-insider.com/event/party-im-genx-konstanz/
LOCATION:Poly Club Konstanz\, Maybachstraße 8\, Konstanz\, 78467\, Germany
CATEGORIES:Poly Club Konstanz
ATTACH;FMTTYPE=image/png:https://www.party-insider.com/wp-content/uploads/2025/03/IMG_2025-03-18-234314.png
END:VEVENT
BEGIN:VEVENT
DTSTART;TZID=Europe/Zurich:20250321T220000
DTEND;TZID=Europe/Zurich:20250322T020000
DTSTAMP:20260424T183047
CREATED:20250321T163343Z
LAST-MODIFIED:20250321T163343Z
UID:10000441-1742594400-1742608800@www.party-insider.com
SUMMARY:Clubbing in Schwarze Katz Konstanz
DESCRIPTION:
URL:https://www.party-insider.com/event/clubbing-in-schwarze-katz-konstanz/
LOCATION:Schwarze Katz Konstanz\, Katzgasse 8\, Konstanz\, 78462\, Germany
CATEGORIES:Schwarze Katz
ATTACH;FMTTYPE=image/png:https://www.party-insider.com/wp-content/uploads/2025/03/IMG_2025-03-21-172740.png
END:VEVENT
BEGIN:VEVENT
DTSTART;TZID=Europe/Zurich:20250321T220000
DTEND;TZID=Europe/Zurich:20250322T040000
DTSTAMP:20260424T183047
CREATED:20250321T103958Z
LAST-MODIFIED:20250321T104206Z
UID:10000431-1742594400-1742616000@www.party-insider.com
SUMMARY:Weil ich ein Mädchen bin im Erdbeermund Singen
DESCRIPTION:Weil ich ein Mädchen bin!!!\n\n\nWei ich ein Mädchen bin ist…\nEine säuft. Eine heult. Eine kichert irre vor sich hin.\nZwei rennen schreiend durch den Club.\nEine steht beim DJ und macht sich über den Rest der Truppe lustig…\n\nFrauen haben die ganze Nacht freien Eintritt.\n\nUnsere Getränkeaktionen:\njede 3er Gruppe Frauen erhält eine Falsche Sekt gratis\n\nGrüße vom Erdbeermund Team\n▀▀▀▀▀▀▀▀▀▀▀▀▀▀▀▀▀▀▀▀▀\nX Music by DJ MIKA X\nBest of Mainstream\, Latino und Partyhits\n▀▀▀▀▀▀▀▀▀▀▀▀▀▀▀▀▀▀▀▀▀\nmore info\n►► Eintritt: 8\,00 EUR\n►► ab 21 Jahren\n►► Öffnungszeiten 22:00 – 4:00 Uhr\n►► Reservierungen: https://www.erdbeermund-singen.de
URL:https://www.party-insider.com/event/weil-ich-ein-maedchen-bin-im-erdbeermund-singen-9/
LOCATION:Erdbeermund Singen\, Otto-Hahn-Str. 5\, Singen (Hohentwiel)\, 78224\, Germany
CATEGORIES:Erdbeermund
ATTACH;FMTTYPE=image/jpeg:https://www.party-insider.com/wp-content/uploads/2025/03/IMG_1230.jpeg
END:VEVENT
BEGIN:VEVENT
DTSTART;TZID=Europe/Zurich:20250321T220000
DTEND;TZID=Europe/Zurich:20250322T050000
DTSTAMP:20260424T183047
CREATED:20250205T053235Z
LAST-MODIFIED:20250205T053235Z
UID:10000193-1742594400-1742619600@www.party-insider.com
SUMMARY:Sturmfrei – Abi Edition 16+ im Top10 Singen
DESCRIPTION:It’s that time again! Today we’re really going to rock. The first ABI party is coming up\nIt’s that time again! Today we’re really going to rock. The first ABI party is coming up \n★ THIS IS GOING TO BE MEGA ★\nAll registered ABI classes will receive €5 drink vouchers in advance\, which can be given to classmates\, friends and acquaintances. For every voucher that is returned to us by midnight at the Abi party\, we will donate €2 to the class for the Abi fund!\n★ DRINK SPECIALS ★\neach Salitos (Tequila flavored beer)\, Pink & Blue €2.50\nEffect Back Acai 2.50\n★ SCHOOL ENROLLMENT ★\nRegister your school class now for the Sturm|Frei ABI Edition and secure your drink vouchers. \nregistered schools: \nCLICK HERE TO REGISTER\nEmail to: t.schiller@top10-singen.de\nor via DM on Facebook or Insta!\nRESERVATIONS:\nDirectly via our homepage – www.top10-singen.de\n✪ MAINHALL ✪\nDJ JAM TASTIC // Mixed Music \n★★★★★★★★★★★★★★★★★\nADMISSION FROM 16 YEARS (in conjunction with U18 form)\nDRESS TO IMPRESS\nOpening hours 10:00 pm – 4:00 am\nAdmission: Box office 8€\nadvance ticket 6€\n★★★★★★★★★★★★★★★★★
URL:https://www.party-insider.com/event/sturmfrei-abi-edition-16-im-top10-singen/
LOCATION:TOP10 Singen\, Otto-Hahn-Str. 5\, Singen (Hohentwiel)\, 78224\, Germany
CATEGORIES:Top10
ATTACH;FMTTYPE=image/jpeg:https://www.party-insider.com/wp-content/uploads/2025/02/IMG_0049.jpeg
END:VEVENT
BEGIN:VEVENT
DTSTART;TZID=Europe/Zurich:20250321T220000
DTEND;TZID=Europe/Zurich:20250322T050000
DTSTAMP:20260424T183047
CREATED:20250313T231727Z
LAST-MODIFIED:20250313T232013Z
UID:10000412-1742594400-1742619600@www.party-insider.com
SUMMARY:I Love Oldschool und Ladies Night im Grey Konstanz
DESCRIPTION:I LOVe OLDSCHOOL & LADIES NIGHT \n20 EURO FREIVERZEHR FÜR LADIES! \nI LOVE OLDSCHOOL 🎉\n📅 Freitag\, 21. März\n📍 Grey Konstanz – Max-Stromeyer-Straße 33\, 78467 Konstanz \nErlebt die besten Oldschool-Vibes der Stadt! 🎶🎤\nWir bringen euch zurück in die goldene Ära des Hip-Hop\, Funk und R’n’B mit Top DJs\, vielen Specials und einer unvergesslichen Party! 💃🕺 \n✅ FREE ENTRY bis 23 Uhr!\nSchnapp dir deine Crew und seid rechtzeitig da\, um euch den kostenlosen Eintritt zu sichern! \n💥 Don’t miss it!\nDer perfekte Start ins Wochenende für alle Oldschool-Fans. Lasst euch von den Beats und der Stimmung mitreißen! 🎧 \n❣️Specials:\nLadies erhalten bis 00:00Uhr 20€ Getränkefreiverzehr\n(gültig die ganze Nacht) \n# Lounge Reservierung unter:\nhttp://www.greyclub.de
URL:https://www.party-insider.com/event/i-love-oldschool-im-grey-konstanz/
LOCATION:Grey Konstanz\, Max-Stromeyerstr. 33\, Konstanz\, 78467\, Germany
CATEGORIES:Grey
ATTACH;FMTTYPE=image/jpeg:https://www.party-insider.com/wp-content/uploads/2025/03/IMG_2025-03-14-001505.jpeg
END:VEVENT
BEGIN:VEVENT
DTSTART;TZID=Europe/Zurich:20250321T230000
DTEND;TZID=Europe/Zurich:20250322T050000
DTSTAMP:20260424T183047
CREATED:20250223T093257Z
LAST-MODIFIED:20250223T093257Z
UID:10000235-1742598000-1742619600@www.party-insider.com
SUMMARY:Sync 3.0 in Kantine Konstanz
DESCRIPTION:
URL:https://www.party-insider.com/event/sync-3-0-in-kantine-konstanz/
LOCATION:Kantine Konstanz\, Oberlohnstraße 3\, Konstanz\, 78467\, Germany
CATEGORIES:Kantine
ATTACH;FMTTYPE=image/jpeg:https://www.party-insider.com/wp-content/uploads/2025/02/IMG_0420.jpeg
END:VEVENT
BEGIN:VEVENT
DTSTART;TZID=Europe/Zurich:20250321T230000
DTEND;TZID=Europe/Zurich:20250322T050000
DTSTAMP:20260424T183047
CREATED:20250311T075532Z
LAST-MODIFIED:20250317T210149Z
UID:10000402-1742598000-1742619600@www.party-insider.com
SUMMARY:Latin Night Friday im Sugar Club Winterthur
DESCRIPTION:
URL:https://www.party-insider.com/event/latin-night-friday-im-sugar-club-winterthur/
LOCATION:Sugar Club Winterthur\, Schaffhauserstrasse 201\, Winterthur\, 8400\, Switzerland
CATEGORIES:Sugar Club
ATTACH;FMTTYPE=image/jpeg:https://www.party-insider.com/wp-content/uploads/2025/03/IMG_0008.jpeg
END:VEVENT
END:VCALENDAR