BEGIN:VCALENDAR
VERSION:2.0
PRODID:-//Party-Insider - ECPv6.15.20//NONSGML v1.0//EN
CALSCALE:GREGORIAN
METHOD:PUBLISH
X-ORIGINAL-URL:https://www.party-insider.com
X-WR-CALDESC:Veranstaltungen im Party-Insider
REFRESH-INTERVAL;VALUE=DURATION:PT1H
X-Robots-Tag:noindex
X-PUBLISHED-TTL:PT1H
BEGIN:VTIMEZONE
TZID:Europe/Zurich
BEGIN:DAYLIGHT
TZOFFSETFROM:+0100
TZOFFSETTO:+0200
TZNAME:CEST
DTSTART:20240331T010000
END:DAYLIGHT
BEGIN:STANDARD
TZOFFSETFROM:+0200
TZOFFSETTO:+0100
TZNAME:CET
DTSTART:20241027T010000
END:STANDARD
BEGIN:DAYLIGHT
TZOFFSETFROM:+0100
TZOFFSETTO:+0200
TZNAME:CEST
DTSTART:20250330T010000
END:DAYLIGHT
BEGIN:STANDARD
TZOFFSETFROM:+0200
TZOFFSETTO:+0100
TZNAME:CET
DTSTART:20251026T010000
END:STANDARD
BEGIN:DAYLIGHT
TZOFFSETFROM:+0100
TZOFFSETTO:+0200
TZNAME:CEST
DTSTART:20260329T010000
END:DAYLIGHT
BEGIN:STANDARD
TZOFFSETFROM:+0200
TZOFFSETTO:+0100
TZNAME:CET
DTSTART:20261025T010000
END:STANDARD
END:VTIMEZONE
BEGIN:VEVENT
DTSTART;TZID=Europe/Zurich:20250325T210000
DTEND;TZID=Europe/Zurich:20250326T010000
DTSTAMP:20260424T182028
CREATED:20250321T114808Z
LAST-MODIFIED:20250321T114808Z
UID:10000433-1742936400-1742950800@www.party-insider.com
SUMMARY:ACE-Vitamin-Rave im Labor\, Contrast Konstanz
DESCRIPTION:Abgefahren\, Cool und Einzigartig: \nDer ACE-Vitamin-Rave ist nur am 25.03 im Angebot. Mit jedem Beat erlebst du eine Explosion aus Geschmack und Spaß. Was macht unseren Deal so besonders? Es ist nicht nur eine erfrischende Auszeit vom Alltag\, sondern auch vollgepackt mit prickelnden Tonklängen\, die deine Beine zum Tanzen bringen. Ob Vitamin-House\, -Techno oder -Trance – hier ist was für alle dabei. Also auf gehts ins Labor für eine Abgefahrene Club Erfahrung! \nZutaten: \nKimchi @kim_sia \nA-BEING @a__being \nEViOLi @violariie \nLE A @lleamarlene \nArtwork by @violariie \nNo racism No sexism \nNo queerphobia
URL:https://www.party-insider.com/event/ace-vitamin-rave-im-labor-contrast-konstanz/
ATTACH;FMTTYPE=image/jpeg:https://www.party-insider.com/wp-content/uploads/2025/03/IMG_1239.jpeg
END:VEVENT
END:VCALENDAR