BEGIN:VCALENDAR
VERSION:2.0
PRODID:-//Party-Insider - ECPv6.15.20//NONSGML v1.0//EN
CALSCALE:GREGORIAN
METHOD:PUBLISH
X-WR-CALNAME:Party-Insider
X-ORIGINAL-URL:https://www.party-insider.com
X-WR-CALDESC:Veranstaltungen im Party-Insider
REFRESH-INTERVAL;VALUE=DURATION:PT1H
X-Robots-Tag:noindex
X-PUBLISHED-TTL:PT1H
BEGIN:VTIMEZONE
TZID:Europe/Zurich
BEGIN:DAYLIGHT
TZOFFSETFROM:+0100
TZOFFSETTO:+0200
TZNAME:CEST
DTSTART:20240331T010000
END:DAYLIGHT
BEGIN:STANDARD
TZOFFSETFROM:+0200
TZOFFSETTO:+0100
TZNAME:CET
DTSTART:20241027T010000
END:STANDARD
BEGIN:DAYLIGHT
TZOFFSETFROM:+0100
TZOFFSETTO:+0200
TZNAME:CEST
DTSTART:20250330T010000
END:DAYLIGHT
BEGIN:STANDARD
TZOFFSETFROM:+0200
TZOFFSETTO:+0100
TZNAME:CET
DTSTART:20251026T010000
END:STANDARD
BEGIN:DAYLIGHT
TZOFFSETFROM:+0100
TZOFFSETTO:+0200
TZNAME:CEST
DTSTART:20260329T010000
END:DAYLIGHT
BEGIN:STANDARD
TZOFFSETFROM:+0200
TZOFFSETTO:+0100
TZNAME:CET
DTSTART:20261025T010000
END:STANDARD
END:VTIMEZONE
BEGIN:VEVENT
DTSTART;TZID=Europe/Zurich:20250327T183000
DTEND;TZID=Europe/Zurich:20250327T235500
DTSTAMP:20260424T181814
CREATED:20250323T082230Z
LAST-MODIFIED:20250323T084004Z
UID:10000444-1743100200-1743119700@www.party-insider.com
SUMMARY:Afterwork Breeze im Glorious Bastards Konstanz
DESCRIPTION:Wichtig Einlass nur mit Gästeliste!
URL:https://www.party-insider.com/event/afterwork-breeze-im-glorious-bastards-konstanz/
LOCATION:Glorious Bastards Konstanz\, Bodanstraße 1\, Konstanz\, 78462\, Germany
CATEGORIES:Glorious Bastards
ATTACH;FMTTYPE=image/jpeg:https://www.party-insider.com/wp-content/uploads/2025/03/IMG_1291.jpeg
END:VEVENT
BEGIN:VEVENT
DTSTART;TZID=Europe/Zurich:20250327T230000
DTEND;TZID=Europe/Zurich:20250328T050000
DTSTAMP:20260424T181814
CREATED:20250321T155453Z
LAST-MODIFIED:20250321T155453Z
UID:10000439-1743116400-1743138000@www.party-insider.com
SUMMARY:Nachtschicht in Kantine Konstanz
DESCRIPTION:liebe freund:innen des nachtlebens! \nam kommenden donnerstag\, den 27.03.2025 findet unsere nachtschicht vol. 03 in der @kantinekn statt. ab montag startet der vorverkauf für 6€ pro ticket am bohnenschrank im masteratelier im bückleareal. seid schnell und sichert euch die tickets – pflichtveranstaltung für alle architekturstudierenden! freund:innen und studierende der anderen fakultäten sind natürlich ebenfalls herzlichst eingeladen zur ersten ar-sause des sommersemesters. \nwir freuen uns riesig auf einen tollen abend mit euch! \ngaligrü \neure fachschaft architektur
URL:https://www.party-insider.com/event/nachtschicht-in-kantine-konstanz/
LOCATION:Kantine Konstanz\, Oberlohnstraße 3\, Konstanz\, 78467\, Germany
CATEGORIES:Kantine
ATTACH;FMTTYPE=image/jpeg:https://www.party-insider.com/wp-content/uploads/2025/03/IMG_1252.jpeg
END:VEVENT
END:VCALENDAR