BEGIN:VCALENDAR
VERSION:2.0
PRODID:-//Party-Insider - ECPv6.15.20//NONSGML v1.0//EN
CALSCALE:GREGORIAN
METHOD:PUBLISH
X-WR-CALNAME:Party-Insider
X-ORIGINAL-URL:https://www.party-insider.com
X-WR-CALDESC:Veranstaltungen im Party-Insider
REFRESH-INTERVAL;VALUE=DURATION:PT1H
X-Robots-Tag:noindex
X-PUBLISHED-TTL:PT1H
BEGIN:VTIMEZONE
TZID:Europe/Zurich
BEGIN:DAYLIGHT
TZOFFSETFROM:+0100
TZOFFSETTO:+0200
TZNAME:CEST
DTSTART:20240331T010000
END:DAYLIGHT
BEGIN:STANDARD
TZOFFSETFROM:+0200
TZOFFSETTO:+0100
TZNAME:CET
DTSTART:20241027T010000
END:STANDARD
BEGIN:DAYLIGHT
TZOFFSETFROM:+0100
TZOFFSETTO:+0200
TZNAME:CEST
DTSTART:20250330T010000
END:DAYLIGHT
BEGIN:STANDARD
TZOFFSETFROM:+0200
TZOFFSETTO:+0100
TZNAME:CET
DTSTART:20251026T010000
END:STANDARD
BEGIN:DAYLIGHT
TZOFFSETFROM:+0100
TZOFFSETTO:+0200
TZNAME:CEST
DTSTART:20260329T010000
END:DAYLIGHT
BEGIN:STANDARD
TZOFFSETFROM:+0200
TZOFFSETTO:+0100
TZNAME:CET
DTSTART:20261025T010000
END:STANDARD
END:VTIMEZONE
BEGIN:VEVENT
DTSTART;TZID=Europe/Zurich:20250405T200000
DTEND;TZID=Europe/Zurich:20250406T020000
DTSTAMP:20260424T171010
CREATED:20250327T081412Z
LAST-MODIFIED:20250327T081432Z
UID:10000465-1743883200-1743904800@www.party-insider.com
SUMMARY:Bamboo House Beats im Metro Kreuzlingen
DESCRIPTION:
URL:https://www.party-insider.com/event/bamboo-house-beats-im-metro-kreuzlingen/
LOCATION:Metro Bar Kreuzlingen\, Bachstrasse 8\, Kreuzlingen\, TG\, 8280
CATEGORIES:Metro
ATTACH;FMTTYPE=image/jpeg:https://www.party-insider.com/wp-content/uploads/2025/03/IMG_1427.jpeg
END:VEVENT
BEGIN:VEVENT
DTSTART;TZID=Europe/Zurich:20250405T200000
DTEND;TZID=Europe/Zurich:20250406T040000
DTSTAMP:20260424T171010
CREATED:20250317T092120Z
LAST-MODIFIED:20250318T081609Z
UID:10000419-1743883200-1743912000@www.party-insider.com
SUMMARY:Queergestreift im Kula Konstanz
DESCRIPTION:Queergestreift-Party: Eine Nacht voller Glitzer\, Beats & Vielfalt! \nWir lassen die queeren 80er\, 90er und 2000er wieder aufleben! J Erlebe eine Nacht voller Musik\, Glitzer und Party-People\, die selbst die Discokugeln vor Neid erblassen lassen. Also schnapp dir dein funkelndstes Outfit und tanze\, als gäbe es kein Morgen! \nZwei legendäre Partys – zum ersten Mal eine ab 16 \nJahren! \nParty ab 16 Jahren \n\nContrast | Start: 20 Uhr\nnur AK: 3 €\n\n\nParty ab 18 Jahren E\n\n\nKula | Start: 22 Uhr\nVVK: 10 € | AK: 12 €\n\nTickets bekommt ihr am Kulturkiosk Schranke @kulturkiosk_schranke\, an der Zebrabar oder im Kula Ticketshop (Link in Bio). \nFreut euch auf mitreißende Drag-Performances! \nKonstanzer Drag-Queens & -Kings verzaubern euch mit spektakulären Shows! \n>* Sei dabei & feiere die Vielfalt in all ihren Farben! \n兴 \n#zebrakino #zebrakn #kula #Kulturladenkn #kulturkiosks chrankekn #queergestreift #konstanz #kreuzlingen #xlin gen #überlingen #meersburg #allensbach #radolfzell #bo densee #queer #queergestreiftkn #pride #lqbtq #Igbtqia #loveislove #drag #dragshow #mixedmusic #elektropop @finta.space.kn
URL:https://www.party-insider.com/event/queergestreift-im-kula-konstanz/
LOCATION:Kulturladen Konstanz\, Joseph-Belli-Weg 5\, Konstanz\, 78467\, Germany
CATEGORIES:Kulturladen
ATTACH;FMTTYPE=image/jpeg:https://www.party-insider.com/wp-content/uploads/2025/03/IMG_1124.jpeg
END:VEVENT
BEGIN:VEVENT
DTSTART;TZID=Europe/Zurich:20250405T210000
DTEND;TZID=Europe/Zurich:20250406T010000
DTSTAMP:20260424T171010
CREATED:20250324T194741Z
LAST-MODIFIED:20250324T194741Z
UID:10000462-1743886800-1743901200@www.party-insider.com
SUMMARY:GREEK ODYSSEY 2.0 im Glorious Bastards Konstanz
DESCRIPTION:GREEK ODYSSEY 2.0 \n05.04.25 / 18.30-01.00 Uhr \nDM FOR TABLE RESERVATION! \nInstagram @breezevibes.ofc \nLocation Secret Club
URL:https://www.party-insider.com/event/greek-odyssey-2-0-im-glorious-bastards-konstanz/
LOCATION:Glorious Bastards Konstanz\, Bodanstraße 1\, Konstanz\, 78462\, Germany
CATEGORIES:Glorious Bastards
ATTACH;FMTTYPE=image/jpeg:https://www.party-insider.com/wp-content/uploads/2025/03/IMG_1377.jpeg
END:VEVENT
BEGIN:VEVENT
DTSTART;TZID=Europe/Zurich:20250405T210000
DTEND;TZID=Europe/Zurich:20250406T010000
DTSTAMP:20260424T171010
CREATED:20250401T044646Z
LAST-MODIFIED:20250401T044646Z
UID:10001528-1743886800-1743901200@www.party-insider.com
SUMMARY:Ladies Night im Peggys Frauenfeld
DESCRIPTION:
URL:https://www.party-insider.com/event/ladies-night-im-peggys-frauenfeld/
LOCATION:Peggys Frauenfeld\, Metzgerstrasse 1\, Frauenfeld\, 8500\, Switzerland
CATEGORIES:Peggy
ATTACH;FMTTYPE=image/png:https://www.party-insider.com/wp-content/uploads/2025/04/IMG_2025-04-01-064413.png
END:VEVENT
BEGIN:VEVENT
DTSTART;TZID=Europe/Zurich:20250405T210000
DTEND;TZID=Europe/Zurich:20250406T020000
DTSTAMP:20260424T171010
CREATED:20250331T171247Z
LAST-MODIFIED:20250331T171247Z
UID:10001523-1743886800-1743904800@www.party-insider.com
SUMMARY:Funky HIP HOP Beats im Dreiegg Frauenfeld
DESCRIPTION:Eintritt: FOR FREE! \nDatum: Samstag\, 5. April 2025 \nWo: Dreiegg\, Frauenfeld (Raucherbar) \nPresented by Gonewild Garacho Tattoo Shop \nMUNKY FIKE LIVE ON THE DECKS! \nOldschool Vibes meets Newschool Energy! \nMunky Fike bringt die Party zum Beben mit funky Hip-Hop-Beats von den 90s bis heute! \nAls B-Boy aufgewachsen\, lebt er den Sound und liefert eine explosive Mischung aus Classics\, Breaks und freshen Tunes. \nReal Hip-Hop\, Real Vibes\, Real Party! \nSei dabei\, wenn die Plattenteller brennen! \nDJ: @munky_fike Location: @dreieggbar presented by: @gonewild_garacho_tattoo
URL:https://www.party-insider.com/event/funky-hip-hop-beats-im-dreiegg-frauenfeld/
LOCATION:Dreiegg Frauenfeld\, Metzgerstrasse 4\, Frauenfeld\, 8500\, Switzerland
CATEGORIES:Dreiegg
ATTACH;FMTTYPE=image/png:https://www.party-insider.com/wp-content/uploads/2025/03/IMG_2025-03-31-190841.png
END:VEVENT
BEGIN:VEVENT
DTSTART;TZID=Europe/Zurich:20250405T210000
DTEND;TZID=Europe/Zurich:20250406T030000
DTSTAMP:20260424T171010
CREATED:20250323T151749Z
LAST-MODIFIED:20250405T112304Z
UID:10000479-1743886800-1743908400@www.party-insider.com
SUMMARY:Disco Party im GenX Konstanz
DESCRIPTION:
URL:https://www.party-insider.com/event/disco-party-im-genx-konstanz-3/2025-04-05/
LOCATION:Poly Club Konstanz\, Maybachstraße 8\, Konstanz\, 78467\, Germany
CATEGORIES:Poly Club Konstanz
ATTACH;FMTTYPE=image/png:https://www.party-insider.com/wp-content/uploads/2025/03/IMG_2025-03-18-234314.png
END:VEVENT
BEGIN:VEVENT
DTSTART;TZID=Europe/Zurich:20250405T220000
DTEND;TZID=Europe/Zurich:20250406T040000
DTSTAMP:20260424T171010
CREATED:20250118T101952Z
LAST-MODIFIED:20250118T130644Z
UID:10000097-1743890400-1743912000@www.party-insider.com
SUMMARY:90's Just & Only im Schlosskeller Frauenfeld
DESCRIPTION:Schlosskeller Frauenfeld präsentiert: Just & Only 90s\n90er Songs – die ganze Nacht lang! Auch Deine Kreativität ist gefragt – wer baut die schönsten Gebilde aus Knicklichtern? Kommt vorbei und geniesst gemeinsam mit all Euren Freunden das Beste an Musik was die 1990er zu bieten hatte.
URL:https://www.party-insider.com/event/90s-just-only-im-schlosskeller-frauenfeld/
LOCATION:Schlosskeller Frauenfeld\, Schlossmühlestrasse 1\, Frauenfeld\, 8500\, Switzerland
CATEGORIES:Schlosskeller
ATTACH;FMTTYPE=image/png:https://www.party-insider.com/wp-content/uploads/2025/01/schlosskeller_05-04-25_modified.png
END:VEVENT
BEGIN:VEVENT
DTSTART;TZID=Europe/Zurich:20250405T220000
DTEND;TZID=Europe/Zurich:20250406T040000
DTSTAMP:20260424T171010
CREATED:20250205T044616Z
LAST-MODIFIED:20250205T044616Z
UID:10000182-1743890400-1743912000@www.party-insider.com
SUMMARY:Finest Black Beats - Lounge 2000 Best of im Bolero Winterthur
DESCRIPTION:
URL:https://www.party-insider.com/event/finest-black-beats-lounge-2000-best-of-im-bolero-winterthur/
LOCATION:Bolero Winterthur\, Vogelsangstrasse 10\, Winterthur\, 8400\, Switzerland
CATEGORIES:Bolero
ATTACH;FMTTYPE=image/jpeg:https://www.party-insider.com/wp-content/uploads/2025/02/IMG_0037.jpeg
END:VEVENT
BEGIN:VEVENT
DTSTART;TZID=Europe/Zurich:20250405T220000
DTEND;TZID=Europe/Zurich:20250406T040000
DTSTAMP:20260424T171010
CREATED:20250318T085958Z
LAST-MODIFIED:20250318T110131Z
UID:10000424-1743890400-1743912000@www.party-insider.com
SUMMARY:Magyar party | Dj Dominique Svájcban
DESCRIPTION:DJ Dominique dał bardzo swobodny i rozrywkowy występ na żywo. Wydarzenie\, w którym można zdobyć nagrody\, 36 elementów\, 5 platyny\, valamint 2 podwójne platyny\, bardzo tulajdonosa. W 1992 roku wydał swój pierwszy album\, którego producentem był DJ Dominique Néven. \nCena: 22\,00 \nGodzina: 04.00 \nBelépő: 20 Fr\, atmosfera podobna do helisyny. (Figi Twintes vagy kespénzes) \nPrzy klubie nie ma miejsc parkingowych. \nPoniżej podano przykłady następujących sytuacji: \n– Firma E-Consulting GmbH\, Csáki Erika \n– Magyar Bolt St Gallen\, Juvet Krisztina \n– E Teile.ch automatyczna skrzynia biegów\, Count Pal \n– Visiontrans Zsolnai / Zsolnai Balázs \n– Sallai Katalin Forditoiroda \n– Salon kosmetyczny Tägerwilen\, Biro-Szabó Anita fodrász \n– Janusko Jozsef\, Hipnoterapeuta \n– KMC Quickfit Garage\, Kesztyűs Robert \n 
URL:https://www.party-insider.com/event/magyar-party-dj-dominique-svajcban/
LOCATION:Mood12 Amriswil\, Schrofenstrasse 12\, Amriswil​​​​​​​\, 8580\, Switzerland
CATEGORIES:MOOD12 Amriswil
ATTACH;FMTTYPE=image/jpeg:https://www.party-insider.com/wp-content/uploads/2025/03/Screenshot_20250318_093948_Facebook.jpg
END:VEVENT
BEGIN:VEVENT
DTSTART;TZID=Europe/Zurich:20250405T220000
DTEND;TZID=Europe/Zurich:20250406T040000
DTSTAMP:20260424T171010
CREATED:20250322T162016Z
LAST-MODIFIED:20250322T162126Z
UID:10000443-1743890400-1743912000@www.party-insider.com
SUMMARY:S4 Cubnight im Steg4 Konstanz
DESCRIPTION:Am 05. April ist es wieder so weit\, nach drei Wochen Pause kehrt die S4 Cubnight zurück!\nGenießt wie immer bis 23:00 Uhr die Happy Hour mit einem sensationellen 2for1-Angebot. \nErwartet erstklassigen Sound\, exzellente Drinks und die heißeste Partyatmosphäre der Stadt direkt am See. Es wird eine unvergessliche und absolut abgefahrene Partynacht\, die euch ordentlich ins Schwitzen bringen wird!\nDJ T-Bone und DJ Unique sorgen die ganze Nacht über für den perfekten Beat mit den größten Mixed Music & Club Hits aus vier Jahrzehnten. Also zieht euch in euren besten Outfits an und seid bereit für eine Nacht voller legendärer Moves!\nDiese Veranstaltung wird präsentiert von party-news.de und startet um 22:00 Uhr. \nWir können es kaum erwarten\, euch dort zu sehen! Lasst uns ordentlich feiern!\nWir freuen uns auf euch! \nVergünstigter Eintritt mit Reservierung auf www.party-news.de \nVeranstalter: party-news.de
URL:https://www.party-insider.com/event/s4-cubnight-im-steg4-konstanz/
LOCATION:Steg4 Konstanz\, Hafenstraße 8\, Konstanz\, 78462
CATEGORIES:Steg4
ATTACH;FMTTYPE=image/png:https://www.party-insider.com/wp-content/uploads/2025/03/IMG_1285.png
END:VEVENT
BEGIN:VEVENT
DTSTART;TZID=Europe/Zurich:20250405T220000
DTEND;TZID=Europe/Zurich:20250406T043000
DTSTAMP:20260424T171010
CREATED:20250204T214836Z
LAST-MODIFIED:20250204T214947Z
UID:10000169-1743890400-1743913800@www.party-insider.com
SUMMARY:PRADA2000 in Katakumba Tägerwilen
DESCRIPTION:PRADA2000 is back @kata_club
URL:https://www.party-insider.com/event/prada2000-in-katakumba-taegerwilen/
LOCATION:Katakumba Tägerwilen\, Unterseestrasse 29B\, Kreuzlingen\, 8280\, Switzerland
CATEGORIES:Katakumba
ATTACH;FMTTYPE=image/jpeg:https://www.party-insider.com/wp-content/uploads/2025/02/katakumba_05-04-25.jpg
END:VEVENT
BEGIN:VEVENT
DTSTART;TZID=Europe/Zurich:20250405T220000
DTEND;TZID=Europe/Zurich:20250406T050000
DTSTAMP:20260424T171010
CREATED:20250304T170343Z
LAST-MODIFIED:20250304T170343Z
UID:10000386-1743890400-1743915600@www.party-insider.com
SUMMARY:SPIRIT ALBANIA im Top10 Singen
DESCRIPTION:Am Samstag\, den 05.04.25 bringt Dj Gimi-O&Teuta Selimi&Bejta ihre energiegeladene Live-Performance nach Singen! Erlebt die größte albanische Party am Bodensee\, präsentiert von Spirit of Albania\, im Top 10 Club. \nStart: 22 Uhr \nMusik von DJ Don\, DJ Launano und Tupanshow. \nSichert euch eure Plätze und werdet Teil eines unvergesslichen Abends. \nLocation: Top 10\, Singen. \nWir sehen uns dort!
URL:https://www.party-insider.com/event/spirit-albania-im-top10-singen/
LOCATION:TOP10 Singen\, Otto-Hahn-Str. 5\, Singen (Hohentwiel)\, 78224\, Germany
CATEGORIES:Top10
ATTACH;FMTTYPE=image/jpeg:https://www.party-insider.com/wp-content/uploads/2025/03/IMG_0800.jpeg
END:VEVENT
BEGIN:VEVENT
DTSTART;TZID=Europe/Zurich:20250405T220000
DTEND;TZID=Europe/Zurich:20250406T050000
DTSTAMP:20260424T171010
CREATED:20250324T052703Z
LAST-MODIFIED:20250324T052802Z
UID:10000455-1743890400-1743915600@www.party-insider.com
SUMMARY:Model & Bootles im Grey Konstanz
DESCRIPTION:🍾 MODELS & BOTTLES 🍾 \nPARTY AUF 4 FLOORS \nMODELS & BOTTLES!\nSexy GoGo Dancing\, Sexy Bottle Service und weitere Specials erwarten Euch heute Abend! \n⭐️ Konfettishows\n⭐️ Sexy GoGo Dancing\n⭐️ VIP Bottle-Service\n⭐️ Lasershows und vieles mehr! \nParty auf 4 Floors auf denen Ihr garantiert etwas nach Eurem Geschmack findet!
URL:https://www.party-insider.com/event/model-bootles-im-grey-konstanz/
LOCATION:Grey Konstanz\, Max-Stromeyerstr. 33\, Konstanz\, 78467\, Germany
CATEGORIES:Grey
ATTACH;FMTTYPE=image/jpeg:https://www.party-insider.com/wp-content/uploads/2025/03/IMG_1358.jpeg
END:VEVENT
BEGIN:VEVENT
DTSTART;TZID=Europe/Zurich:20250405T220000
DTEND;TZID=Europe/Zurich:20250406T050000
DTSTAMP:20260424T171010
CREATED:20250324T060142Z
LAST-MODIFIED:20250324T060142Z
UID:10000460-1743890400-1743915600@www.party-insider.com
SUMMARY:Viva Tequila im Erdbeermund Singen
DESCRIPTION:Andale Andale Arriba Arriba…
URL:https://www.party-insider.com/event/viva-tequila-im-erdbeermund-singen-3/
LOCATION:Erdbeermund Singen\, Otto-Hahn-Str. 5\, Singen (Hohentwiel)\, 78224\, Germany
CATEGORIES:Grey
ATTACH;FMTTYPE=image/png:https://www.party-insider.com/wp-content/uploads/2025/03/IMG_2025-03-24-065857.png
END:VEVENT
BEGIN:VEVENT
DTSTART;TZID=Europe/Zurich:20250405T230000
DTEND;TZID=Europe/Zurich:20250406T050000
DTSTAMP:20260424T171010
CREATED:20250311T074008Z
LAST-MODIFIED:20250311T074249Z
UID:10000400-1743894000-1743915600@www.party-insider.com
SUMMARY:PPPP Play in Kantine Konstanz
DESCRIPTION:AP. VANILLABOY IS ON HIS WAY TO US AGAIN \nSAMSTAG 05. APRIL \nKantine Konstanz \n© г025 \nFIRST SATURDAY \nFIRST HIGHLIGHT IN 2025 \nLineup: \nP. Vanillaboy @p.vanillaboy @mitmischenberlin \nDJ Draco @dj_draco @you_are_on_the_friendslist \nVideo by: @garnele_macht_kunst \n11PM \nTickets online now! \nNo sexism\, no homophobia\, no fascism or any other form of discrimination. \nPlease come with open hearts and loving minds.
URL:https://www.party-insider.com/event/pppp-play-kant/
LOCATION:Kantine Konstanz\, Oberlohnstraße 3\, Konstanz\, 78467\, Germany
CATEGORIES:Kantine
ATTACH;FMTTYPE=image/png:https://www.party-insider.com/wp-content/uploads/2025/03/IMG_2025-03-11-083731.png
END:VEVENT
END:VCALENDAR