BEGIN:VCALENDAR
VERSION:2.0
PRODID:-//Party-Insider - ECPv6.15.20//NONSGML v1.0//EN
CALSCALE:GREGORIAN
METHOD:PUBLISH
X-ORIGINAL-URL:https://www.party-insider.com
X-WR-CALDESC:Veranstaltungen im Party-Insider
REFRESH-INTERVAL;VALUE=DURATION:PT1H
X-Robots-Tag:noindex
X-PUBLISHED-TTL:PT1H
BEGIN:VTIMEZONE
TZID:Europe/Zurich
BEGIN:DAYLIGHT
TZOFFSETFROM:+0100
TZOFFSETTO:+0200
TZNAME:CEST
DTSTART:20240331T010000
END:DAYLIGHT
BEGIN:STANDARD
TZOFFSETFROM:+0200
TZOFFSETTO:+0100
TZNAME:CET
DTSTART:20241027T010000
END:STANDARD
BEGIN:DAYLIGHT
TZOFFSETFROM:+0100
TZOFFSETTO:+0200
TZNAME:CEST
DTSTART:20250330T010000
END:DAYLIGHT
BEGIN:STANDARD
TZOFFSETFROM:+0200
TZOFFSETTO:+0100
TZNAME:CET
DTSTART:20251026T010000
END:STANDARD
BEGIN:DAYLIGHT
TZOFFSETFROM:+0100
TZOFFSETTO:+0200
TZNAME:CEST
DTSTART:20260329T010000
END:DAYLIGHT
BEGIN:STANDARD
TZOFFSETFROM:+0200
TZOFFSETTO:+0100
TZNAME:CET
DTSTART:20261025T010000
END:STANDARD
END:VTIMEZONE
BEGIN:VEVENT
DTSTART;TZID=Europe/Zurich:20250409T170000
DTEND;TZID=Europe/Zurich:20250409T220000
DTSTAMP:20260424T171150
CREATED:20250331T172920Z
LAST-MODIFIED:20250331T172920Z
UID:10001524-1744218000-1744236000@www.party-insider.com
SUMMARY:L’Aperitivo im Pane e Amore Konstanz
DESCRIPTION:
URL:https://www.party-insider.com/event/laperitivo-im-pane-e-amore-konstanz-3/
LOCATION:Pane E Amore Konstanz\, Brotlaube 1\, Konstanz\, 78462\, Germany
CATEGORIES:Pane E Amore
ATTACH;FMTTYPE=image/png:https://www.party-insider.com/wp-content/uploads/2025/03/IMG_2025-03-31-192616.png
END:VEVENT
BEGIN:VEVENT
DTSTART;TZID=Europe/Zurich:20250409T180000
DTEND;TZID=Europe/Zurich:20250409T220000
DTSTAMP:20260424T171150
CREATED:20250409T104147Z
LAST-MODIFIED:20250409T104436Z
UID:10001815-1744221600-1744236000@www.party-insider.com
SUMMARY:Sunset Lounge After Work im Bodenseeforum Konstanz
DESCRIPTION:Die Tage werden wieder länger – und der Feierabend verdient mehr als nur das Sofa. \nKommt am 9. April zu unserer nächsten SUNSET LOUNGE – After Work Konstanz und lasst den Tag entspannt im Bodenseeforum ausklingen. \nFreut euch auf gute Musik\, kreative Auszeiten und kleine Genussmomente: @di_juel und@melofilia_live_sax sorgen für eine besondere Mischung aus elektronischen Beats und Live-Saxophon. Im Workshop von @fridas_atelier_ könnt ihr euer eigenes Armband gestalten – bitte bucht euch dafür vorab auf der Website von Frida’s Atelier einen Platz. Dazu gibt’s wie immer frühlingshafte Special-Drinks und um 20 Uhr eine spannende Hausführung mit unserer Geschäftsführerin Ruth Bader. \nBringt eure Kolleg:innen oder Freund:innen mit und genießt mit uns den Sonnenuntergang am Seerhein. \nWir freuen uns auf euch! \nMittwoch\, 09. April | 18-22 Uhr \nBodenseeforum Konstanz \nEintritt frei
URL:https://www.party-insider.com/event/sunset-lounge-after-work-im-bodenseeforum/
ATTACH;FMTTYPE=image/jpeg:https://www.party-insider.com/wp-content/uploads/2025/04/IMG_1909.jpeg
END:VEVENT
BEGIN:VEVENT
DTSTART;TZID=Europe/Zurich:20250409T230000
DTEND;TZID=Europe/Zurich:20250410T050000
DTSTAMP:20260424T171150
CREATED:20250330T174511Z
LAST-MODIFIED:20250330T174612Z
UID:10000477-1744239600-1744261200@www.party-insider.com
SUMMARY:Spring Party in Kantine Konstanz
DESCRIPTION:SPRING PARTY: UNA X ELSA \nAre you ready to say goodbye to winter and dance into spring? On April 9th\, join us for our spring party\, hosted by UNA Konstanz e. V. & ELSA Konstanz. Let’s shake off the cold together! \nEveryone’s invited\, no matter what you study – we’ll have a wide variety of mixed music\, so there will be something for everyone! \n• Where? Kantine \nWhen? 11pm \nTickets： \n\n5€ in presale\n8€ at the door\n\nGrab your presale tickets starting beginning of April at the UNA stand next to the Pastabar. Don’t miss out\, the tickets will most likely be sold out in the presale!! \nLet’s dance the night away and kick off the summersemester in style! See you on the dancefloor! \n#Springparty #UNAKonstanz #ELSAKonstanz
URL:https://www.party-insider.com/event/spring-party-in-kantine-konstanz/
LOCATION:Kantine Konstanz\, Oberlohnstraße 3\, Konstanz\, 78467\, Germany
CATEGORIES:Kantine
ATTACH;FMTTYPE=image/png:https://www.party-insider.com/wp-content/uploads/2025/03/IMG_2025-03-30-194403.png
END:VEVENT
END:VCALENDAR