BEGIN:VCALENDAR
VERSION:2.0
PRODID:-//Party-Insider - ECPv6.15.20//NONSGML v1.0//EN
CALSCALE:GREGORIAN
METHOD:PUBLISH
X-ORIGINAL-URL:https://www.party-insider.com
X-WR-CALDESC:Veranstaltungen im Party-Insider
REFRESH-INTERVAL;VALUE=DURATION:PT1H
X-Robots-Tag:noindex
X-PUBLISHED-TTL:PT1H
BEGIN:VTIMEZONE
TZID:Europe/Zurich
BEGIN:DAYLIGHT
TZOFFSETFROM:+0100
TZOFFSETTO:+0200
TZNAME:CEST
DTSTART:20240331T010000
END:DAYLIGHT
BEGIN:STANDARD
TZOFFSETFROM:+0200
TZOFFSETTO:+0100
TZNAME:CET
DTSTART:20241027T010000
END:STANDARD
BEGIN:DAYLIGHT
TZOFFSETFROM:+0100
TZOFFSETTO:+0200
TZNAME:CEST
DTSTART:20250330T010000
END:DAYLIGHT
BEGIN:STANDARD
TZOFFSETFROM:+0200
TZOFFSETTO:+0100
TZNAME:CET
DTSTART:20251026T010000
END:STANDARD
BEGIN:DAYLIGHT
TZOFFSETFROM:+0100
TZOFFSETTO:+0200
TZNAME:CEST
DTSTART:20260329T010000
END:DAYLIGHT
BEGIN:STANDARD
TZOFFSETFROM:+0200
TZOFFSETTO:+0100
TZNAME:CET
DTSTART:20261025T010000
END:STANDARD
END:VTIMEZONE
BEGIN:VEVENT
DTSTART;TZID=Europe/Zurich:20250411T210000
DTEND;TZID=Europe/Zurich:20250412T010000
DTSTAMP:20260424T171151
CREATED:20250409T055343Z
LAST-MODIFIED:20250409T055343Z
UID:10001812-1744405200-1744419600@www.party-insider.com
SUMMARY:Glitterbox im Peggys Frauenfeld
DESCRIPTION:
URL:https://www.party-insider.com/event/glitterbox-im-peggys-frauenfeld/
LOCATION:Peggys Frauenfeld\, Metzgerstrasse 1\, Frauenfeld\, 8500\, Switzerland
CATEGORIES:Peggy
ATTACH;FMTTYPE=image/png:https://www.party-insider.com/wp-content/uploads/2025/04/IMG_2025-04-09-075254.png
END:VEVENT
BEGIN:VEVENT
DTSTART;TZID=Europe/Zurich:20250411T210000
DTEND;TZID=Europe/Zurich:20250412T010000
DTSTAMP:20260424T171151
CREATED:20250411T185305Z
LAST-MODIFIED:20250411T185305Z
UID:10001824-1744405200-1744419600@www.party-insider.com
SUMMARY:Tonight Babylon im NOA Konstanz
DESCRIPTION:
URL:https://www.party-insider.com/event/tonight-babylon-im-noa-konstanz/
ATTACH;FMTTYPE=image/jpeg:https://www.party-insider.com/wp-content/uploads/2025/04/IMG_1974.jpeg
END:VEVENT
BEGIN:VEVENT
DTSTART;TZID=Europe/Zurich:20250411T210000
DTEND;TZID=Europe/Zurich:20250412T030000
DTSTAMP:20260424T171151
CREATED:20250323T151749Z
LAST-MODIFIED:20250405T112304Z
UID:10001262-1744405200-1744426800@www.party-insider.com
SUMMARY:Disco Party im GenX Konstanz
DESCRIPTION:
URL:https://www.party-insider.com/event/disco-party-im-genx-konstanz-3/2025-04-11/
LOCATION:Poly Club Konstanz\, Maybachstraße 8\, Konstanz\, 78467\, Germany
CATEGORIES:Poly Club Konstanz
ATTACH;FMTTYPE=image/png:https://www.party-insider.com/wp-content/uploads/2025/03/IMG_2025-03-18-234314.png
END:VEVENT
BEGIN:VEVENT
DTSTART;TZID=Europe/Zurich:20250411T210000
DTEND;TZID=Europe/Zurich:20250412T030000
DTSTAMP:20260424T171151
CREATED:20250406T150321Z
LAST-MODIFIED:20250406T150321Z
UID:10001801-1744405200-1744426800@www.party-insider.com
SUMMARY:WAVE im P-Club Konstanz
DESCRIPTION:
URL:https://www.party-insider.com/event/wave-im-p-club-konstanz/
LOCATION:P-Club Konstanz\, Hussenstraße 4\, Konstanz\,\, 78462\, Germany
CATEGORIES:P-Club
ATTACH;FMTTYPE=image/jpeg:https://www.party-insider.com/wp-content/uploads/2025/04/IMG_1848.jpeg
END:VEVENT
BEGIN:VEVENT
DTSTART;TZID=Europe/Zurich:20250411T210000
DTEND;TZID=Europe/Zurich:20250412T040000
DTSTAMP:20260424T171151
CREATED:20250205T042209Z
LAST-MODIFIED:20250205T042209Z
UID:10000174-1744405200-1744430400@www.party-insider.com
SUMMARY:Tanznacht40 im Bolero Winterthur
DESCRIPTION:
URL:https://www.party-insider.com/event/tanznacht40-im-bolero-winterthur-2/
LOCATION:Bolero Winterthur\, Vogelsangstrasse 10\, Winterthur\, 8400\, Switzerland
CATEGORIES:Bolero
ATTACH;FMTTYPE=image/jpeg:https://www.party-insider.com/wp-content/uploads/2025/02/IMG_0038.jpeg
END:VEVENT
BEGIN:VEVENT
DTSTART;TZID=Europe/Zurich:20250411T213000
DTEND;TZID=Europe/Zurich:20250412T020000
DTSTAMP:20260424T171151
CREATED:20250411T133049Z
LAST-MODIFIED:20250411T133108Z
UID:10001823-1744407000-1744423200@www.party-insider.com
SUMMARY:We Love im Treu Tägerwilen
DESCRIPTION:DJ Snoop
URL:https://www.party-insider.com/event/we-love-im-treu-taegerwilen/
LOCATION:Zur Treu Tägerwilen\, Hauptstrasse 99\, Tägerwilen\, 8274\, Switzerland
CATEGORIES:Zur Treu
ATTACH;FMTTYPE=image/png:https://www.party-insider.com/wp-content/uploads/2025/04/IMG_2025-04-11-152855.png
END:VEVENT
BEGIN:VEVENT
DTSTART;TZID=Europe/Zurich:20250411T220000
DTEND;TZID=Europe/Zurich:20250412T040000
DTSTAMP:20260424T171151
CREATED:20250406T120823Z
LAST-MODIFIED:20250406T120903Z
UID:10001799-1744408800-1744430400@www.party-insider.com
SUMMARY:Crush 16+ im Top10 Singen
DESCRIPTION: Crush – Die ultimative Flirt- und Single-Party!  \nBist du bereit für einen unvergesslichen Abend voller Spaß\, Flirts und neuer Bekanntschaften? Dann komm zu „Crush“! Hier erwarten dich spannende Aktionen\, die speziell für Singles gedacht sind! \nWas dich erwartet:\n Speed-Dating: Lerne in kurzer Zeit viele neue Leute kennen!  Sektempfang für alle Single Ladies\n Flirtspiele: Nimm an lustigen Spielen teil\, um das Eis zu brechen! \n– Shot Roulette: Flirt & Drink – Flirt-Drink-Challenge– Dance-Off: Zeig deine besten Moves und gewinne coole Preise! – Salitos Flirt Cam\nKomm vorbei\, bring deine Freunde mit und erlebe einen Abend voller Flirts und Spaß! \n\n✪ MAINHALL✪DJ MPR // Mixed Music\nRESERVIERUNGEN:Direkt über unsere Homepage – www.top10-singen.de\n★★★★★★★★★★★★★★★★★EINLASS AB 16 JAHREN (in Verbindung mit u18 Formular)DRESS TO IMPRESSÖffnungszeiten 22:00 – 4:00 UhrEintritt: Abendkasse 8€★★★★★★★★★★★★★★★★★
URL:https://www.party-insider.com/event/crush-im-top10-singen/
LOCATION:TOP10 Singen\, Otto-Hahn-Str. 5\, Singen (Hohentwiel)\, 78224\, Germany
CATEGORIES:Top10
ATTACH;FMTTYPE=image/png:https://www.party-insider.com/wp-content/uploads/2025/04/IMG_1819.png
END:VEVENT
BEGIN:VEVENT
DTSTART;TZID=Europe/Zurich:20250411T220000
DTEND;TZID=Europe/Zurich:20250412T050000
DTSTAMP:20260424T171151
CREATED:20250308T112730Z
LAST-MODIFIED:20250308T112730Z
UID:10000398-1744408800-1744434000@www.party-insider.com
SUMMARY:Mallorca Opening 2025 mit New Comer Contest im Erdbeermund Singen
DESCRIPTION:Ja\, ja\, ich sitz schon wieder dicht in ’nem Flieger\nAlles egal\, denn der Bass knallt brutal!!!\n\nGenau Brutal wird es am 08. Februar\, wenn wir euch die ultimative Mallorca für Alle! Party in den Erdbeermund holen!\n\n\n!!!NEW Commer Contest !!!\nmit Verleihung der goldenen Erdbeere\nIhr wisst schon…\nAber Scheiß Drauf Malle ist nur einmal im Jahr\nOle Ole und Schalalalalaa…\nWer singt die nächste Mallorca Hymne?\n\nMit Stimmzetteln könnt Ihr entscheiden wer die goldene Erdbeere verliehen bekommt\nund unter allen die einen Stimmzettel abgeben verlosen wir noch eine Flasche 9Miles Vodka 0\,5 mit Beigetränk\n\nAlle\, die im “Mallorca” T-Shirt (Bierkönig\, Megapark\, Rutschbahn\, etc.) kommen\, erhalten bis 24 Uhr freien Eintritt!!\nAls Getränkeaktion haben wir heute für euch Longdrinks im Maßglas\n\n▀▀▀▀▀▀▀▀▀▀▀▀▀▀▀▀▀▀▀▀▀\nX Music by DJ MIKA MALLE  X\nModeration my Stefan von Bierkeller\nBest of Mallorca und Party Musik\n▀▀▀▀▀▀▀▀▀▀▀▀▀▀▀▀▀▀▀▀▀\nmore info\n►► Eintritt: 9\,00 EUR\n►► ab 21 Jahren\n►► Öffnungszeiten 22:00 – 5:00 Uhr\n►► Reservierungen: https://www.erdbeermund-singen.de
URL:https://www.party-insider.com/event/mallorca-opening-2025-mit-new-comer-contest-im-erdbeermund-singen/
LOCATION:Erdbeermund Singen\, Otto-Hahn-Str. 5\, Singen (Hohentwiel)\, 78224\, Germany
CATEGORIES:Erdbeermund
ATTACH;FMTTYPE=image/png:https://www.party-insider.com/wp-content/uploads/2025/03/IMG_2025-03-08-122355.png
END:VEVENT
BEGIN:VEVENT
DTSTART;TZID=Europe/Zurich:20250411T220000
DTEND;TZID=Europe/Zurich:20250412T050000
DTSTAMP:20260424T171151
CREATED:20250324T052121Z
LAST-MODIFIED:20250324T052423Z
UID:10000454-1744408800-1744434000@www.party-insider.com
SUMMARY:I LOVE OLDSCHOOL & Ladies Night im Grey Konstanz
DESCRIPTION:I LOVE OLDSCHOOL & LADIES NIGHT \n20 EURO FREIVERZEHR FÜR LADIES! \nI LOVE OLDSCHOOL 🎉\n📅 Freitag\, 11. April\n📍 Grey Konstanz – Max-Stromeyer-Straße 33\, 78467 Konstanz \nErlebt die besten Oldschool-Vibes der Stadt! 🎶🎤\nWir bringen euch zurück in die goldene Ära des Hip-Hop\, Funk und R’n’B mit Top DJs\, vielen Specials und einer unvergesslichen Party! 💃🕺 \n✅ FREE ENTRY bis 23 Uhr!\nSchnapp dir deine Crew und seid rechtzeitig da\, um euch den kostenlosen Eintritt zu sichern! \n💥 Don’t miss it!\nDer perfekte Start ins Wochenende für alle Oldschool-Fans. Lasst euch von den Beats und der Stimmung mitreißen! 🎧 \n❣️Specials:\nLadies erhalten bis 00:00Uhr 20€ Getränkefreiverzehr\n(gültig die ganze Nacht) \n# Lounge Reservierung unter:\nhttp://www.greyclub.de
URL:https://www.party-insider.com/event/i-love-old-school-ladies-night-im-grey-konstanz/
LOCATION:Grey Konstanz\, Max-Stromeyerstr. 33\, Konstanz\, 78467\, Germany
CATEGORIES:Grey
ATTACH;FMTTYPE=image/png:https://www.party-insider.com/wp-content/uploads/2025/03/IMG_2025-03-24-061806.png
END:VEVENT
BEGIN:VEVENT
DTSTART;TZID=Europe/Zurich:20250411T230000
DTEND;TZID=Europe/Zurich:20250412T050000
DTSTAMP:20260424T171151
CREATED:20250317T203548Z
LAST-MODIFIED:20250317T205700Z
UID:10000423-1744412400-1744434000@www.party-insider.com
SUMMARY:Cyberpunk Party im Sugar Club Winterthur
DESCRIPTION:
URL:https://www.party-insider.com/event/cyberpunk-party-im-sugar-club-winterthur/
LOCATION:Sugar Club Winterthur\, Schaffhauserstrasse 201\, Winterthur\, 8400\, Switzerland
CATEGORIES:Sugar Club
ATTACH;FMTTYPE=image/jpeg:https://www.party-insider.com/wp-content/uploads/2025/03/IMG_1139.jpeg
END:VEVENT
BEGIN:VEVENT
DTSTART;TZID=Europe/Zurich:20250411T230000
DTEND;TZID=Europe/Zurich:20250412T050000
DTSTAMP:20260424T171151
CREATED:20250330T172507Z
LAST-MODIFIED:20250330T172604Z
UID:10000475-1744412400-1744434000@www.party-insider.com
SUMMARY:1 Night in Y2K in Kantine Konstanz
DESCRIPTION:Freitag 11. April | 23:00 – 05:00 | \n@kantinekn \nWir bringen die 2000er zurück – also pack dein Flip Phone ein und wirf dich in dein lieblings Y2K-Outfit. C \n* 40 Sounds by: \n@coochieandfriendz (@mahagonikollektiv) \n@julius909_ (@mahagonikollektiv) \nDJ Vipcode (Zürich) \nMIXED MUSIC / RNB / HIP HOP / POP / DANCE \nNo sexism\, no homophobia\, no racism! \no: **°. E xoxo °:**°.».. \n@flashbacks_konstanz \n#y2k #y2kaesthetic #y2kparty #y2kfashion \n#2000s #konstanz
URL:https://www.party-insider.com/event/1-night-in-y2k-in-kantine-konstanz/
LOCATION:Kantine Konstanz\, Oberlohnstraße 3\, Konstanz\, 78467\, Germany
CATEGORIES:Kantine
ATTACH;FMTTYPE=image/png:https://www.party-insider.com/wp-content/uploads/2025/03/IMG_2025-03-30-192355.png
END:VEVENT
END:VCALENDAR