BEGIN:VCALENDAR
VERSION:2.0
PRODID:-//Party-Insider - ECPv6.15.20//NONSGML v1.0//EN
CALSCALE:GREGORIAN
METHOD:PUBLISH
X-WR-CALNAME:Party-Insider
X-ORIGINAL-URL:https://www.party-insider.com
X-WR-CALDESC:Veranstaltungen im Party-Insider
REFRESH-INTERVAL;VALUE=DURATION:PT1H
X-Robots-Tag:noindex
X-PUBLISHED-TTL:PT1H
BEGIN:VTIMEZONE
TZID:Europe/Zurich
BEGIN:DAYLIGHT
TZOFFSETFROM:+0100
TZOFFSETTO:+0200
TZNAME:CEST
DTSTART:20240331T010000
END:DAYLIGHT
BEGIN:STANDARD
TZOFFSETFROM:+0200
TZOFFSETTO:+0100
TZNAME:CET
DTSTART:20241027T010000
END:STANDARD
BEGIN:DAYLIGHT
TZOFFSETFROM:+0100
TZOFFSETTO:+0200
TZNAME:CEST
DTSTART:20250330T010000
END:DAYLIGHT
BEGIN:STANDARD
TZOFFSETFROM:+0200
TZOFFSETTO:+0100
TZNAME:CET
DTSTART:20251026T010000
END:STANDARD
BEGIN:DAYLIGHT
TZOFFSETFROM:+0100
TZOFFSETTO:+0200
TZNAME:CEST
DTSTART:20260329T010000
END:DAYLIGHT
BEGIN:STANDARD
TZOFFSETFROM:+0200
TZOFFSETTO:+0100
TZNAME:CET
DTSTART:20261025T010000
END:STANDARD
END:VTIMEZONE
BEGIN:VEVENT
DTSTART;TZID=Europe/Zurich:20250420T210000
DTEND;TZID=Europe/Zurich:20250421T010000
DTSTAMP:20260424T171009
CREATED:20250413T153028Z
LAST-MODIFIED:20250413T153028Z
UID:10001833-1745182800-1745197200@www.party-insider.com
SUMMARY:Final Easter Vibes in Peggys Frauenfeld
DESCRIPTION:
URL:https://www.party-insider.com/event/final-easter-vibes-in-peggys-frauenfeld/
LOCATION:Peggys Frauenfeld\, Metzgerstrasse 1\, Frauenfeld\, 8500\, Switzerland
CATEGORIES:Peggy
ATTACH;FMTTYPE=image/jpeg:https://www.party-insider.com/wp-content/uploads/2025/04/IMG_2100.jpeg
END:VEVENT
BEGIN:VEVENT
DTSTART;TZID=Europe/Zurich:20250420T210000
DTEND;TZID=Europe/Zurich:20250421T050000
DTSTAMP:20260424T171009
CREATED:20250218T202758Z
LAST-MODIFIED:20250218T202758Z
UID:10000214-1745182800-1745211600@www.party-insider.com
SUMMARY:Radio 7 Ü30 – Event vor Feiertag im Top10 Singen
DESCRIPTION:Wir bringen euch die Radio 7 Ü30 Party ins Top10!\n MAINHALL Tanzen\, feiern und flirten zu den Highlights aus Kult-Hits\, Charts und aktuellen Titeln. Das Beste aus 3 Jahrzehnten gemixt mit aktuellen Hit Giganten aus Black\, House und Pop by Matze Ihring & DJ Micha Myland\n FIESTA Trance & Dance Classics by DJ MOE “watch out for MOE” & FRANK G.\n GROOVE CLUB Black Music by DJ MPR\nERDBEERMUND Partyhits by DJ WEBSTER\nVIP LOUNGE RESERVIERUNGEN www.top10-singen.de\n★★★★★★★★★★★★★★★★★EINLASS AB 25 JAHRENDRESS TO IMPRESS! Öffnungszeiten 21:00 – 5:00 UhrEintritt: Abendkasse 10 €★★★★★★★★★★★★★★★★★
URL:https://www.party-insider.com/event/radio-7-ue30-event-vor-feiertag-im-top10-singen-2/
LOCATION:TOP10 Singen\, Otto-Hahn-Str. 5\, Singen (Hohentwiel)\, 78224\, Germany
CATEGORIES:Top10
ATTACH;FMTTYPE=image/png:https://www.party-insider.com/wp-content/uploads/2025/02/top10_20-04-25.png
END:VEVENT
BEGIN:VEVENT
DTSTART;TZID=Europe/Zurich:20250420T220000
DTEND;TZID=Europe/Zurich:20250421T050000
DTSTAMP:20260424T171009
CREATED:20250323T102200Z
LAST-MODIFIED:20250323T102240Z
UID:10000447-1745186400-1745211600@www.party-insider.com
SUMMARY:Spirit of Albania im Grey Konstanz
DESCRIPTION:🇦🇱 SPIRIT OF ALBANIA 🇦🇱 \nYLL LIMANI LIVE \nYLL LIMANI LIVE IN KONSTANZ – DAS ALBANISCHE MUSIK-HIGHLIGHT AM BODENSEE | Grey Konstanz \nAm Ostersonntag\, den 20. April 2025\, wird es in Konstanz musikalisch heiß! Der gefeierte Künstler Yll Limani bringt mit seiner einzigartigen Stimme und mitreißenden Performance die Bühne des grey Konstanz zum Beben. \nUnter dem Label «Spirit of Albania» präsentiert Groove Music die größte albanische Party am Bodensee. Neben Yll Limani sorgen die angesagten DJs DJ Don und DJ Launano für unvergessliche Beats und eine elektrisierende Atmosphäre. \n📍 Location: Grey Konstanz\, Max-Stromeyer-Straße 33\, 78467 Konstanz\n⏰ Einlass: ab 22 Uhr\n🎟 Jetzt Ticket sichern:\nhttps://groovemusic.ticket.io/gv7qwd3p/ \nDieses Event ist ein Muss für alle Fans albanischer Musik und unvergesslicher Partynächte. Sichert euch eure Tickets und erlebt Yll Limani live!
URL:https://www.party-insider.com/event/spirit-of-albania-im-grey-konstanz/
LOCATION:Grey Konstanz\, Max-Stromeyerstr. 33\, Konstanz\, 78467\, Germany
CATEGORIES:Grey
ATTACH;FMTTYPE=image/jpeg:https://www.party-insider.com/wp-content/uploads/2025/03/IMG_1332.jpeg
END:VEVENT
BEGIN:VEVENT
DTSTART;TZID=Europe/Zurich:20250420T220000
DTEND;TZID=Europe/Zurich:20250421T050000
DTSTAMP:20260424T171009
CREATED:20250408T054602Z
LAST-MODIFIED:20250408T054737Z
UID:10001811-1745186400-1745211600@www.party-insider.com
SUMMARY:DAB CUPZZ in Kantine Konstanz
DESCRIPTION:DAB CUPZZ \nEaster Special \n20.4.25 @kantinekn \n23.00-05.00 Uhr \nNUR ABENDKASSE \nAFROBEATS/HIPHOP AMAPIANO
URL:https://www.party-insider.com/event/dab-cupzz-in-kantine-konstanz-2/
LOCATION:Kantine Konstanz\, Oberlohnstraße 3\, Konstanz\, 78467\, Germany
CATEGORIES:Kantine
ATTACH;FMTTYPE=image/jpeg:https://www.party-insider.com/wp-content/uploads/2025/04/IMG_1887.jpeg
END:VEVENT
END:VCALENDAR