BEGIN:VCALENDAR
VERSION:2.0
PRODID:-//Party-Insider - ECPv6.15.20//NONSGML v1.0//EN
CALSCALE:GREGORIAN
METHOD:PUBLISH
X-WR-CALNAME:Party-Insider
X-ORIGINAL-URL:https://www.party-insider.com
X-WR-CALDESC:Veranstaltungen im Party-Insider
REFRESH-INTERVAL;VALUE=DURATION:PT1H
X-Robots-Tag:noindex
X-PUBLISHED-TTL:PT1H
BEGIN:VTIMEZONE
TZID:Europe/Zurich
BEGIN:DAYLIGHT
TZOFFSETFROM:+0100
TZOFFSETTO:+0200
TZNAME:CEST
DTSTART:20240331T010000
END:DAYLIGHT
BEGIN:STANDARD
TZOFFSETFROM:+0200
TZOFFSETTO:+0100
TZNAME:CET
DTSTART:20241027T010000
END:STANDARD
BEGIN:DAYLIGHT
TZOFFSETFROM:+0100
TZOFFSETTO:+0200
TZNAME:CEST
DTSTART:20250330T010000
END:DAYLIGHT
BEGIN:STANDARD
TZOFFSETFROM:+0200
TZOFFSETTO:+0100
TZNAME:CET
DTSTART:20251026T010000
END:STANDARD
BEGIN:DAYLIGHT
TZOFFSETFROM:+0100
TZOFFSETTO:+0200
TZNAME:CEST
DTSTART:20260329T010000
END:DAYLIGHT
BEGIN:STANDARD
TZOFFSETFROM:+0200
TZOFFSETTO:+0100
TZNAME:CET
DTSTART:20261025T010000
END:STANDARD
END:VTIMEZONE
BEGIN:VEVENT
DTSTART;TZID=Europe/Zurich:20250509T210000
DTEND;TZID=Europe/Zurich:20250510T030000
DTSTAMP:20260424T140433
CREATED:20250506T212137Z
LAST-MODIFIED:20250506T212137Z
UID:10001266-1746824400-1746846000@www.party-insider.com
SUMMARY:Disco Party im GenX Konstanz
DESCRIPTION:
URL:https://www.party-insider.com/event/disco-party-im-genx-konstanz-3-5/
LOCATION:Poly Club Konstanz\, Maybachstraße 8\, Konstanz\, 78467\, Germany
CATEGORIES:Poly Club Konstanz
ATTACH;FMTTYPE=image/jpeg:https://www.party-insider.com/wp-content/uploads/2025/03/IMG_3442.jpeg
END:VEVENT
BEGIN:VEVENT
DTSTART;TZID=Europe/Zurich:20250509T210000
DTEND;TZID=Europe/Zurich:20250510T040000
DTSTAMP:20260424T140433
CREATED:20250504T171220Z
LAST-MODIFIED:20250504T171220Z
UID:10001912-1746824400-1746849600@www.party-insider.com
SUMMARY:Tanznacht40 im Bolero Winterthur
DESCRIPTION:
URL:https://www.party-insider.com/event/tanznacht40-im-bolero-winterthur-4/
LOCATION:Bolero Winterthur\, Vogelsangstrasse 10\, Winterthur\, 8400\, Switzerland
CATEGORIES:Bolero
ATTACH;FMTTYPE=image/jpeg:https://www.party-insider.com/wp-content/uploads/2025/05/IMG_3361.jpeg
END:VEVENT
BEGIN:VEVENT
DTSTART;TZID=Europe/Zurich:20250509T220000
DTEND;TZID=Europe/Zurich:20250510T010000
DTSTAMP:20260424T140433
CREATED:20250504T171824Z
LAST-MODIFIED:20250504T171824Z
UID:10001913-1746828000-1746838800@www.party-insider.com
SUMMARY:Spring Party in Peggys Frauenfeld
DESCRIPTION:
URL:https://www.party-insider.com/event/spring-party-in-peggys-frauenfeld/
LOCATION:Peggys Frauenfeld\, Metzgerstrasse 1\, Frauenfeld\, 8500\, Switzerland
CATEGORIES:Peggy
ATTACH;FMTTYPE=image/jpeg:https://www.party-insider.com/wp-content/uploads/2025/05/IMG_3363.jpeg
END:VEVENT
BEGIN:VEVENT
DTSTART;TZID=Europe/Zurich:20250509T220000
DTEND;TZID=Europe/Zurich:20250510T040000
DTSTAMP:20260424T140433
CREATED:20250504T161904Z
LAST-MODIFIED:20250504T161904Z
UID:10001903-1746828000-1746849600@www.party-insider.com
SUMMARY:🎀 ZUKUNFT PINK 🎀 im Top10 Singen
DESCRIPTION:Alle malen Schwarz\, wir sehen die Zukunft Pink.\nAm 09.05. verwandelt sich das TOP10 in den pinkesten Club der Welt!\n\nDie Megaparty zum aktuellen Nr. 1 Hit!\n\n✘✘✘ SPECIALS DES ABENDS ✘✘✘\n\n💗CANDY BAR\nWir haben an diesem Abend an allen Bars Süßigkeiten für euch am Start\, die euch den Abend versüßt!\n\n💗PINK DRINKS\n► Wildberry Lillet bis 0 Uhr als Doppeldecker (2 for 1)!\n► Alle Kirsch-Shots nur 1\,00€ die ganze Nacht\n\n💗ZUKUNFT PINK\nImmer wenn das Lied Zukunft Pink von Peter Fox läuft\, gibt es eine Runde Shots gratis für euch am DJ Pult!\n\n💗PINKE LED KRONEN\nAlle Ladies und Boys mit pinken Kleidungsstück erhalten bis 0 Uhr eine gratis Shot!\n\n💗PINKE HAARE\nDie Person\, die sich die Haare auf der Bühne  komplett pink färben lässt\, bekommt 50€ in Form von Freiverzehr ausgezahlt!\n\n💗PINKE ESKALATION\nWir hauen euch Pinkes Konfetti und jede Menge Glitterregen um die Ohren!\n\n💗ALLES PINK\nHunderte pinke Leucht-Armbänder for free und XXL pinke Deko im ganzen Club!\n\n✘✘✘ MUSIC ✘✘✘\nMAINHALL\n•⁠  ⁠Mixed Music –\n\n✘✘✘ TICKETS ✘✘✘\nAbendkasse: 10€\nDie Abendkasse ist die ganze Nacht geöffnet!\n\n✘✘✘ INFOS ✘✘✘\n・ Geöffnet ab 22:00\n・ 09.05.2025\n・ TOP10 Singen\n・ P16 mit Partyzettel\n\nWir verlosen 10 x FREIKARTEN unter Allen\, die diesen Beitrag in ihrer Story REPOSTEN!
URL:https://www.party-insider.com/event/%f0%9f%8e%80-zukunft-pink-%f0%9f%8e%80-im-top10-singen/
LOCATION:TOP10 Singen\, Otto-Hahn-Str. 5\, Singen (Hohentwiel)\, 78224\, Germany
CATEGORIES:Top10
ATTACH;FMTTYPE=image/jpeg:https://www.party-insider.com/wp-content/uploads/2025/05/IMG_3348.jpeg
END:VEVENT
BEGIN:VEVENT
DTSTART;TZID=Europe/Zurich:20250509T220000
DTEND;TZID=Europe/Zurich:20250510T040000
DTSTAMP:20260424T140433
CREATED:20250504T165752Z
LAST-MODIFIED:20250504T165752Z
UID:10001909-1746828000-1746849600@www.party-insider.com
SUMMARY:Wei ich ein Mädchen bin im Erdbeermund Singen
DESCRIPTION:Wei ich ein Mädchen bin ist…\nEine säuft. Eine heult. Eine kichert irre vor sich hin.\nZwei rennen schreiend durch den Club.\nEine steht beim DJ und macht sich über den Rest der Truppe lustig…\n\nFrauen haben die ganze Nacht freien Eintritt.\n\nUnsere Getränkeaktionen:\njede 3er Gruppe Frauen erhält eine Falsche Sekt gratis\n\nGrüße vom Erdbeermund Team\n▀▀▀▀▀▀▀▀▀▀▀▀▀▀▀▀▀▀▀▀▀\nX Music by DJ ………………. X\nBest of Mainstream\, Latino und Partyhits\n▀▀▀▀▀▀▀▀▀▀▀▀▀▀▀▀▀▀▀▀▀\nmore info\n►► Eintritt: 8\,00 EUR\n►► ab 21 Jahren\n►► Öffnungszeiten 22:00 – 4:00 Uhr\n►► Reservierungen: https://www.erdbeermund-singen.de
URL:https://www.party-insider.com/event/wei-ich-ein-maedchen-bin-im-erdbeermund-singen/
LOCATION:Erdbeermund Singen\, Otto-Hahn-Str. 5\, Singen (Hohentwiel)\, 78224\, Germany
CATEGORIES:Erdbeermund
ATTACH;FMTTYPE=image/png:https://www.party-insider.com/wp-content/uploads/2025/05/IMG_2025-05-04-185556.png
END:VEVENT
BEGIN:VEVENT
DTSTART;TZID=Europe/Zurich:20250509T220000
DTEND;TZID=Europe/Zurich:20250510T050000
DTSTAMP:20260424T140433
CREATED:20250304T171106Z
LAST-MODIFIED:20250304T171106Z
UID:10000387-1746828000-1746853200@www.party-insider.com
SUMMARY:Dante Thomas im Grey Konstanz
DESCRIPTION:I ♥️ OLDSCHOOL \nmit DANTE THOMAs LIVE! \nDante Thomas live im Grey Konstanz – Der Superstar mit dem Hit „Miss California“ kommt! \nDie legendäre Partyreihe „I Love Oldschool“ bringt euch ein echtes Highlight! Am Freitag\, den 09. Mai 2025\, steht kein Geringerer als Dante Thomas live auf der Bühne im Grey Konstanz. \nMit seinem Welthit „Miss California“ eroberte Dante Thomas im Jahr 2001 die internationalen Charts und sorgte für Sommer-Feeling pur. Der Song\, produziert von Pras Michel (The Fugees)\, wurde ein absoluter Ohrwurm und erreichte in Deutschland Platz 1 der Charts. Auch heute noch zählt „Miss California“ zu den Klassikern der 2000er und bringt die Partycrowd garantiert zum Mitsingen. \nFreut euch auf eine unvergessliche Nacht voller Oldschool Songs Classic Hip-Hop & 2000er Hits. Passend dazu: Ladies Night – Alle Bereiche geöffnet! \n📍 Location: Grey Konstanz\, Max-Stromeyer-Straße 33\, 78467 Konstanz\n📅 Datum: Freitag\, 09.05.2025\n🎶 Special: Live-Performance von Dante Thomas \nWir freuen uns auf euch. 🫶
URL:https://www.party-insider.com/event/dante-thomas-im-grey-konstanz/
LOCATION:Grey Konstanz\, Max-Stromeyerstr. 33\, Konstanz\, 78467\, Germany
CATEGORIES:Grey
ATTACH;FMTTYPE=image/jpeg:https://www.party-insider.com/wp-content/uploads/2025/03/IMG_0803.jpeg
END:VEVENT
BEGIN:VEVENT
DTSTART;TZID=Europe/Zurich:20250509T230000
DTEND;TZID=Europe/Zurich:20250510T050000
DTSTAMP:20260424T140433
CREATED:20250504T164954Z
LAST-MODIFIED:20250504T165123Z
UID:10001908-1746831600-1746853200@www.party-insider.com
SUMMARY:INTHEBUNKR in Kantine Konstanz
DESCRIPTION:JUST UNDER ONE WEEK UNTIL OUR DEBUT EVENT IN @kantinekn! \nThis one is super special because not only will it be our first event in our favourite club\, but it will also be the first time we have the set up in the middle of the room for our first Facee 2 Facee set up! \nLine up \n@bixbitamusic F2F @larniedjuk \n@bergerundbockig F2F \n@_robin.dj \nGenre: hypnotic\, hardgroove\, bouncy techno 135+
URL:https://www.party-insider.com/event/inthebunkr-in-kantine-konstanz/
LOCATION:Kantine Konstanz\, Oberlohnstraße 3\, Konstanz\, 78467\, Germany
CATEGORIES:Kantine
ATTACH;FMTTYPE=image/png:https://www.party-insider.com/wp-content/uploads/2025/05/IMG_2025-05-04-184726.png
END:VEVENT
END:VCALENDAR