BEGIN:VCALENDAR
VERSION:2.0
PRODID:-//Party-Insider - ECPv6.15.20//NONSGML v1.0//EN
CALSCALE:GREGORIAN
METHOD:PUBLISH
X-WR-CALNAME:Party-Insider
X-ORIGINAL-URL:https://www.party-insider.com
X-WR-CALDESC:Veranstaltungen im Party-Insider
REFRESH-INTERVAL;VALUE=DURATION:PT1H
X-Robots-Tag:noindex
X-PUBLISHED-TTL:PT1H
BEGIN:VTIMEZONE
TZID:Europe/Zurich
BEGIN:DAYLIGHT
TZOFFSETFROM:+0100
TZOFFSETTO:+0200
TZNAME:CEST
DTSTART:20240331T010000
END:DAYLIGHT
BEGIN:STANDARD
TZOFFSETFROM:+0200
TZOFFSETTO:+0100
TZNAME:CET
DTSTART:20241027T010000
END:STANDARD
BEGIN:DAYLIGHT
TZOFFSETFROM:+0100
TZOFFSETTO:+0200
TZNAME:CEST
DTSTART:20250330T010000
END:DAYLIGHT
BEGIN:STANDARD
TZOFFSETFROM:+0200
TZOFFSETTO:+0100
TZNAME:CET
DTSTART:20251026T010000
END:STANDARD
BEGIN:DAYLIGHT
TZOFFSETFROM:+0100
TZOFFSETTO:+0200
TZNAME:CEST
DTSTART:20260329T010000
END:DAYLIGHT
BEGIN:STANDARD
TZOFFSETFROM:+0200
TZOFFSETTO:+0100
TZNAME:CET
DTSTART:20261025T010000
END:STANDARD
END:VTIMEZONE
BEGIN:VEVENT
DTSTART;TZID=Europe/Zurich:20250510T140000
DTEND;TZID=Europe/Zurich:20250510T220000
DTSTAMP:20260424T140438
CREATED:20250505T162338Z
LAST-MODIFIED:20250505T162338Z
UID:10001917-1746885600-1746914400@www.party-insider.com
SUMMARY:ROOFTOP SESSIONS im Glorious Bastards - Lago Konstanz
DESCRIPTION:
URL:https://www.party-insider.com/event/rooftop-sessions-im-glorious-bastards-lago-konstanz/
LOCATION:Glorious Bastards Konstanz\, Bodanstraße 1\, Konstanz\, 78462\, Germany
CATEGORIES:Glorious Bastards
ATTACH;FMTTYPE=image/jpeg:https://www.party-insider.com/wp-content/uploads/2025/05/CBFB4ADE-F95C-45D3-8A40-DA69A4D095A0.jpeg
END:VEVENT
BEGIN:VEVENT
DTSTART;TZID=Europe/Zurich:20250510T200000
DTEND;TZID=Europe/Zurich:20250511T040000
DTSTAMP:20260424T140438
CREATED:20250317T112317Z
LAST-MODIFIED:20250317T215541Z
UID:10000420-1746907200-1746936000@www.party-insider.com
SUMMARY:Techno Night in sbokle Radolfzell
DESCRIPTION:Radolfzell\, macht euch bereit – am 10. Mai 2025 kehrt der heiß ersehnte Techno Rave endlich zurück! In Kooperation mit @labor_kn&@contrast_kn bringen wir euch eine Nacht voller pulsierender Bässe\, treibender Beats und ekstatischer Vibes. \n° Location: s’Bokle\, Robert-Gerwig-Str. 12\, 78315 \nRadolfzell \n• Einlass: 20:00 Uhr \n* Eintritt: 8€ \nNach langer Wartezeit ist es endlich soweit – mit einem fetten Line-up an DJs lassen wir die Wände wieder beben und verwandeln das s’Bokle in einen Tempel des Rave. Dunkel\, laut und kompromisslos – genau so\, wie ihr es euch gewünscht habt! \nSchnappt euch eure Crew und taucht ein in eine Nacht voller Energie und Euphorie. Lasst uns gemeinsam eskalieren! \nSee you on the dancefloor! \n#radolfzell #sbokle \n#bodensee #radolfzellambodensee #sbokleradolfzell #music #konstanz #rave #techno #raven #party #technosound #dj #dance #dancelove
URL:https://www.party-insider.com/event/techno-night-in-sbokle-radolfzell/
LOCATION:Bokle Radolfzell\, Robert-Gerwig-Str. 12\, Radolfzell\, 78315\, Switzerland
CATEGORIES:Bokle
ATTACH;FMTTYPE=image/jpeg:https://www.party-insider.com/wp-content/uploads/2025/03/IMG_1130.jpeg
END:VEVENT
BEGIN:VEVENT
DTSTART;TZID=Europe/Zurich:20250510T210000
DTEND;TZID=Europe/Zurich:20250511T020000
DTSTAMP:20260424T140438
CREATED:20250510T155246Z
LAST-MODIFIED:20250510T155247Z
UID:10001940-1746910800-1746928800@www.party-insider.com
SUMMARY:Die K9-Disco im Kulturzentrum K9 Konstanz
DESCRIPTION:Die K9-Disco!\nmit DJ Marco und DJ Gassi
URL:https://www.party-insider.com/event/die-k9-disco-im-kulturzentrum-k9-konstanz-2/
ATTACH;FMTTYPE=image/jpeg:https://www.party-insider.com/wp-content/uploads/2025/02/IMG_0500.jpeg
END:VEVENT
BEGIN:VEVENT
DTSTART;TZID=Europe/Zurich:20250510T210000
DTEND;TZID=Europe/Zurich:20250511T030000
DTSTAMP:20260424T140438
CREATED:20250506T211816Z
LAST-MODIFIED:20250506T211816Z
UID:10000489-1746910800-1746932400@www.party-insider.com
SUMMARY:Disco Party im GenX Konstanz
DESCRIPTION:
URL:https://www.party-insider.com/event/disco-party-im-genx-konstanz-3-4/
LOCATION:Poly Club Konstanz\, Maybachstraße 8\, Konstanz\, 78467\, Germany
CATEGORIES:Poly Club Konstanz
ATTACH;FMTTYPE=image/jpeg:https://www.party-insider.com/wp-content/uploads/2025/03/IMG_3441.jpeg
END:VEVENT
BEGIN:VEVENT
DTSTART;TZID=Europe/Zurich:20250510T220000
DTEND;TZID=Europe/Zurich:20250511T010000
DTSTAMP:20260424T140438
CREATED:20250504T172125Z
LAST-MODIFIED:20250504T172125Z
UID:10001914-1746914400-1746925200@www.party-insider.com
SUMMARY:DJ -A-TOM in Peggys Frauenfeld
DESCRIPTION:
URL:https://www.party-insider.com/event/dj-a-tom-in-peggys-frauenfeld/
LOCATION:Peggys Frauenfeld\, Metzgerstrasse 1\, Frauenfeld\, 8500\, Switzerland
CATEGORIES:Peggy
ATTACH;FMTTYPE=image/jpeg:https://www.party-insider.com/wp-content/uploads/2025/05/IMG_3364.jpeg
END:VEVENT
BEGIN:VEVENT
DTSTART;TZID=Europe/Zurich:20250510T220000
DTEND;TZID=Europe/Zurich:20250511T040000
DTSTAMP:20260424T140438
CREATED:20250504T170920Z
LAST-MODIFIED:20250504T170920Z
UID:10001911-1746914400-1746936000@www.party-insider.com
SUMMARY:Urbanity & Good Vibes im Bolero Winterthur
DESCRIPTION:
URL:https://www.party-insider.com/event/urbanity-good-vibes-im-bolero-winterthur-2/
LOCATION:Bolero Winterthur\, Vogelsangstrasse 10\, Winterthur\, 8400\, Switzerland
CATEGORIES:Bolero
ATTACH;FMTTYPE=image/jpeg:https://www.party-insider.com/wp-content/uploads/2025/05/IMG_3362.jpeg
END:VEVENT
BEGIN:VEVENT
DTSTART;TZID=Europe/Zurich:20250510T220000
DTEND;TZID=Europe/Zurich:20250511T040000
DTSTAMP:20260424T140438
CREATED:20250506T075806Z
LAST-MODIFIED:20250506T080321Z
UID:10001923-1746914400-1746936000@www.party-insider.com
SUMMARY:Single Party in Arena Amriswil
DESCRIPTION:Single Party – 10.05.2025 \nFlirt\, Fun & Feierlaune in der Arena Discothek! \nOb vergeben oder noch zu haben – bei unserer Single Party steht der Spaß im Vordergrund! \nLerne neue Leute kennen\, genieße einen unvergesslichen Abend und tanze bis in die frühen Morgenstunden! \nDJ Mykes bringt euch mit einem energiegeladenen Club-Mix zum Ausrasten – fette Beats\, volle Tanzfläche und pure Party-Vibes garantiert! \nWo?\nArena Discothek\, Amriswil \nAdresse?\nSchrofenstrasse 12\, 8580 Amriswil \nWann?\nSamstag\, 10. Mai 2025 \nUhrzeit?\nStart um 22:00 Uhr \nEintritt?\n15 CHF \nKostenlose Parkplätze direkt vor dem Club \nLounge reservieren?\narena-discothek.ch\n#RESERVATION \nAm Eingang gibt’s wieder die beliebten Armbänder: \nvergeben | offen für alles | single & bereit zu flirten! \nEgal ob du auf der Suche bist oder einfach nur \nfeiern willst – diese Nacht ist für DICH! \nArena Discothek lädt ein zur heißesten Single-Nacht des Jahres – sei dabei!
URL:https://www.party-insider.com/event/single-party-in-arena-amriswil/
LOCATION:Mood12 Amriswil\, Schrofenstrasse 12\, Amriswil​​​​​​​\, 8580\, Switzerland
CATEGORIES:MOOD12 Amriswil
ATTACH;FMTTYPE=image/jpeg:https://www.party-insider.com/wp-content/uploads/2025/05/IMG_3399.jpeg
END:VEVENT
BEGIN:VEVENT
DTSTART;TZID=Europe/Zurich:20250510T220000
DTEND;TZID=Europe/Zurich:20250511T050000
DTSTAMP:20260424T140438
CREATED:20250504T162408Z
LAST-MODIFIED:20250504T162408Z
UID:10001904-1746914400-1746939600@www.party-insider.com
SUMMARY:R&B LOVE im Top10 Singen
DESCRIPTION:R&B LOVE – EXKLUSIV IM @top10singen \nBODENSEE\, SEID IHR REAAADY? \nR&B LOVE – EXKLUSIV IM @top10singen \nAm Samstag\, den 10. Mai 2025\, bringen wir die besten Vibes direkt ins Top10 in Singen! Freut euch auf den frischesten R&B-Sound\, während auch Hip-Hop\, Afro und Oldschool-Musik auf euch warten werden. Es wird eine Nacht voller Energie und Leidenschaft\, die ihr nicht verpassen solltet! \nBleibt gespannt auf die Überraschungen\, die wir für euch vorbereitet haben! It’s not just an event\, it’s a passion! 
URL:https://www.party-insider.com/event/rb-love-im-top10-singen/
LOCATION:TOP10 Singen\, Otto-Hahn-Str. 5\, Singen (Hohentwiel)\, 78224\, Germany
CATEGORIES:Top10
ATTACH;FMTTYPE=image/jpeg:https://www.party-insider.com/wp-content/uploads/2025/05/IMG_3349.jpeg
END:VEVENT
BEGIN:VEVENT
DTSTART;TZID=Europe/Zurich:20250510T220000
DTEND;TZID=Europe/Zurich:20250511T050000
DTSTAMP:20260424T140438
CREATED:20250504T163246Z
LAST-MODIFIED:20250504T163315Z
UID:10001906-1746914400-1746939600@www.party-insider.com
SUMMARY:🤍 WHITE NIGHT 🤍 im Grey Konstanz
DESCRIPTION:PARTY AUF 4 FLOORS \n🌟✨ TONIGHT IS THE NIGHT – WHITE NIGHT IM GREY KONSTANZ!✨🌟\n🚨 SAVE THE DATE: HEUTE! 🚨\nDas Grey taucht ab in Weiß – mit atemberaubender Deko\, white drinks\, und weißen Tänzern – und guess what? DU kannst mitten drin sein! 😍\n💃 Party auf 4 Floors Egal ob EDM\, Hip-Hop\, Charts\, oder Classics – hier geht niemand leer aus!\n🎁 Specials\, Specials\, Specials! Freu dich auf Highlights\, die du nicht verpassen darfst.\n🍸 White Vibes\, White Drinks! Komm in Weiß und hol dir deinen FREE WELCOME DRINK – aber es ist KEINE Pflicht! 🕊️\n🎊 Wichtig:\n👉 Eintritt FREI bis 23 Uhr! Sei pünktlich und sicher dir deinen Platz im Party-Paradies!\n🚪 Wo? Grey Konstanz\n⏰ Doors Open: 22 Uhr!\n💥 Pack deine Crew\, schmeiß dich in dein schickstes Weiß und mach dich bereit für eine legendäre Nacht! **Let’s GLOW\, let’s DANCE\, let’s CELEBRATE!** 💥\nDein Grey-Team 🖤✨ \n⭐️ Konfettishows\n⭐️ Sexy GoGo Dancing\n⭐️ VIP Bottle-Service\n⭐️ Lasershows und vieles mehr! \nParty auf 4 Floors auf denen Ihr garantiert etwas nach Eurem Geschmack findet!
URL:https://www.party-insider.com/event/%f0%9f%a4%8d-white-night-%f0%9f%a4%8d-im-grey-konstanz/
LOCATION:Grey Konstanz\, Max-Stromeyerstr. 33\, Konstanz\, 78467\, Germany
CATEGORIES:Grey
ATTACH;FMTTYPE=image/jpeg:https://www.party-insider.com/wp-content/uploads/2025/05/IMG_3350.jpeg
END:VEVENT
BEGIN:VEVENT
DTSTART;TZID=Europe/Zurich:20250510T220000
DTEND;TZID=Europe/Zurich:20250511T050000
DTSTAMP:20260424T140438
CREATED:20250504T170251Z
LAST-MODIFIED:20250504T181124Z
UID:10001910-1746914400-1746939600@www.party-insider.com
SUMMARY:Flirt & Single Party im Erdbeermund Singen
DESCRIPTION:1\,2\,3 Single sein ist vorbei…\n\njetzt heist es flirten was das zeug hält\n\nAm Samstag habt Ihr wieder die Möglichkeit dazu.!!!\n\nFlirtet\, textet\, tanzt miteinander. Schüchtern sein war gestern!\n\nDu willst Aktiv an der Single Night mit machen und signalisieren das du auch Single bist? Dann bekommst du am Eingang eine Liebesnummer. Der Rest ist Geschichte…\n\nDas erwartet euch:\n“Rot Grün Gelb Knicklichter\nRot – vergeben\ngelb – schauen wir mal\ngrün – offen”\n\n\nSonder Special:\n\nFinde dein blind Date\,\nBeim Einlass bekommst du eine blaue Nummer\, wenn du ein Mann bist oder eine pinke Nummer\, wenn du eine Frau bist.\n\nWenn du magst\, darfst du auch eine Nummer ziehen.\n\nPunkt 1:00 Uhr treffen sich dann alle mit einer Nummer bei uns an der Jacky Bar Und wenn du Lust hast\, mit deinem blind Date in die nächste Runde zu gehen\, lassen wir einen Sekt und ein Bier springen.\n\n\nAlles kann nichts muss\n\nUnsere Empfehlung:\n\nChecke bis 24.00 Uhr ein so habt Ihr mehr Zeit euch kennen zu lernen!\n\nEure Getränkeaktionen:\nSourz Red Berry 0\,2l 2 €\n1 Flasche Erdbeermund Sekt 0\,75l 12 €\n\nGrüße vom Erdbeermund Team\n▀▀▀▀▀▀▀▀▀▀▀▀▀▀▀▀▀▀▀▀▀\nX Music by DJ Frank G X\nBest of Mainstream\, Latino und Partyhits\n▀▀▀▀▀▀▀▀▀▀▀▀▀▀▀▀▀▀▀▀▀\nmore info\n►► Eintritt: 9\,00 EUR\n►► ab 21 Jahren\n►► Öffnungszeiten 22:00 – 5:00 Uhr\n►► Reservierungen: https://www.erdbeermund-singen.de
URL:https://www.party-insider.com/event/flirt-single-party-im-erdbeermund-singen/
LOCATION:Erdbeermund Singen\, Otto-Hahn-Str. 5\, Singen (Hohentwiel)\, 78224\, Germany
CATEGORIES:Erdbeermund
ATTACH;FMTTYPE=image/png:https://www.party-insider.com/wp-content/uploads/2025/05/IMG_2025-05-04-190026.png
END:VEVENT
BEGIN:VEVENT
DTSTART;TZID=Europe/Zurich:20250510T230000
DTEND;TZID=Europe/Zurich:20250511T050000
DTSTAMP:20260424T140438
CREATED:20250504T164047Z
LAST-MODIFIED:20250504T164139Z
UID:10001907-1746918000-1746939600@www.party-insider.com
SUMMARY:IT'S A SIN in Kantine Konstanz
DESCRIPTION:IT’S A SIN when Christian Brandl and Dark Skies spin you round like a record in this funky town. You don’t have to be rich to be our guest. Let’s dance and get footloose all night long! \nStart: 23:00 \nEntry: 8\,- \n#itsasin #80s #80er #80sparty #80erparty #kantinekn #konstanz #bodensee #newwave #synthpop #italodisco #disco #rock #funk #hiphop #glamrock #htwgkonstanz #unikonstanz #pop
URL:https://www.party-insider.com/event/its-a-sin-in-kantine-konstanz-3/
LOCATION:Kantine Konstanz\, Oberlohnstraße 3\, Konstanz\, 78467\, Germany
CATEGORIES:Kantine
ATTACH;FMTTYPE=image/png:https://www.party-insider.com/wp-content/uploads/2025/05/IMG_2025-05-04-183928.png
END:VEVENT
END:VCALENDAR