BEGIN:VCALENDAR
VERSION:2.0
PRODID:-//Party-Insider - ECPv6.14.2//NONSGML v1.0//EN
CALSCALE:GREGORIAN
METHOD:PUBLISH
X-WR-CALNAME:Party-Insider
X-ORIGINAL-URL:https://www.party-insider.com
X-WR-CALDESC:Veranstaltungen im Party-Insider
REFRESH-INTERVAL;VALUE=DURATION:PT1H
X-Robots-Tag:noindex
X-PUBLISHED-TTL:PT1H
BEGIN:VTIMEZONE
TZID:Europe/Zurich
BEGIN:DAYLIGHT
TZOFFSETFROM:+0100
TZOFFSETTO:+0200
TZNAME:CEST
DTSTART:20250330T010000
END:DAYLIGHT
BEGIN:STANDARD
TZOFFSETFROM:+0200
TZOFFSETTO:+0100
TZNAME:CET
DTSTART:20251026T010000
END:STANDARD
END:VTIMEZONE
BEGIN:VEVENT
DTSTART;TZID=Europe/Zurich:20250528T170000
DTEND;TZID=Europe/Zurich:20250528T220000
DTSTAMP:20260423T002118
CREATED:20250525T153548Z
LAST-MODIFIED:20250525T153837Z
UID:10002768-1748451600-1748469600@www.party-insider.com
SUMMARY:L’Aperitivo in Pane e Amore Konstanz
DESCRIPTION:
URL:https://www.party-insider.com/event/laperitivo-im-pane-e-amore-konstanz-6/
LOCATION:Pane E Amore Konstanz\, Brotlaube 1\, Konstanz\, 78462\, Germany
CATEGORIES:Pane E Amore
ATTACH;FMTTYPE=image/png:https://www.party-insider.com/wp-content/uploads/2025/05/IMG_2025-05-25-173409.png
END:VEVENT
BEGIN:VEVENT
DTSTART;TZID=Europe/Zurich:20250528T190000
DTEND;TZID=Europe/Zurich:20250528T235900
DTSTAMP:20260423T002118
CREATED:20250427T154916Z
LAST-MODIFIED:20250427T154916Z
UID:10001883-1748458800-1748476740@www.party-insider.com
SUMMARY:Welcome Home Party im Apollo Kreuzlingen
DESCRIPTION:Am Mittwoch\, 28. Mai wird das Kulturhaus APOLLO in Kreuzlingen zur Bühne für die WELCOME HOME PARTY – SPRINGTIME!\nMit an den Decks: DJ MATT GREY (dasBoot\, TITANIC\, usw.)\nStart ist um 19 Uhr – wir feiern den Frühling\, das Leben und das Wiedersehen!
URL:https://www.party-insider.com/event/welcome-home-party-im-apollo-kreuzlingen/
LOCATION:APOLLO Kreuzlingen\, Konstanzerstrasse 32\, Kreuzlingen\, 8280\, Switzerland
CATEGORIES:Apollo
ATTACH;FMTTYPE=image/jpeg:https://www.party-insider.com/wp-content/uploads/2025/04/IMG_3013.jpeg
END:VEVENT
BEGIN:VEVENT
DTSTART;TZID=Europe/Zurich:20250528T193000
DTEND;TZID=Europe/Zurich:20250528T193000
DTSTAMP:20260423T002118
CREATED:20250525T115938Z
LAST-MODIFIED:20251220T084232Z
UID:10002767-1748460600-1748460600@www.party-insider.com
SUMMARY:Ballermann Party in Zuzwil SG
DESCRIPTION:Türöffnung: 19:30 Uhr \nMach dich bereit für PARTY PUR-Ballermannparty Hits bis zum Morgengrauen! \n19:30 bis 20:15 Uhr gratis Eintritt \nTickets an der Abendkasse \nParkieren:\nEs sind gratis Parkplätze vorhanden. Wenn möglich bitte ÖV (Haltestelle Zuzwil Industrie) benützen. \n#Ballermannpartyuzwil #FrenzyLive #PartyPur #MallorcaVibes #Schlagerparty #Ballermannparty #Zuzwil #feiern #fest #party #zuzwil #ostschweiz #ostschweiz #Zuzwilfeiert #megaparty #28mai
URL:https://www.party-insider.com/event/ballermann-party-in-zuzwil-sg/
ATTACH;FMTTYPE=image/jpeg:https://www.party-insider.com/wp-content/uploads/2025/05/IMG_2541.jpeg
END:VEVENT
BEGIN:VEVENT
DTSTART;TZID=Europe/Zurich:20250528T210000
DTEND;TZID=Europe/Zurich:20250529T043000
DTSTAMP:20260423T002118
CREATED:20250521T201810Z
LAST-MODIFIED:20250521T221353Z
UID:10002756-1748466000-1748493000@www.party-insider.com
SUMMARY:Progressive Techhouse im GenX Konstanz
DESCRIPTION:🎶 PROGRESSIVE CLUB VIBES \nmit DJ PandaX\, DJ Happy Döring & DJ Dani Folgemann \n \n📍 Club GenX | 📅 Mittwoch\, 28. Mai 2025 (vor dem Feiertag!) | 🕘Start: 21:00 Uhr \n \nDer Abend vor Auffahrt wird legendär! Drei Top-DJs\, ein Floor\, grenzenlose Energie: \nErlebe eine Nacht voller melodischem Techhouse\, hypnotischen Grooves und pulsierender Emotion. \n🌅 Die DJs eröffnen die Nacht mit warmen Vibes und organischem Flow und treiben dich weiter in progressive Klangwelten – fließend\, tief und tanzbar. \nFette Basslines\, packende Drops und ein energiegeladenes Set bringen den Dancefloor zum Beben – bereit für die Nacht vor dem Feiertag? 🔥 \n \n🕘 Start: 21:00 Uhr – Tanz bis in den Feiertag hinein! \n📍 Club GenX\, Maybachstr. 8\, 78467 Konstanz
URL:https://www.party-insider.com/event/progressive-techhouse-im-genx-konstanz/
LOCATION:Poly Club Konstanz\, Maybachstraße 8\, Konstanz\, 78467\, Germany
CATEGORIES:Poly Club Konstanz
ATTACH;FMTTYPE=image/jpeg:https://www.party-insider.com/wp-content/uploads/2025/05/GENX-TECHNO-280525-9zu16.jpg
END:VEVENT
BEGIN:VEVENT
DTSTART;TZID=Europe/Zurich:20250528T210000
DTEND;TZID=Europe/Zurich:20250529T050000
DTSTAMP:20260423T002118
CREATED:20250525T205552Z
LAST-MODIFIED:20250525T205957Z
UID:10002778-1748466000-1748494800@www.party-insider.com
SUMMARY:Notte Imperiale – die italienische Nacht in Top10 Singen
DESCRIPTION: NOTTE IMPERIALE – Die Italienische Nacht im Top10 Singen \n Dienstag\, 28. Mai Mit DJ San Valentino\nLa dolce vita ruft – und wir antworten mit einer unvergesslichen Nacht voller italienischem Flair\, heißen Beats und mediterranem Lebensgefühl!\nTaucht ein in die Notte Imperiale – unsere legendäre italienische Nacht mit dem international bekannten DJ San Valentino\, der schon in Deutschland\, der Schweiz\, Österreich und sogar in Italien selbst die Clubs zum Beben gebracht hat!\n Specials des Abends: Ladies zahlen bis 22:30 Uhr keinen Eintritt! Italienische Süßigkeiten als Welcome-Special Überraschungen & Specials throughout the night – stay tuned!\nOb Italo-Hits\, Dance-Classics oder aktuelle Club-Banger – DJ San Valentino bringt euch das Beste aus Bella Italia direkt auf die Tanzfläche!\n Dress to impress – es wird stilvoll\, heiß und einfach imperial!\n Top10 Singen Einlass ab 21:00 Uhr Eintritt ab 18 Jahren\nViva l’Italia – wir sehen uns auf der Tanzfläche!
URL:https://www.party-insider.com/event/notte-imperiale-die-italienische-nacht-in-top10-singen/
LOCATION:TOP10 Singen\, Otto-Hahn-Str. 5\, Singen (Hohentwiel)\, 78224\, Germany
CATEGORIES:Top10
ATTACH;FMTTYPE=image/jpeg:https://www.party-insider.com/wp-content/uploads/2025/05/IMG_4329.jpeg
END:VEVENT
BEGIN:VEVENT
DTSTART;TZID=Europe/Zurich:20250528T213000
DTEND;TZID=Europe/Zurich:20250529T030000
DTSTAMP:20260423T002118
CREATED:20250514T141236Z
LAST-MODIFIED:20250514T141236Z
UID:10002215-1748467800-1748487600@www.party-insider.com
SUMMARY:Touch the 90s vor Auffahrt im Schlosshof Münchwilen
DESCRIPTION:MITTWOCH 28. MAI 2025\nim \nSCHLOSSHOF\njeweils ab 21:30 \n🕺💃 Die verrückteste 90er-Party der Region ist zurück! 🎉✨ \nNach der ausverkauften April-Ausgabe feiern wir am Mittwoch vor Auffahrt nochmals so richtig – und diesmal hast DU die Chance\, mit dabei zu sein! 🔥 \n🎧 Mit dabei: DJ Pe-Be – bekannt aus dem Bolero\, dem JB-Fäscht & als Resident-DJ der legendären touch the 90’s!\nZusammen mit DJ 🔥 bringt er dir die grössten 90er-Hits um die Ohren – von Britney bis Bobo\, von Nirvana bis Vengaboys! 😍🎶\n🔥 Und dieses Mal legen wir noch einen drauf – mit einer exklusiven Danceperformance von Tachay! \n🎈Dich erwartet: ✨ 90er-Deko\n💥 Light-Visuals & Special Effects\n🪩 Nostalgie pur & Partystimmung garantiert! \n🎟️ Tipp: Hol dir dein Ticket im Vorverkauf – damit du sicher reinkommst! 🚫🚪 Tickets \n👑 Dr. Alban\, 🧚‍♀️ Britney Spears\, 🎤 Backstreet Boys\, 🔥 Snap!\, 🇨🇭 DJ Bobo\, 🕺 N’Sync\, 🚌 Vengaboys\, 👩‍🌾 Rednex\, 👯‍♀️ Spice Girls\, 🎸 Nirvana\, 🌊 Ace of Base\, 💋 La Bouche\, 💃 Salt ’n‘ Pepa\, 🎛️ Culture Beat\, 🌌 Faithless\, 💎 TLC… und viele mehr! \n📅 Datum eintragen\, Freunde schnappen & bereit sein für die ultimative 90er-Nacht! 💾📟📀 \n#90erParty #TouchThe90s #TachayLive #NostalgiePur #AuffahrtsMittwoch #ZurückInDie90er #PartyLikeIts1999 \nKünstler: DJ PE-BE \nEinlass ab: 22 Jahren \nEintritt: CHF 20.00
URL:https://www.party-insider.com/event/touch-the-90s-vor-auffahrt-im-schlosshof-muenchwilen/
ATTACH;FMTTYPE=image/jpeg:https://www.party-insider.com/wp-content/uploads/2025/05/IMG_3780.jpeg
END:VEVENT
BEGIN:VEVENT
DTSTART;TZID=Europe/Zurich:20250528T220000
DTEND;TZID=Europe/Zurich:20250529T010000
DTSTAMP:20260423T002118
CREATED:20250526T220222Z
LAST-MODIFIED:20250526T220222Z
UID:10002786-1748469600-1748480400@www.party-insider.com
SUMMARY:Summer Vibes in Peggys Frauenfeld
DESCRIPTION:
URL:https://www.party-insider.com/event/summer-vibes-in-peggys-frauenfeld/
LOCATION:Peggys Frauenfeld\, Metzgerstrasse 1\, Frauenfeld\, 8500\, Switzerland
CATEGORIES:Peggy
ATTACH;FMTTYPE=image/png:https://www.party-insider.com/wp-content/uploads/2025/05/IMG_2025-05-27-000037.png
END:VEVENT
BEGIN:VEVENT
DTSTART;TZID=Europe/Zurich:20250528T220000
DTEND;TZID=Europe/Zurich:20250529T040000
DTSTAMP:20260423T002118
CREATED:20250525T203407Z
LAST-MODIFIED:20250525T203407Z
UID:10002775-1748469600-1748491200@www.party-insider.com
SUMMARY:Neon 90s in Bolero Winterthur
DESCRIPTION:
URL:https://www.party-insider.com/event/neon-90s-in-bolero-winterthur/
LOCATION:Bolero Winterthur\, Vogelsangstrasse 10\, Winterthur\, 8400\, Switzerland
CATEGORIES:Bolero
ATTACH;FMTTYPE=image/jpeg:https://www.party-insider.com/wp-content/uploads/2025/05/IMG_4326.jpeg
END:VEVENT
BEGIN:VEVENT
DTSTART;TZID=Europe/Zurich:20250528T220000
DTEND;TZID=Europe/Zurich:20250529T050000
DTSTAMP:20260423T002118
CREATED:20250525T212112Z
LAST-MODIFIED:20250525T212112Z
UID:10002780-1748469600-1748494800@www.party-insider.com
SUMMARY:Party Mix in Erdbeermund Singen
DESCRIPTION:Lust auf einen abwechslungsreichen Partyabend haben! \nAm 28. Mai verwandelt sich das Erdbeermund in die ultimative Feierlocation\nfür alle\, die Lust auf einen abwechslungsreichen Partyabend haben!\nUnter dem Motto Party Mix erwartet euch ein bunter Musik-Mix\, ausgelassene Stimmung und beste Gesellschaft.\n\nEin besonderes Highlight des Abends: unsere exklusive Longdrink-Aktion!\nGenießt Malibu Maracuja\, Captain Morgan mit Cola oder Wodka-O für nur 6 Euro.\nPerfekt\, um gemeinsam auf einen unvergesslichen Abend anzustoßen!\n\nKommt vorbei\, feiert mit uns und erlebt eine Nacht voller guter Musik\, t\noller Drinks und bester Laune im Erdbeermund. Wir freuen uns auf euch!\n\n▀▀▀▀▀▀▀▀▀▀▀▀▀▀▀▀▀▀▀▀▀\nX Music by DJ MIKA  X\nBest of Mallorca und Party Musik\n▀▀▀▀▀▀▀▀▀▀▀▀▀▀▀▀▀▀▀▀▀\nmore info\n►► Eintritt: 9\,00 EUR\n►► ab 21 Jahren\n►► Öffnungszeiten 22:00 – 5:00 Uhr\n►► Reservierungen: https://www.erdbeermund-singen.de
URL:https://www.party-insider.com/event/party-mix-in-erdbeermund-singen/
LOCATION:Erdbeermund Singen\, Otto-Hahn-Str. 5\, Singen (Hohentwiel)\, 78224\, Germany
CATEGORIES:Erdbeermund
ATTACH;FMTTYPE=image/png:https://www.party-insider.com/wp-content/uploads/2025/05/IMG_2025-05-25-231929.png
END:VEVENT
BEGIN:VEVENT
DTSTART;TZID=Europe/Zurich:20250528T230000
DTEND;TZID=Europe/Zurich:20250529T050000
DTSTAMP:20260423T002118
CREATED:20250225T004132Z
LAST-MODIFIED:20250521T173651Z
UID:10000307-1748473200-1748494800@www.party-insider.com
SUMMARY:HIGH CLVSS DATE im Grey Konstanz
DESCRIPTION:HIGH CLVSS \nPARTY AUF 4 FLOORS \nHIGH CLVSS – Vorfeiertags-Special \n📅 Mittwoch\, 28.05.25 (Vorfeiertag)\n📍 Grey Konstanz\, Max-Stromeyer-Str. 33\, 78467 Konstanz\n🎧 Dj SHAGS (Tour-DJ von Dardan\, Hava & Monet192) & Dj YG\n🕚 Einlass: 23:00 Uhr \nEuch wird Hip Hop\, House & Dancehall\, von DJ SHAGS präsentiert \, der als offizieller Tour-DJ von Dardan\, Hava & Monet192 für die heißesten Sounds sorgt. Gemeinsam mit YG liefert er ein einzigartiges Set für alle\, die den besten Sound erleben wollen.
URL:https://www.party-insider.com/event/high-clvss-date-im-grey-konstanz/
LOCATION:Grey Konstanz\, Max-Stromeyerstr. 33\, Konstanz\, 78467\, Germany
CATEGORIES:Grey
ATTACH;FMTTYPE=image/png:https://www.party-insider.com/wp-content/uploads/2025/02/IMG_2025-03-04-221408.png
END:VEVENT
BEGIN:VEVENT
DTSTART;TZID=Europe/Zurich:20250528T230000
DTEND;TZID=Europe/Zurich:20250529T050000
DTSTAMP:20260423T002118
CREATED:20250525T202558Z
LAST-MODIFIED:20250525T202640Z
UID:10002774-1748473200-1748494800@www.party-insider.com
SUMMARY:Throwback in die 2000er in Kantine Konstanz
DESCRIPTION:Our annual RollOut Party is right around the corner. Since we also celebrate our anniversary\, we decided on ‚Throwback‘ as our motto. We hope to see you\, so we can celebrate together \nDate: 28.05 // 23h Einlass \nLocation: @kantinekn
URL:https://www.party-insider.com/event/throwback-in-die-200er-in-kantine-konstanz/
LOCATION:Kantine Konstanz\, Oberlohnstraße 3\, Konstanz\, 78467\, Germany
CATEGORIES:Kantine
ATTACH;FMTTYPE=image/png:https://www.party-insider.com/wp-content/uploads/2025/05/IMG_2025-05-25-222352.png
END:VEVENT
END:VCALENDAR