BEGIN:VCALENDAR
VERSION:2.0
PRODID:-//Party-Insider - ECPv6.14.2//NONSGML v1.0//EN
CALSCALE:GREGORIAN
METHOD:PUBLISH
X-ORIGINAL-URL:https://www.party-insider.com
X-WR-CALDESC:Veranstaltungen im Party-Insider
REFRESH-INTERVAL;VALUE=DURATION:PT1H
X-Robots-Tag:noindex
X-PUBLISHED-TTL:PT1H
BEGIN:VTIMEZONE
TZID:Europe/Zurich
BEGIN:DAYLIGHT
TZOFFSETFROM:+0100
TZOFFSETTO:+0200
TZNAME:CEST
DTSTART:20250330T010000
END:DAYLIGHT
BEGIN:STANDARD
TZOFFSETFROM:+0200
TZOFFSETTO:+0100
TZNAME:CET
DTSTART:20251026T010000
END:STANDARD
END:VTIMEZONE
BEGIN:VEVENT
DTSTART;TZID=Europe/Zurich:20250529T170000
DTEND;TZID=Europe/Zurich:20250529T170000
DTSTAMP:20260423T002245
CREATED:20250402T043915Z
LAST-MODIFIED:20260422T173806Z
UID:10001540-1748538000-1748538000@www.party-insider.com
SUMMARY:After Work - Peggys Frauenfeld
DESCRIPTION:
URL:https://www.party-insider.com/event/after-work-im-peggys-frauenfeld/2025-05-29/
LOCATION:Peggys Frauenfeld\, Metzgerstrasse 1\, Frauenfeld\, 8500\, Switzerland
CATEGORIES:Peggy
ATTACH;FMTTYPE=image/jpeg:https://www.party-insider.com/wp-content/uploads/2025/04/IMG_6453.jpeg
END:VEVENT
BEGIN:VEVENT
DTSTART;TZID=Europe/Zurich:20250529T220000
DTEND;TZID=Europe/Zurich:20250530T040000
DTSTAMP:20260423T002245
CREATED:20250529T094417Z
LAST-MODIFIED:20250529T094417Z
UID:10002803-1748556000-1748577600@www.party-insider.com
SUMMARY:Campus Festival PreParty in Kantine Konstanz
DESCRIPTION:
URL:https://www.party-insider.com/event/campus-festival-preparty-kantine/
LOCATION:Kantine Konstanz\, Oberlohnstraße 3\, Konstanz\, 78467\, Germany
CATEGORIES:Kantine
ATTACH;FMTTYPE=image/jpeg:https://www.party-insider.com/wp-content/uploads/2025/05/IMG_4560.jpeg
END:VEVENT
BEGIN:VEVENT
DTSTART;TZID=Europe/Zurich:20250529T230000
DTEND;TZID=Europe/Zurich:20250530T040000
DTSTAMP:20260423T002245
CREATED:20250528T112955Z
LAST-MODIFIED:20250528T112955Z
UID:10002798-1748559600-1748577600@www.party-insider.com
SUMMARY:Campus Festival Pre-Party im Kula Konstanz
DESCRIPTION:Infos zu den Campus Festival Partys im KULA:\nAm 29.05. ab 23:00 Uhr: Pre-Party „Gute Laune mit Schereph“\n@gutelaunewien\nHouse\, Disco\, deutscher Indie-Pop & Y2K Hits 🦋\nAK: 3 € mit Campus-Festival-Bändchen / 10 € ohne \nAm 31.05. ab 23:00 Uhr: Aftershow-Party mit Prost Malone\n@maloneprost\nMixed Music & Festival-Vibes 🎉\nAK: 7\,50 € mit Campus-Festival-Bändchen / 15 € ohne \nVeranstalter: Campus Festival Konstanz \n18+
URL:https://www.party-insider.com/event/campus-festiival-pre-party-im-kula-konstanz/
LOCATION:Kulturladen Konstanz\, Joseph-Belli-Weg 5\, Konstanz\, 78467\, Germany
CATEGORIES:Kulturladen
ATTACH;FMTTYPE=image/jpeg:https://www.party-insider.com/wp-content/uploads/2025/05/1CC1C849-D8F7-49B1-87CD-F352D85B72EA-scaled.jpeg
END:VEVENT
END:VCALENDAR