BEGIN:VCALENDAR
VERSION:2.0
PRODID:-//Party-Insider - ECPv6.14.2//NONSGML v1.0//EN
CALSCALE:GREGORIAN
METHOD:PUBLISH
X-ORIGINAL-URL:https://www.party-insider.com
X-WR-CALDESC:Veranstaltungen im Party-Insider
REFRESH-INTERVAL;VALUE=DURATION:PT1H
X-Robots-Tag:noindex
X-PUBLISHED-TTL:PT1H
BEGIN:VTIMEZONE
TZID:Europe/Zurich
BEGIN:DAYLIGHT
TZOFFSETFROM:+0100
TZOFFSETTO:+0200
TZNAME:CEST
DTSTART:20250330T010000
END:DAYLIGHT
BEGIN:STANDARD
TZOFFSETFROM:+0200
TZOFFSETTO:+0100
TZNAME:CET
DTSTART:20251026T010000
END:STANDARD
END:VTIMEZONE
BEGIN:VEVENT
DTSTART;VALUE=DATE:20250530
DTEND;VALUE=DATE:20250602
DTSTAMP:20260423T002244
CREATED:20250410T113624Z
LAST-MODIFIED:20250410T113950Z
UID:10001822-1748584800-1748757599@www.party-insider.com
SUMMARY:Campus Festival im Bodenseestadion Konstanz
DESCRIPTION:Campus Festival Konstanz 2025\n30. & 31. Mai 2025 im Bodenseestadion\n2 Tage – über 30 Live-Acts – 4 Bühnen\n$OHO BANI – Berq  – Blümchen – Culcha Candela – Domiziana – Edwin Rosen – K.I.Z – Paula Hartmann – und noch viele\, viele mehr! \nWas du jetzt schon tun kannst: Planungen mit Freunden. Balkon und Wein und Spotify. Tage zählen. \nDas Campus Festival Konstanz feiert 2025 ein ganz besonderes Jubiläum: Zum zehnten Mal öffnen sich am 30. und 31. Mai die Tore des Bodenseestadions für sein liebgewonnenes kulturelles Highlight. Gemeinsam mit jung und alt von nah und fern möchten wir diesen Anlass feiern. \nDamit du keinen weiteren Release verpasst: \nhttps://www.instagram.com/campus.festival.konstanz/ \nDie wichtigsten Infos verschnürt: \nhttps://campusfestival-kn.de/ \n 
URL:https://www.party-insider.com/event/campus-festival-im-bodenseestadion-konstanz/
ATTACH;FMTTYPE=image/jpeg:https://www.party-insider.com/wp-content/uploads/2025/04/IMG_1946.jpeg
END:VEVENT
BEGIN:VEVENT
DTSTART;TZID=Europe/Zurich:20250530T180000
DTEND;TZID=Europe/Zurich:20250530T220000
DTSTAMP:20260423T002244
CREATED:20250527T054129Z
LAST-MODIFIED:20250527T211404Z
UID:10002787-1748628000-1748642400@www.party-insider.com
SUMMARY:Delicious Lake Music im US-MEX Terraza Kreuzlingen
DESCRIPTION:Am 30. Mai heisst es zurücklehnen\, geniessen und den Frühling am See willkommen heissen – mit Delicious Lake Music auf der stilvollen US-MEX Terraza in Kreuzlingen! \nPad Beryll bringt feinste Vibes mit einem Mix aus New & Classic House Music – perfekt für alle\, die Musik für Body & Soul lieben. Zwischen Sonnenuntergang und See-Panorama wird die Terraza zur Tanzfläche und Wohlfühl-Oase zugleich.
URL:https://www.party-insider.com/event/delicious-lake-music-im-us-mex-terraza-2/
LOCATION:US-MEX Terraza Kreuzlingen\, Seestrasse 11B.2 / Seeufer West\, Kreuzlingen\, 8280\, Switzerland
CATEGORIES:US-MEX Terraza Kreuzlingen
ATTACH;FMTTYPE=image/jpeg:https://www.party-insider.com/wp-content/uploads/2025/05/IMG_4400.jpeg
END:VEVENT
BEGIN:VEVENT
DTSTART;TZID=Europe/Zurich:20250530T200000
DTEND;TZID=Europe/Zurich:20250531T030000
DTSTAMP:20260423T002244
CREATED:20250525T212904Z
LAST-MODIFIED:20250525T213130Z
UID:10002781-1748635200-1748660400@www.party-insider.com
SUMMARY:Discofox Night in Erdbeermund Singen
DESCRIPTION:Eins Zwei Täp\nEins Zwei Täp.\nHeute wird getanzt im Erdbeermund!!!\nPackt eure Tanschschuhe aus und schwingt mit uns das Tanzbein die ganze nacht zu den heißesten Diskofox Songs.\nNoch Fragen???\nIhr macht euch hübsch\, wir machen euch tanzbar! Garantiert!!!\nGoodies:\n\nGrüße vom Erdbeermund Team\n▀▀▀▀▀▀▀▀▀▀▀▀▀▀▀▀▀▀▀▀▀\nX Music by  DJ MIKA X\nBest Discofox\n▀▀▀▀▀▀▀▀▀▀▀▀▀▀▀▀▀▀▀▀▀\nmore info\n►► Eintritt: 9\,00 EUR\n►► ab 21 Jahren\n►► Öffnungszeiten 20:00 – 3:00 Uhr\n►► Reservierungen: https://www.erdbeermund-singen.de
URL:https://www.party-insider.com/event/discofox-night-im-erdbeermund-singen-3/
LOCATION:Erdbeermund Singen\, Otto-Hahn-Str. 5\, Singen (Hohentwiel)\, 78224\, Germany
CATEGORIES:Erdbeermund
ATTACH;FMTTYPE=image/png:https://www.party-insider.com/wp-content/uploads/2025/05/IMG_2025-05-25-232509.png
END:VEVENT
BEGIN:VEVENT
DTSTART;TZID=Europe/Zurich:20250530T210000
DTEND;TZID=Europe/Zurich:20250531T030000
DTSTAMP:20260423T002245
CREATED:20250523T055036Z
LAST-MODIFIED:20250523T055036Z
UID:10001269-1748638800-1748660400@www.party-insider.com
SUMMARY:House Beat Grooves im GenX Konstanz
DESCRIPTION:
URL:https://www.party-insider.com/event/disco-party-im-genx-konstanz-3-8/
LOCATION:Poly Club Konstanz\, Maybachstraße 8\, Konstanz\, 78467\, Germany
CATEGORIES:Poly Club Konstanz
ATTACH;FMTTYPE=image/jpeg:https://www.party-insider.com/wp-content/uploads/2025/03/IMG_4224.jpeg
END:VEVENT
BEGIN:VEVENT
DTSTART;TZID=Europe/Zurich:20250530T213000
DTEND;TZID=Europe/Zurich:20250531T050000
DTSTAMP:20260423T002245
CREATED:20250527T212734Z
LAST-MODIFIED:20250527T212915Z
UID:10002791-1748640600-1748667600@www.party-insider.com
SUMMARY:Thirtylicious - Tanzen ab 30 im Salzhaus Winterthur
DESCRIPTION:Es ist die Party für alle\, die mit beiden Beinen in Leben stehen – und immer noch tanzen wollen. \nDie Thirtylicious blickt auf eine über 20-jährige Ertolgsgeschichte zurück: Für viele der damals \n30-Jährigen ist die Thirtylicious eine Konstante im Leben. Der letzte Freitag im Monat. Immer dick im Kalender eingetragen\, über 200 Partys seit über 20 Jahren. \nDie Party ist stets gewachsen und wächst noch immer. Monat für Monat knallen an der Thirtylicious die Korken und alle Lieblingshits aus den guten alten Zeiten bis heute aus den Boxen. \nAuf die Früheintreffenden wartet ein offeriertes \nCüpli. \nDiesmal mit DJ Adrinardi & DJ Esteban. \nIn Zusammenarbeit mit Radio Top.
URL:https://www.party-insider.com/event/thirtylicious-tanzen-ab-30-im-salzhaus-winterthur-3/
ATTACH;FMTTYPE=image/jpeg:https://www.party-insider.com/wp-content/uploads/2025/05/IMG_1339.jpeg
END:VEVENT
BEGIN:VEVENT
DTSTART;TZID=Europe/Zurich:20250530T220000
DTEND;TZID=Europe/Zurich:20250531T010000
DTSTAMP:20260423T002245
CREATED:20250526T215824Z
LAST-MODIFIED:20250526T215910Z
UID:10002227-1748642400-1748653200@www.party-insider.com
SUMMARY:Club Time in Peggys Frauenfeld
DESCRIPTION:
URL:https://www.party-insider.com/event/club-time-in-peggys-frauenfeld-3/
LOCATION:Peggys Frauenfeld\, Metzgerstrasse 1\, Frauenfeld\, 8500\, Switzerland
CATEGORIES:Peggy
ATTACH;FMTTYPE=image/png:https://www.party-insider.com/wp-content/uploads/2025/05/IMG_2025-05-26-235750.png
END:VEVENT
BEGIN:VEVENT
DTSTART;TZID=Europe/Zurich:20250530T220000
DTEND;TZID=Europe/Zurich:20250531T030000
DTSTAMP:20260423T002245
CREATED:20250508T213924Z
LAST-MODIFIED:20250508T213924Z
UID:10001927-1748642400-1748660400@www.party-insider.com
SUMMARY:Breathless im Zum Löwen Kreuzlingen
DESCRIPTION:
URL:https://www.party-insider.com/event/breathless-im-zum-loewen-kreuzlingen-3/
ATTACH;FMTTYPE=image/png:https://www.party-insider.com/wp-content/uploads/2025/05/IMG_2025-05-08-233820.png
END:VEVENT
BEGIN:VEVENT
DTSTART;TZID=Europe/Zurich:20250530T220000
DTEND;TZID=Europe/Zurich:20250531T030000
DTSTAMP:20260423T002245
CREATED:20250528T093832Z
LAST-MODIFIED:20250528T095721Z
UID:10002796-1748642400-1748660400@www.party-insider.com
SUMMARY:Captians Call in Nelson Winterthur
DESCRIPTION:CAPTAIN’S CALL WEEKEND @ \nNELSON \nTechnikumstrasse 73 • 8400 Winterthur \nFREE ENTRY | BEER FIRST – QUESTIONS LATER \n• Freitag\, 30.05.2025 \nAb 16:00 geöffnet – Feierabendbier\, gute Vibes und ab \n22:00 \nOpen Format Sound by DJ STAN @dj_stan_ \n• Samstag\, 31.05.2025 \nAb 16:00 am Start – der Captain ruft zur zweiten Runde! \nDJ HENRY DELUXE übernimmt ab 22:00 mit einem Mix\, der dich nicht stillstehen lässt! \n* Gute Drinks\, laute Beats und legendäre Stimmung garantiert. \nBring deine Crew mit
URL:https://www.party-insider.com/event/captians-call-in-nelson-winterthur/
ATTACH;FMTTYPE=image/jpeg:https://www.party-insider.com/wp-content/uploads/2025/05/IMG_4471.jpeg
END:VEVENT
BEGIN:VEVENT
DTSTART;TZID=Europe/Zurich:20250530T220000
DTEND;TZID=Europe/Zurich:20250531T040000
DTSTAMP:20260423T002245
CREATED:20250525T204055Z
LAST-MODIFIED:20250525T204158Z
UID:10002776-1748642400-1748664000@www.party-insider.com
SUMMARY:Nacht Seminar in Bolero Winterthur
DESCRIPTION:
URL:https://www.party-insider.com/event/nacht-seminar-im-bolero-winterthur-5/
LOCATION:Bolero Winterthur\, Vogelsangstrasse 10\, Winterthur\, 8400\, Switzerland
CATEGORIES:Bolero
ATTACH;FMTTYPE=image/jpeg:https://www.party-insider.com/wp-content/uploads/2025/05/IMG_4327.jpeg
END:VEVENT
BEGIN:VEVENT
DTSTART;TZID=Europe/Zurich:20250530T220000
DTEND;TZID=Europe/Zurich:20250531T040000
DTSTAMP:20260423T002245
CREATED:20250525T211058Z
LAST-MODIFIED:20250525T211352Z
UID:10002779-1748642400-1748664000@www.party-insider.com
SUMMARY:F*** it’s my Birthday im Top10 Singen
DESCRIPTION:F*** it’s my Birthday! Feier mit deinen Freunden deinen Geburtstag im Top10 Singen! \nDu hattest im Mai Geburtstag? Dann checke bis 23 Uhr ein und erhalte freien Eintritt und folgendes: \nU18: Eine Flasche Sekt \nÜ18: Eine Fl. 0\,5l 9Mile Vodka inkl. 1l Beigetränk \nVerpasse dieses Highlight auf keinen Fall und starte so richtig ins Wochenende! \n✪ MAINHALL✪ \nDJ JAYLU // Mixed Music \nRESERVIERUNGEN: \nDirekt über unsere Homepage – www.top10-singen.de \n★★★★★★★★★★★★★★★★★ \nEINLASS AB 16 JAHREN (in Verbindung mit u18 Formular) \nDRESS TO IMPRESS \nÖffnungszeiten 22:00 – 4:00 Uhr \nEintritt: Abendkasse 8€ \n★★★★★★★★★★★★★★★★★
URL:https://www.party-insider.com/event/f-its-my-birthday-im-top10-singen-2/
LOCATION:TOP10 Singen\, Otto-Hahn-Str. 5\, Singen (Hohentwiel)\, 78224\, Germany
CATEGORIES:Top10
ATTACH;FMTTYPE=image/png:https://www.party-insider.com/wp-content/uploads/2025/05/IMG_4330.png
END:VEVENT
BEGIN:VEVENT
DTSTART;TZID=Europe/Zurich:20250530T220000
DTEND;TZID=Europe/Zurich:20250531T050000
DTSTAMP:20260423T002245
CREATED:20250525T200618Z
LAST-MODIFIED:20250525T200723Z
UID:10002772-1748642400-1748667600@www.party-insider.com
SUMMARY:💄 GLAMOUR LADIES NIGHT SPECIAL💄 im Grey Konstanz
DESCRIPTION:20 EURO FREIVERZEHR FÜR LADIES! \n✨ LADIES\, IT’S YOUR NIGHT AGAIN! ✨\nDie GLAMOUR LADIEs NIGHT ist wieder am Start! 💃✨\n💎 SPECIAL HIGHLIGHT 💎\nGewinne eine Fahrt in einer Hummer Stretchlimo für Dich und Deine besten Mädels – stilvoller kannst Du nicht ins Grey fahren! 🚖💎\n🎉 So einfach geht’s:\nFüll einen Teilnahmezettel aus und gib ihn bis zum 25.04.25 bei uns ab. Teilnahme nur für Ladies! 😘\n👑 Wichtig: Am 30.05.25 musst Du dabei sein\, um zu erfahren\, ob Du gewonnen hast – der Gewinn ist nur mit Deiner Anwesenheit möglich!\n🌟 EXTRA MEGA SPECIAL HEUTE\nIm Club 2 erwartet Euch exklusiv eine heiße MEN-STRIP-SHOW – nur für unsere Ladies! 😏🔥\n🎁 Noch mehr Goodies:\n– 20 € Freiverzehr für alle Ladies\, die es vor Mitternacht zu uns in den Club schaffen!\n– Freier Eintritt bis 23 Uhr!\n– Party auf 4 Floors – die ganze Nacht!** 💃🕺\nSchnapp Dir Deine Mädels und schmeiße Dich in Dein bestes Outfit – heute Abend gehört die Party ganz Euch! 💄✨\n📍 Grey Konstanz\n⏰ Doors Open: 22:00\n💃 LET’S MAKE IT A NIGHT TO REMEMBER! 💃\n___\n🔥 _Markiere Deine Mädels und lasst uns gemeinsam die Nacht unvergesslich machen!_ 🔥
URL:https://www.party-insider.com/event/%f0%9f%92%84-glamour-ladies-night-special%f0%9f%92%84-im-grey-konstanz/
LOCATION:Grey Konstanz\, Max-Stromeyerstr. 33\, Konstanz\, 78467\, Germany
CATEGORIES:Grey
ATTACH;FMTTYPE=image/jpeg:https://www.party-insider.com/wp-content/uploads/2025/05/IMG_2025-05-25-220444.jpeg
END:VEVENT
END:VCALENDAR