BEGIN:VCALENDAR
VERSION:2.0
PRODID:-//Party-Insider - ECPv6.14.2//NONSGML v1.0//EN
CALSCALE:GREGORIAN
METHOD:PUBLISH
X-WR-CALNAME:Party-Insider
X-ORIGINAL-URL:https://www.party-insider.com
X-WR-CALDESC:Veranstaltungen im Party-Insider
REFRESH-INTERVAL;VALUE=DURATION:PT1H
X-Robots-Tag:noindex
X-PUBLISHED-TTL:PT1H
BEGIN:VTIMEZONE
TZID:Europe/Zurich
BEGIN:DAYLIGHT
TZOFFSETFROM:+0100
TZOFFSETTO:+0200
TZNAME:CEST
DTSTART:20250330T010000
END:DAYLIGHT
BEGIN:STANDARD
TZOFFSETFROM:+0200
TZOFFSETTO:+0100
TZNAME:CET
DTSTART:20251026T010000
END:STANDARD
END:VTIMEZONE
BEGIN:VEVENT
DTSTART;TZID=Europe/Zurich:20250601T120000
DTEND;TZID=Europe/Zurich:20250601T220000
DTSTAMP:20260423T002120
CREATED:20250527T055933Z
LAST-MODIFIED:20250527T060007Z
UID:10002788-1748779200-1748815200@www.party-insider.com
SUMMARY:Beach Day Party in Seeliebe Sipplingen
DESCRIPTION:WIR FREUEN UNS AUF EUCH!
URL:https://www.party-insider.com/event/beach-day-party-in-seeliebe-sipplingen/
ATTACH;FMTTYPE=image/jpeg:https://www.party-insider.com/wp-content/uploads/2025/05/IMG_4402.jpeg
END:VEVENT
END:VCALENDAR