BEGIN:VCALENDAR
VERSION:2.0
PRODID:-//Party-Insider - ECPv6.14.2//NONSGML v1.0//EN
CALSCALE:GREGORIAN
METHOD:PUBLISH
X-WR-CALNAME:Party-Insider
X-ORIGINAL-URL:https://www.party-insider.com
X-WR-CALDESC:Veranstaltungen im Party-Insider
REFRESH-INTERVAL;VALUE=DURATION:PT1H
X-Robots-Tag:noindex
X-PUBLISHED-TTL:PT1H
BEGIN:VTIMEZONE
TZID:Europe/Zurich
BEGIN:DAYLIGHT
TZOFFSETFROM:+0100
TZOFFSETTO:+0200
TZNAME:CEST
DTSTART:20250330T010000
END:DAYLIGHT
BEGIN:STANDARD
TZOFFSETFROM:+0200
TZOFFSETTO:+0100
TZNAME:CET
DTSTART:20251026T010000
END:STANDARD
END:VTIMEZONE
BEGIN:VEVENT
DTSTART;TZID=Europe/Zurich:20250609T160000
DTEND;TZID=Europe/Zurich:20250609T160000
DTSTAMP:20260422T213430
CREATED:20250606T234703Z
LAST-MODIFIED:20250606T234703Z
UID:10003904-1749484800-1749484800@www.party-insider.com
SUMMARY:SUN.DAY.LAKE.MUSIC in US-MEX Terraza Kreuzlingen
DESCRIPTION:Pfingstmontag = Kurzurlaub \nAb 16.00 Uhr verwöhnt euch Rich mit chilligen elektronischen Beats – direkt am Wasser\, unter freiem Himmel. SUN.DAY.LAKE.MUSIC ist dein Soundtrack für entspannte Feiertagsvibes. Komm vorbei\, geniess den Tag und lass die Seele baumeln. \nNur bei schönem Wetter. Eintritt frei. Mehr unter \nwww.2bevents.ch \n#usmexsummer #usmexterraza #strandbar #kreuzlingen #bodensee #thurgau #enjoysummer #sun #sunshine #beachbar #nevermissasunset #summer #sommer #sunday #music #dj #lake #daydance #house #electronic #sundayvibes
URL:https://www.party-insider.com/event/sun-day-lake-music-in-us-mex-terraza-kreuzlingen/
LOCATION:US-MEX Terraza Kreuzlingen\, Seestrasse 11B.2 / Seeufer West\, Kreuzlingen\, 8280\, Switzerland
CATEGORIES:US-MEX Terraza Kreuzlingen
ATTACH;FMTTYPE=image/png:https://www.party-insider.com/wp-content/uploads/2025/06/IMG_2025-06-07-014442.png
END:VEVENT
END:VCALENDAR