BEGIN:VCALENDAR
VERSION:2.0
PRODID:-//Party-Insider - ECPv6.14.2//NONSGML v1.0//EN
CALSCALE:GREGORIAN
METHOD:PUBLISH
X-ORIGINAL-URL:https://www.party-insider.com
X-WR-CALDESC:Veranstaltungen im Party-Insider
REFRESH-INTERVAL;VALUE=DURATION:PT1H
X-Robots-Tag:noindex
X-PUBLISHED-TTL:PT1H
BEGIN:VTIMEZONE
TZID:Europe/Zurich
BEGIN:DAYLIGHT
TZOFFSETFROM:+0100
TZOFFSETTO:+0200
TZNAME:CEST
DTSTART:20250330T010000
END:DAYLIGHT
BEGIN:STANDARD
TZOFFSETFROM:+0200
TZOFFSETTO:+0100
TZNAME:CET
DTSTART:20251026T010000
END:STANDARD
END:VTIMEZONE
BEGIN:VEVENT
DTSTART;VALUE=DATE:20250612
DTEND;VALUE=DATE:20250617
DTSTAMP:20260422T230541
CREATED:20250611T143618Z
LAST-MODIFIED:20250611T143618Z
UID:10003933-1749708000-1750053599@www.party-insider.com
SUMMARY:Sail & Sound - Konstanz Hafen
DESCRIPTION:
URL:https://www.party-insider.com/event/sail-sound-konstanz-hafen/
ATTACH;FMTTYPE=image/jpeg:https://www.party-insider.com/wp-content/uploads/2025/06/9B44C520-B780-4C5F-B518-DE5A33C8FB36.jpeg
END:VEVENT
BEGIN:VEVENT
DTSTART;TZID=Europe/Zurich:20250612T170000
DTEND;TZID=Europe/Zurich:20250612T170000
DTSTAMP:20260422T230541
CREATED:20250402T043915Z
LAST-MODIFIED:20260422T173806Z
UID:10001542-1749747600-1749747600@www.party-insider.com
SUMMARY:After Work - Peggys Frauenfeld
DESCRIPTION:
URL:https://www.party-insider.com/event/after-work-im-peggys-frauenfeld/2025-06-12/
LOCATION:Peggys Frauenfeld\, Metzgerstrasse 1\, Frauenfeld\, 8500\, Switzerland
CATEGORIES:Peggy
ATTACH;FMTTYPE=image/jpeg:https://www.party-insider.com/wp-content/uploads/2025/04/IMG_6453.jpeg
END:VEVENT
BEGIN:VEVENT
DTSTART;TZID=Europe/Zurich:20250612T180000
DTEND;TZID=Europe/Zurich:20250612T180000
DTSTAMP:20260422T230541
CREATED:20250609T121828Z
LAST-MODIFIED:20250609T121828Z
UID:10003910-1749751200-1749751200@www.party-insider.com
SUMMARY:Lounge Beats in Hafenlounge Romanshorn
DESCRIPTION:Der Sommer ist da Gönn dir einen Sommerabend mit chilligen Summer Beats am Donnerstag Abend mit Robin Replay. \n#loungebeats #sommernächte #housemusic #chillouttime #enjoysummer #immerwiederdonnerstags #bodenseeliebe
URL:https://www.party-insider.com/event/lounge-beats-in-hafenlounge-romanshorn/
ATTACH;FMTTYPE=image/png:https://www.party-insider.com/wp-content/uploads/2025/06/IMG_2025-06-09-141558.png
END:VEVENT
END:VCALENDAR