BEGIN:VCALENDAR
VERSION:2.0
PRODID:-//Party-Insider - ECPv6.14.2//NONSGML v1.0//EN
CALSCALE:GREGORIAN
METHOD:PUBLISH
X-WR-CALNAME:Party-Insider
X-ORIGINAL-URL:https://www.party-insider.com
X-WR-CALDESC:Veranstaltungen im Party-Insider
REFRESH-INTERVAL;VALUE=DURATION:PT1H
X-Robots-Tag:noindex
X-PUBLISHED-TTL:PT1H
BEGIN:VTIMEZONE
TZID:Europe/Zurich
BEGIN:DAYLIGHT
TZOFFSETFROM:+0100
TZOFFSETTO:+0200
TZNAME:CEST
DTSTART:20250330T010000
END:DAYLIGHT
BEGIN:STANDARD
TZOFFSETFROM:+0200
TZOFFSETTO:+0100
TZNAME:CET
DTSTART:20251026T010000
END:STANDARD
END:VTIMEZONE
BEGIN:VEVENT
DTSTART;VALUE=DATE:20250612
DTEND;VALUE=DATE:20250617
DTSTAMP:20260422T213438
CREATED:20250611T143618Z
LAST-MODIFIED:20250611T143618Z
UID:10003933-1749708000-1750053599@www.party-insider.com
SUMMARY:Sail & Sound - Konstanz Hafen
DESCRIPTION:
URL:https://www.party-insider.com/event/sail-sound-konstanz-hafen/
ATTACH;FMTTYPE=image/jpeg:https://www.party-insider.com/wp-content/uploads/2025/06/9B44C520-B780-4C5F-B518-DE5A33C8FB36.jpeg
END:VEVENT
BEGIN:VEVENT
DTSTART;VALUE=DATE:20250613
DTEND;VALUE=DATE:20250616
DTSTAMP:20260422T213438
CREATED:20250313T230830Z
LAST-MODIFIED:20250313T230830Z
UID:10000411-1749794400-1749967199@www.party-insider.com
SUMMARY:Krach am Bach 25 Jahre in Tägerwilen
DESCRIPTION:25 Jahre Openair Krach am \nFeier mit uns das Krach am Bach Jubiläum – mit noch mehr Spiel\, Spass und Musik! \n13. & 14. Juni 2025 \nSeerheinbadi Tägerwilen \nFreu dich auf unvergessliche Festivalmomente – save the date! \n#festival #music #25jahre #KaB #openair
URL:https://www.party-insider.com/event/krach-am-bach-25-jahre-in-taegerwilen/
ATTACH;FMTTYPE=image/jpeg:https://www.party-insider.com/wp-content/uploads/2025/03/IMG_1007.jpeg
END:VEVENT
BEGIN:VEVENT
DTSTART;VALUE=DATE:20250613
DTEND;VALUE=DATE:20250616
DTSTAMP:20260422T213438
CREATED:20250605T154851Z
LAST-MODIFIED:20250605T154851Z
UID:10003620-1749794400-1749967199@www.party-insider.com
SUMMARY:Lindli Fäscht in Schaffhausen
DESCRIPTION:
URL:https://www.party-insider.com/event/lindli-faescht-in-schaffhausen/
ATTACH;FMTTYPE=image/png:https://www.party-insider.com/wp-content/uploads/2025/06/IMG_2025-06-05-160441-1.png
END:VEVENT
BEGIN:VEVENT
DTSTART;VALUE=DATE:20250613
DTEND;VALUE=DATE:20250617
DTSTAMP:20260422T213438
CREATED:20250609T183924Z
LAST-MODIFIED:20250609T184044Z
UID:10003919-1749794400-1750053599@www.party-insider.com
SUMMARY:STREETART FESTIVAL FRAUENFELD - US-MEX Terraza Frauenfeld
DESCRIPTION:DIE US-MEX TERRAZA LÄSST SICH VON DER\nKREATIVITÄT DER STREETART ARTISTS INSPIRIEREN.\nDas Plätschern der Murg wird am Freitag ab 18 Uhr\, am Samstag und Sonntag ab 15 Uhr durch elektronische Musik von lokalen DJs verstärkt. \n\n\nFr\, 13.06.25\, ab 18 Uhr: Simon di Mella\nSa\, 14.06.25\, ab 15 Uhr: Gua\nSo\, 15.06.25\, ab 15 Uhr: Phil Z\nSo\, 15.06.25\, ab 18.30 Uhr: Dualize\n\n\nUS-MEX Terraza Frauenfeld | Zürcherstrasse 148\nwww.usmex-terraza.ch
URL:https://www.party-insider.com/event/streetart-festival-frauenfeld-us-mex-terraza-frauenfeld/
ATTACH;FMTTYPE=image/jpeg:https://www.party-insider.com/wp-content/uploads/2025/06/IMG_5192.jpeg
END:VEVENT
BEGIN:VEVENT
DTSTART;TZID=Europe/Zurich:20250613T210000
DTEND;TZID=Europe/Zurich:20250614T040000
DTSTAMP:20260422T213438
CREATED:20250601T105211Z
LAST-MODIFIED:20250601T105211Z
UID:10003334-1749848400-1749873600@www.party-insider.com
SUMMARY:Tanznacht40 im Bolero Winterthur
DESCRIPTION:
URL:https://www.party-insider.com/event/tanznacht40-im-bolero-winterthur-5/
LOCATION:Bolero Winterthur\, Vogelsangstrasse 10\, Winterthur\, 8400\, Switzerland
CATEGORIES:Bolero
ATTACH;FMTTYPE=image/jpeg:https://www.party-insider.com/wp-content/uploads/2025/06/IMG_4789.jpeg
END:VEVENT
BEGIN:VEVENT
DTSTART;TZID=Europe/Zurich:20250613T210000
DTEND;TZID=Europe/Zurich:20250614T050000
DTSTAMP:20260422T213438
CREATED:20250607T160135Z
LAST-MODIFIED:20250607T161027Z
UID:10003905-1749848400-1749877200@www.party-insider.com
SUMMARY:CLUBNIGHT mit DJ PandaX im GenX Konstanz
DESCRIPTION:🎉 CLUBNIGHT – Remix 80er 90er bis heute mit DJ PandaX 🎉\n📍 Club GenX\, Konstanz | 📅 Freitag\, 13. Juni 2025 | 🕘 Start: 21:00 Uhr \nDJ PandaX bringt dir die größten Hits der 80er\, 90er bis heute – komplett neu\, fett gemixt und clubtauglich verpackt.\nErlebe eine Nacht voller Remixe und Dance-Versionen legendärer Klassiker\, gepaart mit modernen Clubbeats von heute. \n💃 Tanzen\, feiern\, mitsingen – CLUBNIGHT \n📍 Club GenX – Maybachstraße 8\, 78467 Konstanz \n⸻ \n🔗 DJ PandaX online:\n🎥 YouTube: youtube.com/@DJ.PandaX\n📸 Instagram: instagram.com/dj.pandax\n📘 Facebook: facebook.com/pandax.ch\n📼 Livestream-Aufnahmen: djpandax.ch/aufnahmen\n🎮 Twitch: twitch.tv/DJPandaxLive\n💬 WhatsApp Community: Jetzt beitreten\n📱 TikTok: https://www.tiktok.com/@dj.pandax?_t=ZN-8x0abT7II9W&_r=1 \n⸻ \n80er 90er bis heute Heute. Alles in einem Sound vereint – und der Club vibriert.\n#ClubNight #Remix #DJpandaX #GenXKonstanz
URL:https://www.party-insider.com/event/clubnight-mit-dj-pandax-im-genx-konstanz/
LOCATION:Poly Club Konstanz\, Maybachstraße 8\, Konstanz\, 78467\, Germany
CATEGORIES:Poly Club Konstanz
ATTACH;FMTTYPE=image/png:https://www.party-insider.com/wp-content/uploads/2025/06/IMG_2025-06-07-180029.png
END:VEVENT
BEGIN:VEVENT
DTSTART;TZID=Europe/Zurich:20250613T220000
DTEND;TZID=Europe/Zurich:20250613T220000
DTSTAMP:20260422T213438
CREATED:20250518T203204Z
LAST-MODIFIED:20260419T171012Z
UID:10002231-1749852000-1749852000@www.party-insider.com
SUMMARY:Club Time - Peggys Frauenfeld
DESCRIPTION:
URL:https://www.party-insider.com/event/club-time-in-peggys-frauenfeld/2025-06-13/
LOCATION:Peggys Frauenfeld\, Metzgerstrasse 1\, Frauenfeld\, 8500\, Switzerland
CATEGORIES:Peggy
ATTACH;FMTTYPE=image/jpeg:https://www.party-insider.com/wp-content/uploads/2025/05/IMG_1341.jpeg
END:VEVENT
BEGIN:VEVENT
DTSTART;TZID=Europe/Zurich:20250613T220000
DTEND;TZID=Europe/Zurich:20250614T040000
DTSTAMP:20260422T213438
CREATED:20250609T180543Z
LAST-MODIFIED:20250609T181215Z
UID:10003915-1749852000-1749873600@www.party-insider.com
SUMMARY:Freitag der 13te! 13 gute Gründe zu feiern in Top10 Singen
DESCRIPTION:Angst vor Freitag dem 13ten? Nicht bei uns! Wir geben euch heute Nacht 13 GUTE Gründe bei uns abzufeiern! \nAngst vor Freitag dem 13ten? Nicht bei uns! Wir geben euch heute Nacht 13 GUTE Gründe bei uns abzufeiern!\nGRUND NR 1:Bis 22.30 gibt es freien Eintritt!\nGRUND NR 2:BOX Challenge! Wer hat den härtesten Schlag bis 0.00 Uhr der Gewinner erhält einen 50 € Getränkegutschein!\nGRUND NR 3:Alle Ladies erhalten bis 23 Uhr einen 10 € Getränkegutschein!\nGRUND NR 4:Sing deinen Favourite Song LIVE! Karaoke Bar im Fiesta!\nGRUND NR 5:Gratis Leuchtarmbänder!\n\nGRUND NR 6:Gratis Sonnenbrillen! (solange der Vorrat reicht)\nGRUND NR 7:FIFA Turnier an der Empfangstheke\, wer holt sich den Cup?\nGRUND NR 8:Konfetti Blast!\nGRUND NR 9:Saltos verschenkt eine 2 Buckets Saltos an die größte Gruppe die bis 24 Uhr eincheckt!\nGRUND NR 10:Douglas verschenkt an die ersten 20 Ladies ein Goodie Bag!\nGRUND NR 11:Um 2.00 Uhr gibt es Pizza Slides for free!\nGRUND NR 12:Ertönt die Sirene gibt es gratis Shots am DJ Pult!\nGRUND NR 13:Jedes Salitos nur 2\,50 € die ganze Nacht!\n✪ MAINHALL ✪DJ UNAM // Mixed Clubsounds\nRESERVIERUNGEN:Direkt über unsere Homepage – www.top10-singen.de\n\n★★★★★★★★★★★★★★★★★EINLASS AB 16 JAHREN (in Verbindung mit U18 Formular)DRESS TO IMPRESSÖffnungszeiten 22:00 – 4:00 UhrEintritt: Abendkasse 8€\n★★★★★★★★★★★★★★★★★\nWir freuen uns auf euch!
URL:https://www.party-insider.com/event/freitag-der-13te-13-gute-gruende-zu-feiern-in-top10-singen/
LOCATION:TOP10 Singen\, Otto-Hahn-Str. 5\, Singen (Hohentwiel)\, 78224\, Germany
CATEGORIES:Top10
ATTACH;FMTTYPE=image/png:https://www.party-insider.com/wp-content/uploads/2025/06/IMG_5186.png
END:VEVENT
BEGIN:VEVENT
DTSTART;TZID=Europe/Zurich:20250613T220000
DTEND;TZID=Europe/Zurich:20250614T040000
DTSTAMP:20260422T213438
CREATED:20250609T182711Z
LAST-MODIFIED:20250609T182917Z
UID:10003917-1749852000-1749873600@www.party-insider.com
SUMMARY:Weil ich ein Mädchen bin in Erdbeermund Singen
DESCRIPTION:Weil ich ein Mädchen bin!!! \nWei ich ein Mädchen bin ist…\nEine säuft. Eine heult. Eine kichert irre vor sich hin.\nZwei rennen schreiend durch den Club.\nEine steht beim DJ und macht sich über den Rest der Truppe lustig…\n\nFrauen haben die ganze Nacht freien Eintritt.\n\nUnsere Getränkeaktionen:\njede 3er Gruppe Frauen erhält eine Falsche Sekt gratis\n\nGrüße vom Erdbeermund Team\n▀▀▀▀▀▀▀▀▀▀▀▀▀▀▀▀▀▀▀▀▀\nX Music by DJ Padi X\nBest of Mainstream\, Latino und Partyhits\n▀▀▀▀▀▀▀▀▀▀▀▀▀▀▀▀▀▀▀▀▀\nmore info\n►► Eintritt: 8\,00 EUR\n►► ab 21 Jahren\n►► Öffnungszeiten 22:00 – 4:00 Uhr\n►► Reservierungen: https://www.erdbeermund-singen.de
URL:https://www.party-insider.com/event/weil-ich-ein-maedchen-bin-in-erdbeermund-singen-2/
LOCATION:Erdbeermund Singen\, Otto-Hahn-Str. 5\, Singen (Hohentwiel)\, 78224\, Germany
CATEGORIES:Erdbeermund
ATTACH;FMTTYPE=image/png:https://www.party-insider.com/wp-content/uploads/2025/06/IMG_2025-06-09-202440.png
END:VEVENT
BEGIN:VEVENT
DTSTART;TZID=Europe/Zurich:20250613T220000
DTEND;TZID=Europe/Zurich:20250614T050000
DTSTAMP:20260422T213438
CREATED:20250609T173924Z
LAST-MODIFIED:20250609T173924Z
UID:10003912-1749852000-1749877200@www.party-insider.com
SUMMARY:💄LADIES NIGHT💄 im Grey Konstanz
DESCRIPTION:💄LADIES NIGHT💄 \n20 EURO FREIVERZEHR FÜR LADIES! \n❤️ Und sie feiern wieder in ihrem Lieblingsclub ❤️ \n🔆 Mädelsabend…\n🔆 Ladies Night…\n🔆 Queensclub… \n❣️Specials:\nLadies erhalten bis 00:00Uhr 20€ Getränkefreiverzehr\n(gültig die ganze Nacht) \n❌❌❌ EINTRITT FREI BIS 23 UHR FÜR ALLE ❌❌❌\ndie Ladies sind heute Abend wieder im größten Club am Bodensee zum feiern unterwegs.\nFeier mit uns DEIN WOCHENENDE auf 🔴 FÜNF MUSIKBEREICHEN 🔴! \n# Lounge Reservierung unter:\nhttp://www.greyclub.de
URL:https://www.party-insider.com/event/%f0%9f%92%84ladies-night%f0%9f%92%84-im-grey-konstanz-8/
LOCATION:Grey Konstanz\, Max-Stromeyerstr. 33\, Konstanz\, 78467\, Germany
CATEGORIES:Grey
ATTACH;FMTTYPE=image/jpeg:https://www.party-insider.com/wp-content/uploads/2025/05/IMG_2997.jpeg
END:VEVENT
END:VCALENDAR