BEGIN:VCALENDAR
VERSION:2.0
PRODID:-//Party-Insider - ECPv6.14.2//NONSGML v1.0//EN
CALSCALE:GREGORIAN
METHOD:PUBLISH
X-ORIGINAL-URL:https://www.party-insider.com
X-WR-CALDESC:Veranstaltungen im Party-Insider
REFRESH-INTERVAL;VALUE=DURATION:PT1H
X-Robots-Tag:noindex
X-PUBLISHED-TTL:PT1H
BEGIN:VTIMEZONE
TZID:Europe/Zurich
BEGIN:DAYLIGHT
TZOFFSETFROM:+0100
TZOFFSETTO:+0200
TZNAME:CEST
DTSTART:20250330T010000
END:DAYLIGHT
BEGIN:STANDARD
TZOFFSETFROM:+0200
TZOFFSETTO:+0100
TZNAME:CET
DTSTART:20251026T010000
END:STANDARD
END:VTIMEZONE
BEGIN:VEVENT
DTSTART;VALUE=DATE:20250612
DTEND;VALUE=DATE:20250617
DTSTAMP:20260422T230542
CREATED:20250611T143618Z
LAST-MODIFIED:20250611T143618Z
UID:10003933-1749708000-1750053599@www.party-insider.com
SUMMARY:Sail & Sound - Konstanz Hafen
DESCRIPTION:
URL:https://www.party-insider.com/event/sail-sound-konstanz-hafen/
ATTACH;FMTTYPE=image/jpeg:https://www.party-insider.com/wp-content/uploads/2025/06/9B44C520-B780-4C5F-B518-DE5A33C8FB36.jpeg
END:VEVENT
BEGIN:VEVENT
DTSTART;VALUE=DATE:20250613
DTEND;VALUE=DATE:20250617
DTSTAMP:20260422T230542
CREATED:20250609T183924Z
LAST-MODIFIED:20250609T184044Z
UID:10003919-1749794400-1750053599@www.party-insider.com
SUMMARY:STREETART FESTIVAL FRAUENFELD - US-MEX Terraza Frauenfeld
DESCRIPTION:DIE US-MEX TERRAZA LÄSST SICH VON DER\nKREATIVITÄT DER STREETART ARTISTS INSPIRIEREN.\nDas Plätschern der Murg wird am Freitag ab 18 Uhr\, am Samstag und Sonntag ab 15 Uhr durch elektronische Musik von lokalen DJs verstärkt. \n\n\nFr\, 13.06.25\, ab 18 Uhr: Simon di Mella\nSa\, 14.06.25\, ab 15 Uhr: Gua\nSo\, 15.06.25\, ab 15 Uhr: Phil Z\nSo\, 15.06.25\, ab 18.30 Uhr: Dualize\n\n\nUS-MEX Terraza Frauenfeld | Zürcherstrasse 148\nwww.usmex-terraza.ch
URL:https://www.party-insider.com/event/streetart-festival-frauenfeld-us-mex-terraza-frauenfeld/
ATTACH;FMTTYPE=image/jpeg:https://www.party-insider.com/wp-content/uploads/2025/06/IMG_5192.jpeg
END:VEVENT
BEGIN:VEVENT
DTSTART;TZID=Europe/Zurich:20250615T140000
DTEND;TZID=Europe/Zurich:20250615T140000
DTSTAMP:20260422T230542
CREATED:20250610T163839Z
LAST-MODIFIED:20250610T225512Z
UID:10003926-1749996000-1749996000@www.party-insider.com
SUMMARY:SUN.DAY.LAKE.MUSIC in US-MEX Terraza Kreuzlingen
DESCRIPTION:SUN.DAY.LAKE.MUSIC in Kreuzlingen: Sonnenschein\, entspannte Beats und Urlaubsfeeling mit George Lamell & Cris P. Chillige Vibes\, erfrischende Drinks und beste Stimmung am See.
URL:https://www.party-insider.com/event/sun-day-lake-music-in-us-mex-terraza-kreuzlingen-2/
LOCATION:US-MEX Terraza Kreuzlingen\, Seestrasse 11B.2 / Seeufer West\, Kreuzlingen\, 8280\, Switzerland
CATEGORIES:US-MEX Terraza Kreuzlingen
ATTACH;FMTTYPE=image/png:https://www.party-insider.com/wp-content/uploads/2025/06/IMG_2025-06-10-183636.png
END:VEVENT
END:VCALENDAR