BEGIN:VCALENDAR
VERSION:2.0
PRODID:-//Party-Insider - ECPv6.14.2//NONSGML v1.0//EN
CALSCALE:GREGORIAN
METHOD:PUBLISH
X-ORIGINAL-URL:https://www.party-insider.com
X-WR-CALDESC:Veranstaltungen im Party-Insider
REFRESH-INTERVAL;VALUE=DURATION:PT1H
X-Robots-Tag:noindex
X-PUBLISHED-TTL:PT1H
BEGIN:VTIMEZONE
TZID:Europe/Zurich
BEGIN:DAYLIGHT
TZOFFSETFROM:+0100
TZOFFSETTO:+0200
TZNAME:CEST
DTSTART:20250330T010000
END:DAYLIGHT
BEGIN:STANDARD
TZOFFSETFROM:+0200
TZOFFSETTO:+0100
TZNAME:CET
DTSTART:20251026T010000
END:STANDARD
END:VTIMEZONE
BEGIN:VEVENT
DTSTART;TZID=Europe/Zurich:20250625T200000
DTEND;TZID=Europe/Zurich:20250625T230000
DTSTAMP:20260422T161747
CREATED:20250625T075841Z
LAST-MODIFIED:20250625T075913Z
UID:10003987-1750881600-1750892400@www.party-insider.com
SUMMARY:HTWG Sommerfest - Strandbar Konstanz
DESCRIPTION:
URL:https://www.party-insider.com/event/htwg-sommerfest-strandbar-konstanz/
ATTACH;FMTTYPE=image/png:https://www.party-insider.com/wp-content/uploads/2025/06/IMG_2025-06-25-095640.png
END:VEVENT
END:VCALENDAR