BEGIN:VCALENDAR
VERSION:2.0
PRODID:-//Party-Insider - ECPv6.14.2//NONSGML v1.0//EN
CALSCALE:GREGORIAN
METHOD:PUBLISH
X-ORIGINAL-URL:https://www.party-insider.com
X-WR-CALDESC:Veranstaltungen im Party-Insider
REFRESH-INTERVAL;VALUE=DURATION:PT1H
X-Robots-Tag:noindex
X-PUBLISHED-TTL:PT1H
BEGIN:VTIMEZONE
TZID:Europe/Zurich
BEGIN:DAYLIGHT
TZOFFSETFROM:+0100
TZOFFSETTO:+0200
TZNAME:CEST
DTSTART:20250330T010000
END:DAYLIGHT
BEGIN:STANDARD
TZOFFSETFROM:+0200
TZOFFSETTO:+0100
TZNAME:CET
DTSTART:20251026T010000
END:STANDARD
END:VTIMEZONE
BEGIN:VEVENT
DTSTART;TZID=Europe/Zurich:20250702T170000
DTEND;TZID=Europe/Zurich:20250702T220000
DTSTAMP:20260422T174557
CREATED:20250629T103724Z
LAST-MODIFIED:20250629T104006Z
UID:10004016-1751475600-1751493600@www.party-insider.com
SUMMARY:L’Aperitivo Pane e Amore - Alte Fähre Konstanz
DESCRIPTION:Endlich wieder Aperitivo auf der alten Fähre! \nMittwoch\, 2. Juli\, von 17 bis 22 Uhr – Sommerfeeling pur am Imperiasteg – mit@cuccurupaolo Wir sehen uns auf der Historischen Fähre! \n@bistro_historische_faehre @aperitivoacostanza \n@hafenmeisterei_kn @cuccurupaolo \n#konstanz #konstanzerleben #aperitivo
URL:https://www.party-insider.com/event/laperitivo-pane-e-amore-alte-faehre-konstanz/
LOCATION:Pane E Amore Konstanz\, Brotlaube 1\, Konstanz\, 78462\, Germany
CATEGORIES:Pane E Amore
ATTACH;FMTTYPE=image/png:https://www.party-insider.com/wp-content/uploads/2025/06/IMG_2025-06-29-123444.png
END:VEVENT
END:VCALENDAR