BEGIN:VCALENDAR
VERSION:2.0
PRODID:-//Party-Insider - ECPv6.14.2//NONSGML v1.0//EN
CALSCALE:GREGORIAN
METHOD:PUBLISH
X-ORIGINAL-URL:https://www.party-insider.com
X-WR-CALDESC:Veranstaltungen im Party-Insider
REFRESH-INTERVAL;VALUE=DURATION:PT1H
X-Robots-Tag:noindex
X-PUBLISHED-TTL:PT1H
BEGIN:VTIMEZONE
TZID:Europe/Zurich
BEGIN:DAYLIGHT
TZOFFSETFROM:+0100
TZOFFSETTO:+0200
TZNAME:CEST
DTSTART:20250330T010000
END:DAYLIGHT
BEGIN:STANDARD
TZOFFSETFROM:+0200
TZOFFSETTO:+0100
TZNAME:CET
DTSTART:20251026T010000
END:STANDARD
END:VTIMEZONE
BEGIN:VEVENT
DTSTART;VALUE=DATE:20250704
DTEND;VALUE=DATE:20250707
DTSTAMP:20260422T131617
CREATED:20250528T165904Z
LAST-MODIFIED:20250606T164852Z
UID:10002800-1751608800-1751781599@www.party-insider.com
SUMMARY:Kreuzlinger Weinfest 🍷
DESCRIPTION:Das erste internationale Weinfest in Kreuzlingen\n\n\n4. und 5. Juli 2025\n\n\nErlebe erlesene Weine aus dem Thurgau und der Bodensee-Region – direkt am Hafen von Kreuzlingen. Umgeben vom einzigartigen See-Ambiente geniesse genussvolle Momente und gute Gespräche.
URL:https://www.party-insider.com/event/kreuzlinger-weinfest/
ATTACH;FMTTYPE=image/png:https://www.party-insider.com/wp-content/uploads/2025/05/IMG_2025-05-28-185617.png
END:VEVENT
BEGIN:VEVENT
DTSTART;VALUE=DATE:20250704
DTEND;VALUE=DATE:20250707
DTSTAMP:20260422T131617
CREATED:20250627T112009Z
LAST-MODIFIED:20250627T112044Z
UID:10003998-1751608800-1751781599@www.party-insider.com
SUMMARY:Strassenfestival Amriswil 2025
DESCRIPTION:Am Freitag\, 4. und Samstag\, 5. Juli\, geht in Amriswil zum bereits zwölften Mal die Post ab. Das Organisationskomitee des Strassenfestivals hat auch diesesmal wieder ein abwechslungsreiches Programm auf die Beine gestellt. Headliner ist Remo Forrer\, weitere Top Acts sind unter anderem Nickless oder EAZ. Und das alles bei freiem Eintritt! \nHeitere Stimmung\, gute Musik – und gefühlt ganz Amriswil am Feiern: So kennt man das Strassenfestival\, das seit 1999 alle zwei Jahre die Stadt belebt. Das Dutzend ist voll\, und das Festival wächst weiter. Über 80 Vereine und kommerzielle Anbieter verwandeln die beiden Tage vor den Sommerferien in das grösste Fest der Region. \nAuch das Strassenfestival hat bewegte Jahre hinter sich. Doch dank dem engagierten Organisationskomitee\, den zahlreichen Mitwirkenden und den guten Rahmenbedingungen in unserer Stadt – von der Politik bis zu den Anwohnerinnen und Anwohnern – lebt die Festkultur hier weiter. Mitten in Amriswil. \nDas Strassenfestival beginnt am Freitag\, 4. Juli\, um 17 Uhr. Am Samstag\, 5. Juli\, startet das Programm bereits um 11 Uhr. Besonders am Samstagmittag und -nachmittag erwartet Familien ein spannendes Angebot. Die Bühnen werden an beiden Abenden bis jeweils 2.30 Uhr bespielt. Denn neben den gut 90 Ständen mit abwechslungsreichem Speise- und Getränkeangebot\, sind es vor allem die Künstlerinnen und Künstler\, die den Besuchenden ordentlich einheizen werden. \nSo stehen Acts wie Nickless (Freitag\, 4. Juli\, 22 Uhr\, Mainstage)\, EAZ (Freitag\, 4. Juli\, 0.30 Uhr\, Partystage) oder auch Remo Forrer (Samstag\, 5. Juli\, 22 Uhr\, Mainstage) auf dem Programm. Aufgeteilt sind die Konzerte auf drei Bühnen. Der Mainstage\, der Partystage und der Cultstage.
URL:https://www.party-insider.com/event/strassenfestival-amriswil-2025/
ATTACH;FMTTYPE=image/jpeg:https://www.party-insider.com/wp-content/uploads/2025/06/IMG_6042.jpeg
END:VEVENT
BEGIN:VEVENT
DTSTART;TZID=Europe/Zurich:20250704T180000
DTEND;TZID=Europe/Zurich:20250704T220000
DTSTAMP:20260422T131617
CREATED:20250629T100630Z
LAST-MODIFIED:20250629T100917Z
UID:10004013-1751652000-1751666400@www.party-insider.com
SUMMARY:Lake Music Delicious - US-MEX Terraza Kreuzlingen
DESCRIPTION:
URL:https://www.party-insider.com/event/lake-music-delicious-in-us-mex-terraza-kreuzlingen-3/
LOCATION:US-MEX Terraza Kreuzlingen\, Seestrasse 11B.2 / Seeufer West\, Kreuzlingen\, 8280\, Switzerland
CATEGORIES:US-MEX Terraza Kreuzlingen
ATTACH;FMTTYPE=image/jpeg:https://www.party-insider.com/wp-content/uploads/2025/06/IMG_5891-1.jpeg
END:VEVENT
BEGIN:VEVENT
DTSTART;TZID=Europe/Zurich:20250704T183000
DTEND;TZID=Europe/Zurich:20250704T220000
DTSTAMP:20260422T131617
CREATED:20250606T152622Z
LAST-MODIFIED:20251102T215702Z
UID:10003625-1751653800-1751666400@www.party-insider.com
SUMMARY:Gassenfreitag in Konstanz
DESCRIPTION:Von Mai bis Oktober findet an jedem 1. Freitag des Monats der beliebte Gassenfreitag in der Niederburg Konstanz statt. \nDie Niederburg ist eine der ältesten Orte in Konstanz. Zwischen schmalen\, mittelalterlichen Gassen haben an diesem Freitag Lokale\, Läden und Galerien länger geöffnet. \nVon 18:30 Uhr bis ca. 22:00 Uhr bekommst du hier leckere Snacks\, Essen und Getränke\, kannst das bunte Treiben bestaunen\, den Musikgruppen lauschen\, die an verschiedenen Orten an diesem Abend spielen\, kannst tanzen oder durch die kleinen Flohmärlte schlendern\, die die Bewohner der Niederburg vor ihren Häusern organisieren.
URL:https://www.party-insider.com/event/gassenfreitag-in-konstanz/2025-07-04/
ATTACH;FMTTYPE=image/png:https://www.party-insider.com/wp-content/uploads/2025/06/IMG_2025-06-06-172252.png
END:VEVENT
BEGIN:VEVENT
DTSTART;TZID=Europe/Zurich:20250704T190000
DTEND;TZID=Europe/Zurich:20250704T235900
DTSTAMP:20260422T131617
CREATED:20250626T051532Z
LAST-MODIFIED:20250703T185646Z
UID:10003989-1751655600-1751673540@www.party-insider.com
SUMMARY:Tanz mit uns - Apollo Kreuzlingen
DESCRIPTION:Fr\, 04.07.2025 | 19:00 | \nAPOLLO tanzt: House | Funky Disco | 80s-Pop | Wave \nDie beliebte Dance Night geht in die Sommerrunde. \nUnser Anlass direkt aus dem Herzen des APOLLO für Tanzfreudige\, Rhythmusliebende und alle\, die sich im Beat verlieren möchten. Wenn das Wetter mitspielt öffnen wir unseren Garten für lauschiges Miteinander unter dem Sternenhimmel. Drinnen warten erfrischende Drinks von der Bar und feinste Musik von unseren DJs: \nMarcello Fiorenza @marcello.fiorenza.dj (House | Funky Disco) und Jörg Rudolph @joerg_rudolph (80s-Pop | Wave) \nFr\, 04. Juli | 19:00 \nAbendkasse: Pay what it’s worth
URL:https://www.party-insider.com/event/tanz-mit-uns-apollo-kreuzlingen/
LOCATION:APOLLO Kreuzlingen\, Konstanzerstrasse 32\, Kreuzlingen\, 8280\, Switzerland
CATEGORIES:Apollo
ATTACH;FMTTYPE=image/png:https://www.party-insider.com/wp-content/uploads/2025/06/IMG_2025-06-26-071408.png
END:VEVENT
BEGIN:VEVENT
DTSTART;TZID=Europe/Zurich:20250704T213000
DTEND;TZID=Europe/Zurich:20250705T023000
DTSTAMP:20260422T131617
CREATED:20250602T200047Z
LAST-MODIFIED:20250602T200414Z
UID:10003616-1751664600-1751682600@www.party-insider.com
SUMMARY:WUBA OPEN AIR im Fischerhaus Kreuzlingen
DESCRIPTION:Endlich! Das Fischerhaus verwandelt sich schon bald wieder in die schönste Partylocation. Freut euch auf eine fantastische Kulisse direkt am Bodensee. \nDiesen Sommer starten wir mit Disco-Classics und House-Classics in die OPEN-AIR-Saison. Urs Diethelm und Ralph Grieco prägen seit Jahren die Schweizer Clubkultur. & Sie sind Garanten für erstklassige Partystimmung und erzeugen mit ihren bekannten Disco-und Club-Hits eine einzigartige Atmosphäre auf dem Dancefloor. \nWir freuen uns auf diese coole Kombi! \nWICHTIG: Türöffnung bereits um 21.00 Uhr. Frühes \nErscheinen lohnt sich! \nWeitere Infos: www.wuba.ch \nNutze den Vorverkauf: Dein Vorteil – direkter Einlass. \nJetzt Tickets sicher: Link
URL:https://www.party-insider.com/event/wuba-openair-im-fischerhaus-kreuzlingen/
LOCATION:Fischerhaus Kreuzlingen\, Promenadenstrasse 52\, Kreuzlingen\, 8280
CATEGORIES:Fischerhaus
ATTACH;FMTTYPE=image/jpeg:https://www.party-insider.com/wp-content/uploads/2025/06/IMG_4884.jpeg
END:VEVENT
BEGIN:VEVENT
DTSTART;TZID=Europe/Zurich:20250704T220000
DTEND;TZID=Europe/Zurich:20250704T220000
DTSTAMP:20260422T131617
CREATED:20250518T203204Z
LAST-MODIFIED:20260419T171012Z
UID:10002237-1751666400-1751666400@www.party-insider.com
SUMMARY:Club Time - Peggys Frauenfeld
DESCRIPTION:
URL:https://www.party-insider.com/event/club-time-in-peggys-frauenfeld/2025-07-04/
LOCATION:Peggys Frauenfeld\, Metzgerstrasse 1\, Frauenfeld\, 8500\, Switzerland
CATEGORIES:Peggy
ATTACH;FMTTYPE=image/jpeg:https://www.party-insider.com/wp-content/uploads/2025/05/IMG_1341.jpeg
END:VEVENT
BEGIN:VEVENT
DTSTART;TZID=Europe/Zurich:20250704T220000
DTEND;TZID=Europe/Zurich:20250705T020000
DTSTAMP:20260422T131617
CREATED:20250609T172020Z
LAST-MODIFIED:20250609T172020Z
UID:10003911-1751666400-1751680800@www.party-insider.com
SUMMARY:Campari Party Night im il Boccone Konstanz
DESCRIPTION:Summer Edition mit DJ Paolo
URL:https://www.party-insider.com/event/campari-party-night-im-il-boccone-konstanz-2/
LOCATION:Il Boccone Konstanz\, Bodanstraße 20 - 26\, Konstanz\, 78462
CATEGORIES:il Boccone
ATTACH;FMTTYPE=image/png:https://www.party-insider.com/wp-content/uploads/2025/06/IMG_2025-06-09-191827.png
END:VEVENT
BEGIN:VEVENT
DTSTART;TZID=Europe/Zurich:20250704T220000
DTEND;TZID=Europe/Zurich:20250705T050000
DTSTAMP:20260422T131617
CREATED:20250629T092049Z
LAST-MODIFIED:20250629T092102Z
UID:10004005-1751666400-1751691600@www.party-insider.com
SUMMARY:💄LADIES NIGHT💄 im Grey Konstanz
DESCRIPTION:💄LADIES NIGHT💄 \n20 EURO FREIVERZEHR FÜR LADIES! \n❤️ Und sie feiern wieder in ihrem Lieblingsclub ❤️ \n🔆 Mädelsabend…\n🔆 Ladies Night…\n🔆 Queensclub… \n❣️Specials:\nLadies erhalten bis 00:00Uhr 20€ Getränkefreiverzehr\n(gültig die ganze Nacht) \n❌❌❌ EINTRITT FREI BIS 23 UHR FÜR ALLE ❌❌❌\ndie Ladies sind heute Abend wieder im größten Club am Bodensee zum feiern unterwegs.\nFeier mit uns DEIN WOCHENENDE auf 🔴 FÜNF MUSIKBEREICHEN 🔴! \n# Lounge Reservierung unter:\nhttp://www.greyclub.de
URL:https://www.party-insider.com/event/%f0%9f%92%84ladies-night%f0%9f%92%84-im-grey-konstanz-11/
LOCATION:Grey Konstanz\, Max-Stromeyerstr. 33\, Konstanz\, 78467\, Germany
CATEGORIES:Grey
ATTACH;FMTTYPE=image/jpeg:https://www.party-insider.com/wp-content/uploads/2025/06/IMG_6142.jpeg
END:VEVENT
BEGIN:VEVENT
DTSTART;TZID=Europe/Zurich:20250704T220000
DTEND;TZID=Europe/Zurich:20250705T050000
DTSTAMP:20260422T131617
CREATED:20250629T093908Z
LAST-MODIFIED:20250629T131914Z
UID:10004009-1751666400-1751691600@www.party-insider.com
SUMMARY:Nachtpark opening - Top10 Singen
DESCRIPTION:🌴 Sommerstart im Nachtpark – Open Air Party @ Top10 Singen 🌴 \n📅 Freitag\, 04.07.2025 | ⏰ ab 22:00 Uhr | 📍 Top10 Singen\n\nDer Sommer ist zurück – und wir starten mit Volldampf in die Sommersaison! Am Freitag\, den 04. Juli\, verwandeln wir das Top10 in den ultimativen Nachtpark unter freiem Himmel!\n\n☀️ Open Air Vibes\n💃 Dancefloor unter dem Sternenhimmel\n🍹 Coole Cocktails & Chill-Out Areas\n🏖️ Pool-Area zum Abkühlen\n🎧 DJ MPR mit einem musikalischen Mix aus allen Genres\n\nGenieß die warme Sommernacht\, tanz mit deinen Freunden und stoß mit uns auf einen unvergesslichen Start in den Sommer an!\n\nLet the summer begin – wir sehen uns im Nachtpark!\n\n✪ MAINHALL✪\nDJ MPR // Mixed Music\n\nRESERVIERUNGEN:\nDirekt über unsere Homepage – www.top10-singen.de\n\n★★★★★★★★★★★★★★★★★\nEINLASS AB 16 JAHREN (in Verbindung mit U18 Formular)\nDRESS TO IMPRESS\nÖffnungszeiten 22:00 – 5:00 Uhr\nEintritt: Abendkasse 8€\n★★★★★★★★★★★★★★★★★
URL:https://www.party-insider.com/event/nachtpark-opening-top10-singen/
LOCATION:TOP10 Singen\, Otto-Hahn-Str. 5\, Singen (Hohentwiel)\, 78224\, Germany
CATEGORIES:Top10
ATTACH;FMTTYPE=image/png:https://www.party-insider.com/wp-content/uploads/2025/06/IMG_6146.png
END:VEVENT
BEGIN:VEVENT
DTSTART;TZID=Europe/Zurich:20250704T230000
DTEND;TZID=Europe/Zurich:20250705T040000
DTSTAMP:20260422T131617
CREATED:20250629T092956Z
LAST-MODIFIED:20250629T093041Z
UID:10004007-1751670000-1751688000@www.party-insider.com
SUMMARY:CITY BEATS & gin - Bolero Winterthur
DESCRIPTION:
URL:https://www.party-insider.com/event/city-beats-gin-bolero-winterthur/
LOCATION:Bolero Winterthur\, Vogelsangstrasse 10\, Winterthur\, 8400\, Switzerland
CATEGORIES:Bolero
ATTACH;FMTTYPE=image/jpeg:https://www.party-insider.com/wp-content/uploads/2025/06/IMG_6144.jpeg
END:VEVENT
BEGIN:VEVENT
DTSTART;TZID=Europe/Zurich:20250704T230000
DTEND;TZID=Europe/Zurich:20250705T050000
DTSTAMP:20260422T131617
CREATED:20250623T100354Z
LAST-MODIFIED:20250623T100354Z
UID:10003982-1751670000-1751691600@www.party-insider.com
SUMMARY:Its a Sin in Kantine Konstanz
DESCRIPTION:Fr 04.07.85 Kantine KN – IT’S A SIN when The Freshmaker & Dark Skies spin you right round like a record. Superfreaks and smooth operators get sweet dreams when we fight for the right to party all night long! \nStart: 23:00 \n#itsasin #kantinekn #konstanz #bodensee #konstanzparty #80s #80er #unikonstanz #htwgkonstanz
URL:https://www.party-insider.com/event/its-a-sin-in-kantine-konstanz-4/
LOCATION:Kantine Konstanz\, Oberlohnstraße 3\, Konstanz\, 78467\, Germany
CATEGORIES:Kantine
ATTACH;FMTTYPE=image/png:https://www.party-insider.com/wp-content/uploads/2025/06/IMG_2025-06-23-120218.png
END:VEVENT
END:VCALENDAR