BEGIN:VCALENDAR
VERSION:2.0
PRODID:-//Party-Insider - ECPv6.14.2//NONSGML v1.0//EN
CALSCALE:GREGORIAN
METHOD:PUBLISH
X-WR-CALNAME:Party-Insider
X-ORIGINAL-URL:https://www.party-insider.com
X-WR-CALDESC:Veranstaltungen im Party-Insider
REFRESH-INTERVAL;VALUE=DURATION:PT1H
X-Robots-Tag:noindex
X-PUBLISHED-TTL:PT1H
BEGIN:VTIMEZONE
TZID:Europe/Zurich
BEGIN:DAYLIGHT
TZOFFSETFROM:+0100
TZOFFSETTO:+0200
TZNAME:CEST
DTSTART:20250330T010000
END:DAYLIGHT
BEGIN:STANDARD
TZOFFSETFROM:+0200
TZOFFSETTO:+0100
TZNAME:CET
DTSTART:20251026T010000
END:STANDARD
END:VTIMEZONE
BEGIN:VEVENT
DTSTART;VALUE=DATE:20250704
DTEND;VALUE=DATE:20250707
DTSTAMP:20260422T145023
CREATED:20250528T165904Z
LAST-MODIFIED:20250606T164852Z
UID:10002800-1751608800-1751781599@www.party-insider.com
SUMMARY:Kreuzlinger Weinfest 🍷
DESCRIPTION:Das erste internationale Weinfest in Kreuzlingen\n\n\n4. und 5. Juli 2025\n\n\nErlebe erlesene Weine aus dem Thurgau und der Bodensee-Region – direkt am Hafen von Kreuzlingen. Umgeben vom einzigartigen See-Ambiente geniesse genussvolle Momente und gute Gespräche.
URL:https://www.party-insider.com/event/kreuzlinger-weinfest/
ATTACH;FMTTYPE=image/png:https://www.party-insider.com/wp-content/uploads/2025/05/IMG_2025-05-28-185617.png
END:VEVENT
BEGIN:VEVENT
DTSTART;VALUE=DATE:20250704
DTEND;VALUE=DATE:20250707
DTSTAMP:20260422T145023
CREATED:20250627T112009Z
LAST-MODIFIED:20250627T112044Z
UID:10003998-1751608800-1751781599@www.party-insider.com
SUMMARY:Strassenfestival Amriswil 2025
DESCRIPTION:Am Freitag\, 4. und Samstag\, 5. Juli\, geht in Amriswil zum bereits zwölften Mal die Post ab. Das Organisationskomitee des Strassenfestivals hat auch diesesmal wieder ein abwechslungsreiches Programm auf die Beine gestellt. Headliner ist Remo Forrer\, weitere Top Acts sind unter anderem Nickless oder EAZ. Und das alles bei freiem Eintritt! \nHeitere Stimmung\, gute Musik – und gefühlt ganz Amriswil am Feiern: So kennt man das Strassenfestival\, das seit 1999 alle zwei Jahre die Stadt belebt. Das Dutzend ist voll\, und das Festival wächst weiter. Über 80 Vereine und kommerzielle Anbieter verwandeln die beiden Tage vor den Sommerferien in das grösste Fest der Region. \nAuch das Strassenfestival hat bewegte Jahre hinter sich. Doch dank dem engagierten Organisationskomitee\, den zahlreichen Mitwirkenden und den guten Rahmenbedingungen in unserer Stadt – von der Politik bis zu den Anwohnerinnen und Anwohnern – lebt die Festkultur hier weiter. Mitten in Amriswil. \nDas Strassenfestival beginnt am Freitag\, 4. Juli\, um 17 Uhr. Am Samstag\, 5. Juli\, startet das Programm bereits um 11 Uhr. Besonders am Samstagmittag und -nachmittag erwartet Familien ein spannendes Angebot. Die Bühnen werden an beiden Abenden bis jeweils 2.30 Uhr bespielt. Denn neben den gut 90 Ständen mit abwechslungsreichem Speise- und Getränkeangebot\, sind es vor allem die Künstlerinnen und Künstler\, die den Besuchenden ordentlich einheizen werden. \nSo stehen Acts wie Nickless (Freitag\, 4. Juli\, 22 Uhr\, Mainstage)\, EAZ (Freitag\, 4. Juli\, 0.30 Uhr\, Partystage) oder auch Remo Forrer (Samstag\, 5. Juli\, 22 Uhr\, Mainstage) auf dem Programm. Aufgeteilt sind die Konzerte auf drei Bühnen. Der Mainstage\, der Partystage und der Cultstage.
URL:https://www.party-insider.com/event/strassenfestival-amriswil-2025/
ATTACH;FMTTYPE=image/jpeg:https://www.party-insider.com/wp-content/uploads/2025/06/IMG_6042.jpeg
END:VEVENT
BEGIN:VEVENT
DTSTART;TZID=Europe/Zurich:20250705T140000
DTEND;TZID=Europe/Zurich:20250705T220000
DTSTAMP:20260422T145023
CREATED:20250702T045733Z
LAST-MODIFIED:20250702T045733Z
UID:10004017-1751724000-1751752800@www.party-insider.com
SUMMARY:ROOFTOP im Glorious Bastards - Lago Konstanz
DESCRIPTION:
URL:https://www.party-insider.com/event/rooftop-im-glorious-bastards-lago-konstanz/
LOCATION:Glorious Bastards Konstanz\, Bodanstraße 1\, Konstanz\, 78462\, Germany
CATEGORIES:Glorious Bastards
ATTACH;FMTTYPE=image/png:https://www.party-insider.com/wp-content/uploads/2025/07/IMG_2025-07-02-065636.png
END:VEVENT
BEGIN:VEVENT
DTSTART;TZID=Europe/Zurich:20250705T143000
DTEND;TZID=Europe/Zurich:20250705T235500
DTSTAMP:20260422T145023
CREATED:20250402T045220Z
LAST-MODIFIED:20250531T091243Z
UID:10001793-1751725800-1751759700@www.party-insider.com
SUMMARY:Elektro Liebe im Bodenseestadion Konstanz
DESCRIPTION:Elektro-Liebe – Music & Art\nim Wald-Areal des Bodenseestadions\nDas Line-up der Elektro-Liebe wird angeführt von keinem Geringeren als dem Produzenten & DJ Mausio (Warner Music) Er steht für starke Lyrics\, kunstvolle Beats\, wabernde Bässe und hart geschlagene Snare-Drums. Mit Einflüssen aus Techno\, Hip-Hop\, Dubstep und Minimal hat Mausio einen neuen Stil kreiert. Wir freuen uns auf eine satte Portion Future Techno!\nNatürlich steht der Herr nicht allein im Wald\, ganz im Gegenteil. Geballte Elektro\, Techno und Trans Klänge „all day long“ erwarten Euch auf der Wald-Stage von diesem Line Up:\nIsabelle Beaucamp (KitKat Club Berlin & Ehrenclub Köln)\nAXAR (Gotec\, Karlsruhe)\nKlara Yard (Katakumba CH\, Stuttgart & GuteZeit Allstar)\nNazz (Ekstase & Lehmanclub Stuttgart)\nund Nico Zepfel (Melodix\, CH) \nAuf der zweiten Bühne im Grünen erwartet Euch eine einzigartige Mischung aus Kunst\, Klang und Kreativität! Unsere Freunde von Parea Konstanz legen sich mächtig ins Zeug\, um eine „Parea“ – eine Gemeinschaft von guten Leuten\, in einmaliger Atmosphäre mit fantastischem Sound – zu erschaffen.\nFreut Euch auf die Parea-Allstars mit JUEL\, Lara Schick b2b Modminsky\, Lo Nóbrega\, MATT GREY\, Makeke und weiteren Mitglieder aus der lokalen Wohltätigkeitsorganisation. Künstlerisches Schaffen\, fleißige Hände\, viel Liebe und beste Beats werden für magische Momente in der Natur sorgen.\nAlle weiteren Infos findet Ihr auf unseren Instagram- & Facebook-Kanälen des GuteZeit Festival.\nWir freuen uns auf ein Sound-Picknick im Grünen\, Sonnenschein\, leckers Drinks und eine GuteZeit mit Euch! \nEinlass ab 18 Jahren
URL:https://www.party-insider.com/event/elektro-liebe-im-bodenseestadion-konstanz/
ATTACH;FMTTYPE=image/png:https://www.party-insider.com/wp-content/uploads/2025/04/IMG_2025-04-02-065018.png
END:VEVENT
BEGIN:VEVENT
DTSTART;TZID=Europe/Zurich:20250705T160000
DTEND;TZID=Europe/Zurich:20250705T220000
DTSTAMP:20260422T145023
CREATED:20250629T102156Z
LAST-MODIFIED:20250629T102406Z
UID:10004014-1751731200-1751752800@www.party-insider.com
SUMMARY:Day Dance - US-MEX Terraza Kreuzlingen
DESCRIPTION:Freu dich auf mitreissende Beats\, sommerliche Vibes und elektrisierende Beats direkt am See! Am Samstag tanzen wir am Daydance auf der US-MEX Terraza Kreuzlingen. Tanze unter freiem Himmel\, geniesse coole Drinks und den Sonnenuntergang in einzigartiger Atmosphäre. Unsere DJs liefern den perfekten Soundtrack für einen unvergesslichen Sommertag – Open Air\, direkt am Wasser und voller Lebensfreude. \n\nUS-MEX Terraza Kreuzlingen | Seestrasse 11B.2 / Seeufer West\nwww.usmex-terraza.ch
URL:https://www.party-insider.com/event/day-dance-in-us-mex-terraza-kreuzlingen-3/
LOCATION:US-MEX Terraza Kreuzlingen\, Seestrasse 11B.2 / Seeufer West\, Kreuzlingen\, 8280\, Switzerland
CATEGORIES:US-MEX Terraza Kreuzlingen
ATTACH;FMTTYPE=image/png:https://www.party-insider.com/wp-content/uploads/2025/06/IMG_6153.png
END:VEVENT
BEGIN:VEVENT
DTSTART;TZID=Europe/Zurich:20250705T190000
DTEND;TZID=Europe/Zurich:20250706T050000
DTSTAMP:20260422T145023
CREATED:20250629T094247Z
LAST-MODIFIED:20250629T094608Z
UID:10004010-1751742000-1751778000@www.party-insider.com
SUMMARY:coconut & big opening Party - Top10 Singen
DESCRIPTION:Coconut Beach Edition – Die große Nachtpark-Eröffnung im TOP 10 Singen\nAm Samstag\, den 05. Juli\, verwandelt sich das TOP 10 Singen in Deutschlands größten Nachtpark – und das mit einer exklusiven Beach Edition! Unter dem Motto „Coconut“ lädt der legendäre Nachtclub zur großen Opening Party und setzt damit neue Maßstäbe in der Clubszene.\n\nFreut euch auf eine unvergessliche Nacht mit zwei angesagten DJs\, die für den perfekten Soundtrack sorgen – von Hip Hop\, Afrobeats\, RnB\, House bis hin zu Mixed Music ist alles dabei.\n\nMit dabei ist auch R&B LOVE\, das neue Highlight für alle Fans von gefühlvollen Vibes\, mit den neuesten R&B-Hits und zeitlosen Oldschool Sounds – pure Emotionen und Clubfeeling vereint!\n\nZusätzlich erwarten euch VIP-Areas\, coole Giveaways und die einzigartige Atmosphäre eines Beach-Clubs – mitten in Singen!\n\n🔥 Highlights:\n\n• 🌴 Nachtpark Opening – Beach Edition\n• 🕖 Start: ab 19 Uhr\n• 🎧 2 DJs | Mixed Music | Afro | Hip Hop | House | RnB\n• ❤️ R&B LOVE – Aktuelle & Oldschool R&B Sounds\n• 🎁 Giveaways & VIP Specials\n• 📍 TOP 10 Singen\, Georg-Fischer-Straße 5\, 78224 Singen\n\nSei dabei\, wenn Singen den Sommer einläutet – COCONUT ist mehr als nur eine Party\, es ist ein Erlebnis!
URL:https://www.party-insider.com/event/coconut-big-opening-party-top10-singen/
LOCATION:TOP10 Singen\, Otto-Hahn-Str. 5\, Singen (Hohentwiel)\, 78224\, Germany
CATEGORIES:Top10
ATTACH;FMTTYPE=image/jpeg:https://www.party-insider.com/wp-content/uploads/2025/06/IMG_6147.jpeg
END:VEVENT
BEGIN:VEVENT
DTSTART;TZID=Europe/Zurich:20250705T203000
DTEND;TZID=Europe/Zurich:20250706T030000
DTSTAMP:20260422T145023
CREATED:20250702T055600Z
LAST-MODIFIED:20250702T055600Z
UID:10004018-1751747400-1751770800@www.party-insider.com
SUMMARY:Ü40 Tanzparty im Schlosshof Münchwilen
DESCRIPTION:Der Schlosshof ist mittlerweile der Geheimtipp für heisse Tanznächte & super Sound in der Ü40iger Szene 😉 \nKomm auch du vorbei und lass Dich verzaubern von guter Stimmung und toller Musik. Geniesse die Stimmung und Tanze mit uns durch die Nacht. \nWir freuen uns auf Dich! \nDein Schlosshof Team \n——————————– \nTanzparty40.ch – Seit Jahren ein Garant für atemberaubende und durchgetanzte Nächte einer lebendigen Ü40 Generation. Ob mit Freunden in der reservierten Lounge\, als Paar für einen feinen Cocktail an der Bar oder als Single auf der Tanzfläche\, bei uns ist jeder willkommen. Getanzt wird zu Musik aus den 70er über die 80er & 90er bis hin zu den aktuellen Charts\, serviert von den angesagtesten Ü40 DJ’s des Landes. Kommt vorbei und seid Teil der kultigsten Ü40 Party-Bewegung der Region – wir freuen uns auf Euch. \nDamit du und alle anderen Gäste tolle Nächte erleben\, haben wir drei kleine Anliegen: \nein gepflegtes Erscheinungsbild\nein anständiger Umgang\nund ein angemessener Umgangston \n…sind uns sehr wichtig. Und damit ziehst du auch sicher die richtigen Tanzpartner an! \nKünstler: DJ Phil Z \nEinlass ab: 40 Jahren \nEintritt: CHF 17.00
URL:https://www.party-insider.com/event/ue40-tanzparty-im-schlosshof-muenchwilen-3/
ATTACH;FMTTYPE=image/jpeg:https://www.party-insider.com/wp-content/uploads/2025/03/IMG_1057.jpeg
END:VEVENT
BEGIN:VEVENT
DTSTART;TZID=Europe/Zurich:20250705T210000
DTEND;TZID=Europe/Zurich:20250705T210000
DTSTAMP:20260422T145023
CREATED:20250510T155008Z
LAST-MODIFIED:20260419T170713Z
UID:10001948-1751749200-1751749200@www.party-insider.com
SUMMARY:Die K9-Disco im Kulturzentrum K9 Konstanz
DESCRIPTION:
URL:https://www.party-insider.com/event/die-k9-disco-im-kulturzentrum-k9-konstanz/2025-07-05/
LOCATION:K9 Konstanz\, Hieronymusgasse 3\, Konstanz\, 78462\, Switzerland
CATEGORIES:K9
ATTACH;FMTTYPE=image/jpeg:https://www.party-insider.com/wp-content/uploads/2025/02/IMG_0500.jpeg
END:VEVENT
BEGIN:VEVENT
DTSTART;TZID=Europe/Zurich:20250705T210000
DTEND;TZID=Europe/Zurich:20250706T020000
DTSTAMP:20260422T145023
CREATED:20250704T205550Z
LAST-MODIFIED:20250704T205550Z
UID:10004025-1751749200-1751767200@www.party-insider.com
SUMMARY:Fiesta Latina - Duffys Weinfelden
DESCRIPTION:
URL:https://www.party-insider.com/event/fiesta-latina-duffys-weinfelden/
ATTACH;FMTTYPE=image/jpeg:https://www.party-insider.com/wp-content/uploads/2025/07/IMG_6274.jpeg
END:VEVENT
BEGIN:VEVENT
DTSTART;TZID=Europe/Zurich:20250705T220000
DTEND;TZID=Europe/Zurich:20250705T220000
DTSTAMP:20260422T145023
CREATED:20250518T203204Z
LAST-MODIFIED:20260419T171012Z
UID:10002238-1751752800-1751752800@www.party-insider.com
SUMMARY:Club Time - Peggys Frauenfeld
DESCRIPTION:
URL:https://www.party-insider.com/event/club-time-in-peggys-frauenfeld/2025-07-05/
LOCATION:Peggys Frauenfeld\, Metzgerstrasse 1\, Frauenfeld\, 8500\, Switzerland
CATEGORIES:Peggy
ATTACH;FMTTYPE=image/jpeg:https://www.party-insider.com/wp-content/uploads/2025/05/IMG_1341.jpeg
END:VEVENT
BEGIN:VEVENT
DTSTART;TZID=Europe/Zurich:20250705T220000
DTEND;TZID=Europe/Zurich:20250706T050000
DTSTAMP:20260422T145023
CREATED:20250607T160804Z
LAST-MODIFIED:20250607T160905Z
UID:10003906-1751752800-1751778000@www.party-insider.com
SUMMARY:CLUBNIGHT Glitzer Party mit DJ PandaX im GenX Konstanz
DESCRIPTION:🌟 CLUBNIGHT – GLITZER PARTY 🌟\n📍 Club GenX\, Konstanz | 📅 Samstag\, 05. Juli 2025 | 🕙 Start: 22:00 Uhr \nEs wird funkeln\, es wird laut\, es wird legendär – willkommen zur Clubnight GLITZER PARTY im Club GenX!\nZieh dein schillerndstes Outfit an\, bring den Glanz auf die Tanzfläche und tauche ein in eine Nacht voller Licht\, Glitzer\, Bass und Ekstase. \nDJ PandaX serviert dir ein Set aus Remix 80er 90er bis heute im schönen GenX Club Konstanz. \n⸻ \n📍 Club GenX – Maybachstraße 8\, 78467 Konstanz\n💫 Glitzer-Accessoires nicht vergessen! \n⸻ \n🔗 Stay connected mit DJ PandaX:\n🎥 YouTube: youtube.com/@DJ.PandaX\n📸 Instagram: instagram.com/dj.pandax\n📘 Facebook: facebook.com/pandax.ch\n📼 Livestream-Aufnahmen: djpandax.ch/aufnahmen\n🎮 Twitch: twitch.tv/DJPandaxLive\n💬 WhatsApp Community: https://chat.whatsapp.com/KhJek8hZkpq8vLeglujai6\n📱 TikTok: https://www.tiktok.com/@dj.pandax?_t=ZN-8x0abT7II9W&_r=1 \n⸻ \nMehr Glitzer. Mehr Bass. Mehr Nacht.\n#GlitzerParty #ClubnightKonstanz #GenXKonstanz #DJpandaX #GlitzerDance
URL:https://www.party-insider.com/event/clubnight-glitzer-party-mit-dj-pandax-im-genx-konstanz/
LOCATION:Poly Club Konstanz\, Maybachstraße 8\, Konstanz\, 78467\, Germany
CATEGORIES:Poly Club Konstanz
ATTACH;FMTTYPE=image/jpeg:https://www.party-insider.com/wp-content/uploads/2025/06/IMG_2025-06-07-180631.jpeg
END:VEVENT
BEGIN:VEVENT
DTSTART;TZID=Europe/Zurich:20250705T220000
DTEND;TZID=Europe/Zurich:20250706T050000
DTSTAMP:20260422T145023
CREATED:20250629T092318Z
LAST-MODIFIED:20250629T092355Z
UID:10004006-1751752800-1751778000@www.party-insider.com
SUMMARY:MODELS & BOTTLES in Grey Konstanz
DESCRIPTION:🍾MODELS & BOTTLES AND COCKTAIL NIGHT🍾 \nPARTY AUF 4 FLOORS \nMODELS & BOTTLES!\nSexy GoGo Dancing\, Sexy Bottle Service und weitere Specials erwarten Euch heute Abend! \nWir präsentieren Euch die COCKTAIL NIGHT!\nWürfel um den Preis Deines Cocktails in der Lobby! \n⭐️ Konfettishows\n⭐️ Sexy GoGo Dancing\n⭐️ VIP Bottle-Service\n⭐️ Lasershows und vieles mehr! \nParty auf 4 Floors auf denen Ihr garantiert etwas nach Eurem Geschmack findet!
URL:https://www.party-insider.com/event/models-bottles-in-grey-konstanz-2/
LOCATION:Grey Konstanz\, Max-Stromeyerstr. 33\, Konstanz\, 78467\, Germany
CATEGORIES:Grey
ATTACH;FMTTYPE=image/jpeg:https://www.party-insider.com/wp-content/uploads/2025/06/IMG_6143.jpeg
END:VEVENT
BEGIN:VEVENT
DTSTART;TZID=Europe/Zurich:20250705T220000
DTEND;TZID=Europe/Zurich:20250706T050000
DTSTAMP:20260422T145023
CREATED:20250629T095809Z
LAST-MODIFIED:20250629T095858Z
UID:10004011-1751752800-1751778000@www.party-insider.com
SUMMARY:Viva Tequila - Erdbeermund Singen
DESCRIPTION:Andale Andale Arriba Arriba… \nEs wird heute wieder HEIß in eurem Kult Club.\n\nTanze\, flirte\, fühl dich einfach FREI & GEDANKENLOS\nund vor allem trinke TEQUILA!!!\n\nWELCOME TEQUILA SHOT – 22:00 Uhr bis 23:00 Uhr\n\nUnsere Getränkeaktionen:\nJeder Tequila 0\,2cl für 2€\nDesperados 0\,33l für 3\,30 €\n\nWIR SEHEN UNS HEUTE ABEND!!\n\nDie wichtigsten Facts:\n– Separater Eingang (links auf dem Parkplatz)\n– Einlass ab 21 Jahren\n– Parkplätze vor der Tür\n– Kein Durchgang vom TOP10 innerhalb der Räumlichkeiten\n\nIhr habt Fragen? Schreibt uns eine Mail an\ninfo@erdbeermund-singen.de\n\nGrüße vom Erdbeermund Team\n▀▀▀▀▀▀▀▀▀▀▀▀▀▀▀▀▀▀▀▀▀\nX Music by DJ Padi  X\nBest of Mainstream\, Latino und Partyhits\n▀▀▀▀▀▀▀▀▀▀▀▀▀▀▀▀▀▀▀▀▀\nmore info\n►► Eintritt: 9 €\n►► ab 21 Jahren\n►► Öffnungszeiten 22:00 – 5:00 Uhr\n►► Reservierungen: https://www.erdbeermund-singen.de
URL:https://www.party-insider.com/event/viva-tequila-erdbeermund-singen/
LOCATION:Erdbeermund Singen\, Otto-Hahn-Str. 5\, Singen (Hohentwiel)\, 78224\, Germany
CATEGORIES:Erdbeermund
ATTACH;FMTTYPE=image/png:https://www.party-insider.com/wp-content/uploads/2025/06/IMG_2025-06-29-115648.png
END:VEVENT
BEGIN:VEVENT
DTSTART;TZID=Europe/Zurich:20250705T230000
DTEND;TZID=Europe/Zurich:20250706T040000
DTSTAMP:20260422T145023
CREATED:20250629T093521Z
LAST-MODIFIED:20250629T095011Z
UID:10004008-1751756400-1751774400@www.party-insider.com
SUMMARY:Finest Black Beats & diamonds - Bolero Winterthur
DESCRIPTION:
URL:https://www.party-insider.com/event/finest-black-beats-diamonds-bolero-winterthur/
LOCATION:Bolero Winterthur\, Vogelsangstrasse 10\, Winterthur\, 8400\, Switzerland
CATEGORIES:Bolero
ATTACH;FMTTYPE=image/jpeg:https://www.party-insider.com/wp-content/uploads/2025/06/IMG_6145.jpeg
END:VEVENT
END:VCALENDAR