BEGIN:VCALENDAR
VERSION:2.0
PRODID:-//Party-Insider - ECPv6.15.20//NONSGML v1.0//EN
CALSCALE:GREGORIAN
METHOD:PUBLISH
X-WR-CALNAME:Party-Insider
X-ORIGINAL-URL:https://www.party-insider.com
X-WR-CALDESC:Veranstaltungen im Party-Insider
REFRESH-INTERVAL;VALUE=DURATION:PT1H
X-Robots-Tag:noindex
X-PUBLISHED-TTL:PT1H
BEGIN:VTIMEZONE
TZID:Europe/Zurich
BEGIN:DAYLIGHT
TZOFFSETFROM:+0100
TZOFFSETTO:+0200
TZNAME:CEST
DTSTART:20240331T010000
END:DAYLIGHT
BEGIN:STANDARD
TZOFFSETFROM:+0200
TZOFFSETTO:+0100
TZNAME:CET
DTSTART:20241027T010000
END:STANDARD
BEGIN:DAYLIGHT
TZOFFSETFROM:+0100
TZOFFSETTO:+0200
TZNAME:CEST
DTSTART:20250330T010000
END:DAYLIGHT
BEGIN:STANDARD
TZOFFSETFROM:+0200
TZOFFSETTO:+0100
TZNAME:CET
DTSTART:20251026T010000
END:STANDARD
BEGIN:DAYLIGHT
TZOFFSETFROM:+0100
TZOFFSETTO:+0200
TZNAME:CEST
DTSTART:20260329T010000
END:DAYLIGHT
BEGIN:STANDARD
TZOFFSETFROM:+0200
TZOFFSETTO:+0100
TZNAME:CET
DTSTART:20261025T010000
END:STANDARD
END:VTIMEZONE
BEGIN:VEVENT
DTSTART;TZID=Europe/Zurich:20250711T140000
DTEND;TZID=Europe/Zurich:20250711T220000
DTSTAMP:20260424T123156
CREATED:20250708T103907Z
LAST-MODIFIED:20250708T103907Z
UID:10004072-1752242400-1752271200@www.party-insider.com
SUMMARY:Rooftop Glorious Garden - Lago Konstanz
DESCRIPTION:
URL:https://www.party-insider.com/event/rooftop-glorious-garden-lago-konstanz/
LOCATION:Glorious Bastards Konstanz\, Bodanstraße 1\, Konstanz\, 78462\, Germany
CATEGORIES:Glorious Bastards
ATTACH;FMTTYPE=image/png:https://www.party-insider.com/wp-content/uploads/2025/07/IMG_2025-07-08-123533.png
END:VEVENT
BEGIN:VEVENT
DTSTART;TZID=Europe/Zurich:20250711T173000
DTEND;TZID=Europe/Zurich:20250711T230000
DTSTAMP:20260424T123156
CREATED:20250707T143436Z
LAST-MODIFIED:20250707T143436Z
UID:10004070-1752255000-1752274800@www.party-insider.com
SUMMARY:Salsa Party & Kurs - Seeoase Konstanz
DESCRIPTION:Workshop 17:30 bis 19:00 Uhr \nDanach Salsa Party eintritt frei
URL:https://www.party-insider.com/event/salsa-party-kurs-seeoase-konstanz/
LOCATION:Seeoase Konstanz\, Klein Venedig 1\, Konstanz\, 78462\, Germany
CATEGORIES:Seeoase
ATTACH;FMTTYPE=image/png:https://www.party-insider.com/wp-content/uploads/2025/07/IMG_2025-07-07-163223.png
END:VEVENT
BEGIN:VEVENT
DTSTART;TZID=Europe/Zurich:20250711T180000
DTEND;TZID=Europe/Zurich:20250711T220000
DTSTAMP:20260424T123156
CREATED:20250706T124422Z
LAST-MODIFIED:20250706T124511Z
UID:10004037-1752256800-1752271200@www.party-insider.com
SUMMARY:Lake Music Delicious - US-MEX Terraza Kreuzlingen
DESCRIPTION:Am 11. Juli heisst es zurücklehnen\, geniessen und den Sommer am See willkommen heissen – mit Delicious Lake Music auf der stilvollen US-MEX Terraza in Kreuzlingen! \nJonny Lopez & Angel M.  bringt feinste Vibes mit einem Mix aus New & Classic House Music – perfekt für alle\, die Musik für Body & Soul lieben. Zwischen Sonnenuntergang und See-Panorama wird die Terraza zur Tanzfläche und Wohlfühl-Oase zugleich.
URL:https://www.party-insider.com/event/lake-music-delicious-us-mex-terraza-kreuzlingen/
LOCATION:US-MEX Terraza Kreuzlingen\, Seestrasse 11B.2 / Seeufer West\, Kreuzlingen\, 8280\, Switzerland
CATEGORIES:US-MEX Terraza Kreuzlingen
ATTACH;FMTTYPE=image/jpeg:https://www.party-insider.com/wp-content/uploads/2025/07/IMG_5891.jpeg
END:VEVENT
BEGIN:VEVENT
DTSTART;TZID=Europe/Zurich:20250711T220000
DTEND;TZID=Europe/Zurich:20250711T220000
DTSTAMP:20260424T123156
CREATED:20250518T203204Z
LAST-MODIFIED:20260419T171012Z
UID:10002239-1752271200-1752271200@www.party-insider.com
SUMMARY:Club Time - Peggys Frauenfeld
DESCRIPTION:
URL:https://www.party-insider.com/event/club-time-in-peggys-frauenfeld/2025-07-11/
LOCATION:Peggys Frauenfeld\, Metzgerstrasse 1\, Frauenfeld\, 8500\, Switzerland
CATEGORIES:Peggy
ATTACH;FMTTYPE=image/jpeg:https://www.party-insider.com/wp-content/uploads/2025/05/IMG_1341.jpeg
END:VEVENT
BEGIN:VEVENT
DTSTART;TZID=Europe/Zurich:20250711T220000
DTEND;TZID=Europe/Zurich:20250712T040000
DTSTAMP:20260424T123156
CREATED:20250706T121705Z
LAST-MODIFIED:20250706T121954Z
UID:10004031-1752271200-1752292800@www.party-insider.com
SUMMARY:Crush im Top10 Singen
DESCRIPTION:Crush – Die ultimative Flirt- und Single-Party! Bist du bereit für einen unvergesslichen Abend voller Spaß\, Flirts und neuer Bekanntschaften? Dann komm zu „Crush“! Hier erwarten dich spannende Aktionen\, die speziell für Singles gedacht sind! Was dich erwartet:\n Speed-Dating: Lerne in kurzer Zeit viele neue Leute kennen! \n Sektempfang für alle Single Ladies Flirtspiele: Nimm an lustigen Spielen teil\, um das Eis zu brechen! \n– Shot Roulette: Flirt & Drink \n– Dance-Off: Zeig deine besten Moves und gewinne coole Preise! \n✪ ZEIG UNS DEINEN STATUS!Leuchtende Flirtarmbänder zeigen:GRÜN: Single und offen für allesBLAU: Probier’s doch malROT: Vergeben\nKomm vorbei\, bring deine Freunde mit und erlebe einen Abend voller Flirts und Spaß! \n✪ NACHTPARK ✪DJ MOO // Mixed Music\nRESERVIERUNGEN:Direkt über unsere Homepage – www.top10-singen.de\n★★★★★★★★★★★★★★★★★EINLASS AB 16 JAHREN (in Verbindung mit u18 Formular)DRESS TO IMPRESSÖffnungszeiten 22:00 – 4:00 UhrEintritt: Abendkasse 8€★★★★★★★★★★★★★★★★★
URL:https://www.party-insider.com/event/crush-im-top10-singen-4/
LOCATION:TOP10 Singen\, Otto-Hahn-Str. 5\, Singen (Hohentwiel)\, 78224\, Germany
CATEGORIES:Top10
ATTACH;FMTTYPE=image/png:https://www.party-insider.com/wp-content/uploads/2025/07/IMG_6401.png
END:VEVENT
BEGIN:VEVENT
DTSTART;TZID=Europe/Zurich:20250711T220000
DTEND;TZID=Europe/Zurich:20250712T050000
DTSTAMP:20260424T123156
CREATED:20250706T120205Z
LAST-MODIFIED:20250706T120205Z
UID:10004028-1752271200-1752296400@www.party-insider.com
SUMMARY:💄LADIES NIGHT💄 im Grey Konstanz
DESCRIPTION:💄LADIES NIGHT💄 \n20 EURO FREIVERZEHR FÜR LADIES! \n❤️ Und sie feiern wieder in ihrem Lieblingsclub ❤️ \n🔆 Mädelsabend…\n🔆 Ladies Night…\n🔆 Queensclub… \n❣️Specials:\nLadies erhalten bis 00:00Uhr 20€ Getränkefreiverzehr\n(gültig die ganze Nacht) \n❌❌❌ EINTRITT FREI BIS 23 UHR FÜR ALLE ❌❌❌\ndie Ladies sind heute Abend wieder im größten Club am Bodensee zum feiern unterwegs.\nFeier mit uns DEIN WOCHENENDE auf 🔴 FÜNF MUSIKBEREICHEN 🔴! \n# Lounge Reservierung unter:\nhttp://www.greyclub.de
URL:https://www.party-insider.com/event/%f0%9f%92%84ladies-night%f0%9f%92%84-im-grey-konstanz-12/
LOCATION:Grey Konstanz\, Max-Stromeyerstr. 33\, Konstanz\, 78467\, Germany
CATEGORIES:Grey
ATTACH;FMTTYPE=image/jpeg:https://www.party-insider.com/wp-content/uploads/2025/07/IMG_6142.jpeg
END:VEVENT
BEGIN:VEVENT
DTSTART;TZID=Europe/Zurich:20250711T230000
DTEND;TZID=Europe/Zurich:20250712T040000
DTSTAMP:20260424T123156
CREATED:20250706T123125Z
LAST-MODIFIED:20250706T123225Z
UID:10004034-1752274800-1752292800@www.party-insider.com
SUMMARY:Remember 2000 & Downtown - Bolero Winterthur
DESCRIPTION:
URL:https://www.party-insider.com/event/remember-2000-downtown-im-bolero-winterthur/
LOCATION:Bolero Winterthur\, Vogelsangstrasse 10\, Winterthur\, 8400\, Switzerland
CATEGORIES:Bolero
ATTACH;FMTTYPE=image/jpeg:https://www.party-insider.com/wp-content/uploads/2025/07/IMG_6405.jpeg
END:VEVENT
BEGIN:VEVENT
DTSTART;TZID=Europe/Zurich:20250711T230000
DTEND;TZID=Europe/Zurich:20250712T050000
DTSTAMP:20260424T123156
CREATED:20250702T084646Z
LAST-MODIFIED:20250702T084712Z
UID:10004020-1752274800-1752296400@www.party-insider.com
SUMMARY:PLEAUSRE in Kantine Konstanz
DESCRIPTION:11.07. PLEAUSRE @kantinekn \nOur HOUSE & DISCO series is back for summer! \nLINE UP \n@_milenarose \n@luec.I \n@dj_forelle \n@pablominuit \nArtwork by@christoph_sbl@charlobrtls@mika.holstein \nRespect everyones identity Respect everybodies space \nBe supportive\, take care of each other Don’t go shirtless \nOur Awareness Team will always be available
URL:https://www.party-insider.com/event/pleausre-in-kantine-konstanz/
LOCATION:Kantine Konstanz\, Oberlohnstraße 3\, Konstanz\, 78467\, Germany
CATEGORIES:Kantine
ATTACH;FMTTYPE=image/jpeg:https://www.party-insider.com/wp-content/uploads/2025/07/IMG_6232.jpeg
END:VEVENT
END:VCALENDAR