BEGIN:VCALENDAR
VERSION:2.0
PRODID:-//Party-Insider - ECPv6.14.2//NONSGML v1.0//EN
CALSCALE:GREGORIAN
METHOD:PUBLISH
X-WR-CALNAME:Party-Insider
X-ORIGINAL-URL:https://www.party-insider.com
X-WR-CALDESC:Veranstaltungen im Party-Insider
REFRESH-INTERVAL;VALUE=DURATION:PT1H
X-Robots-Tag:noindex
X-PUBLISHED-TTL:PT1H
BEGIN:VTIMEZONE
TZID:Europe/Zurich
BEGIN:DAYLIGHT
TZOFFSETFROM:+0100
TZOFFSETTO:+0200
TZNAME:CEST
DTSTART:20250330T010000
END:DAYLIGHT
BEGIN:STANDARD
TZOFFSETFROM:+0200
TZOFFSETTO:+0100
TZNAME:CET
DTSTART:20251026T010000
END:STANDARD
END:VTIMEZONE
BEGIN:VEVENT
DTSTART;VALUE=DATE:20250730
DTEND;VALUE=DATE:20250804
DTSTAMP:20260422T025351
CREATED:20250726T125354Z
LAST-MODIFIED:20250726T125914Z
UID:10004434-1753855200-1754200799@www.party-insider.com
SUMMARY:Konstanzer Weinfest
DESCRIPTION:WIR FREUEN UNS AUF DAS WEINFEST 2025!\nES WIRD VOM 30. JULI BIS ZUM 2. AUGUST 2025 STATTFINDEN.\nÖFFNUNSZEITEN:\nMITTWOCH – FREITAG 16:00 – 1:00 UHR\nSAMSTAG 13:00 -1:00 UHR\nKINDERFEST 13:00 – 17:00 UHR \nWIR FREUEN UNS AUF SIE! \nDas Programm \n 
URL:https://www.party-insider.com/event/konstanzer-weinfest/
ATTACH;FMTTYPE=image/png:https://www.party-insider.com/wp-content/uploads/2025/07/IMG_7088.png
END:VEVENT
BEGIN:VEVENT
DTSTART;TZID=Europe/Zurich:20250731T160000
DTEND;TZID=Europe/Zurich:20250731T160000
DTSTAMP:20260422T025351
CREATED:20250729T190251Z
LAST-MODIFIED:20250729T190251Z
UID:10004455-1753977600-1753977600@www.party-insider.com
SUMMARY:Tropical House Sundowner - BBC butterbarcafe Gossau
DESCRIPTION:
URL:https://www.party-insider.com/event/tropical-house-sundowner-bbc-butterbarcafe-gossau/
ATTACH;FMTTYPE=image/jpeg:https://www.party-insider.com/wp-content/uploads/2025/07/A5A3404D-92A6-4019-AFD9-F7863BD8E998.jpeg
END:VEVENT
BEGIN:VEVENT
DTSTART;TZID=Europe/Zurich:20250731T170000
DTEND;TZID=Europe/Zurich:20250731T190000
DTSTAMP:20260422T025351
CREATED:20250402T043915Z
LAST-MODIFIED:20250707T104217Z
UID:10001549-1753981200-1753988400@www.party-insider.com
SUMMARY:After Work - Peggys Frauenfeld
DESCRIPTION:
URL:https://www.party-insider.com/event/after-work-im-peggys-frauenfeld/2025-07-31/
LOCATION:Peggys Frauenfeld\, Metzgerstrasse 1\, Frauenfeld\, 8500\, Switzerland
CATEGORIES:Peggy
ATTACH;FMTTYPE=image/jpeg:https://www.party-insider.com/wp-content/uploads/2025/04/IMG_6453.jpeg
END:VEVENT
BEGIN:VEVENT
DTSTART;TZID=Europe/Zurich:20250731T170000
DTEND;TZID=Europe/Zurich:20250731T235500
DTSTAMP:20260422T025351
CREATED:20250729T120619Z
LAST-MODIFIED:20250729T120721Z
UID:10004450-1753981200-1754006100@www.party-insider.com
SUMMARY:Breeze Rooftop - Glorious Bastards Konstanz
DESCRIPTION:
URL:https://www.party-insider.com/event/breeze-rooftop-glorious-bastards-konstanz-2/
LOCATION:Glorious Bastards Konstanz\, Bodanstraße 1\, Konstanz\, 78462\, Germany
CATEGORIES:Glorious Bastards
ATTACH;FMTTYPE=image/jpeg:https://www.party-insider.com/wp-content/uploads/2025/07/IMG_7218.jpeg
END:VEVENT
BEGIN:VEVENT
DTSTART;TZID=Europe/Zurich:20250731T180000
DTEND;TZID=Europe/Zurich:20250731T180000
DTSTAMP:20260422T025351
CREATED:20250731T073620Z
LAST-MODIFIED:20250731T073715Z
UID:10004461-1753984800-1753984800@www.party-insider.com
SUMMARY:Livemusik - Strandbad Hörnle Konstanz
DESCRIPTION:Adresse:\nEichhornstraße 100\n78464 Konstanz
URL:https://www.party-insider.com/event/livemusik-strandbad-hoernle-konstanz/
ATTACH;FMTTYPE=image/png:https://www.party-insider.com/wp-content/uploads/2025/07/IMG_7278.png
END:VEVENT
BEGIN:VEVENT
DTSTART;TZID=Europe/Zurich:20250731T190000
DTEND;TZID=Europe/Zurich:20250731T190000
DTSTAMP:20260422T025351
CREATED:20250724T161551Z
LAST-MODIFIED:20250727T154729Z
UID:10004160-1753988400-1753988400@www.party-insider.com
SUMMARY:Deep House - G5 Bar Rorschacherberg
DESCRIPTION:Adresse:\nSeebleichestrasse 38\nRorschach\, St. Gallen \nSei dabei! Gratis Eintritt- Feier mit uns in den Nationalfeiertag \n#rorschach #g5signaturebar #schweiz #party #mixology #rorschacherberg #stgallen #party Sei dabei! Gratis Eintritt- Feier mit uns in den Nationalfeiertag #bodensee #bodenseeliebe #bar
URL:https://www.party-insider.com/event/deep-house-g5-bar-rorschacherberg/
ATTACH;FMTTYPE=image/jpeg:https://www.party-insider.com/wp-content/uploads/2025/07/IMG_7018.jpeg
END:VEVENT
END:VCALENDAR