BEGIN:VCALENDAR
VERSION:2.0
PRODID:-//Party-Insider - ECPv6.14.2//NONSGML v1.0//EN
CALSCALE:GREGORIAN
METHOD:PUBLISH
X-WR-CALNAME:Party-Insider
X-ORIGINAL-URL:https://www.party-insider.com
X-WR-CALDESC:Veranstaltungen im Party-Insider
REFRESH-INTERVAL;VALUE=DURATION:PT1H
X-Robots-Tag:noindex
X-PUBLISHED-TTL:PT1H
BEGIN:VTIMEZONE
TZID:Europe/Zurich
BEGIN:DAYLIGHT
TZOFFSETFROM:+0100
TZOFFSETTO:+0200
TZNAME:CEST
DTSTART:20260329T010000
END:DAYLIGHT
BEGIN:STANDARD
TZOFFSETFROM:+0200
TZOFFSETTO:+0100
TZNAME:CET
DTSTART:20261025T010000
END:STANDARD
END:VTIMEZONE
BEGIN:VEVENT
DTSTART;TZID=Europe/Zurich:20260823T113000
DTEND;TZID=Europe/Zurich:20260823T163000
DTSTAMP:20260422T151224
CREATED:20260317T190538Z
LAST-MODIFIED:20260329T093657Z
UID:10009332-1787484600-1787502600@www.party-insider.com
SUMMARY:WEIN & BEATS goes MS NightCruise Konstanz
DESCRIPTION:WEIN & BEATS – Auf dem Cruise-Dampfer MS Gunzo \nWAS EUCH ERWARTET:\n– Warm up Apero im Hafen von Konstanz bevor wir aufs Boot gehen.\n– 3 Stunden Cruise auf dem Bodensee mit DJs Marcello Fiorenza & Pitu\n– Vinoauswahl für jeden Geschmack\n– Zwischenschluck aus mehreren Großflaschen\n– Rustikale Vesperbretter für 4 für den Hunger an Bord\n– Exklusive VIP-Tanzfläche mit Panoramablick\n– Limitierte Teilnehmerzahl: nur 100 Gäste \nFür die Sitzenbleiber: ES SIND 12 GEMEINSCHAFTSTISCHE\, DAHER WERDEN TISCHE AUFGEFÜLLT\, WENN DER PLATZ BENÖTIGT WIRD. \n>>> Tickets <<< \nABFAHRT:\nHafen von Konstanz – STEG 8 (Nähe Hafenmeisterei)\nTREFFEN: 11:30 UHR zum Apero im Hafen von Konstanz\,\nEINSTIEG pünktlich um 12:30 Uhr\, ABFAHRT: um 13:00 Uhr – wer zu spät kommt\, darf nur noch winken! \nROUTE:\nFahrt durch den Konstanzer Seerhein Richtung Reichenau\, Höri und zurück\nGenießt WEIN & BEATS auf dem See\, ausgelassene Stimmung und kühlen Vino. Wir haben ein paar besondere Flaschen im Gepäck\, die es exklusiv nur bei uns gibt. \nMS CRUISE mit BOOZE. Die neue WEIN-Partyreihe auf dem See. \n\n\n\nWo findet diese Veranstaltung statt?Einstieg: MS Gunzo\, Hafen Konstanz – Bodensee Cruise \n\n\nWann findet diese Veranstaltung statt?23. August 2026\nBeginn: 11:30\nEnde: 16:30
URL:https://www.party-insider.com/event/wein-beats-goes-ms-nightcruise-konstanz-2/
CATEGORIES:WEIN & BEATS
ATTACH;FMTTYPE=image/jpeg:https://www.party-insider.com/wp-content/uploads/2026/03/IMG_5319.jpeg
END:VEVENT
END:VCALENDAR