BEGIN:VCALENDAR
VERSION:2.0
PRODID:-//Party-Insider - ECPv6.15.20//NONSGML v1.0//EN
CALSCALE:GREGORIAN
METHOD:PUBLISH
X-WR-CALNAME:Party-Insider
X-ORIGINAL-URL:https://www.party-insider.com
X-WR-CALDESC:Veranstaltungen im Party-Insider
REFRESH-INTERVAL;VALUE=DURATION:PT1H
X-Robots-Tag:noindex
X-PUBLISHED-TTL:PT1H
BEGIN:VTIMEZONE
TZID:Europe/Zurich
BEGIN:DAYLIGHT
TZOFFSETFROM:+0100
TZOFFSETTO:+0200
TZNAME:CEST
DTSTART:20250330T010000
END:DAYLIGHT
BEGIN:STANDARD
TZOFFSETFROM:+0200
TZOFFSETTO:+0100
TZNAME:CET
DTSTART:20251026T010000
END:STANDARD
BEGIN:DAYLIGHT
TZOFFSETFROM:+0100
TZOFFSETTO:+0200
TZNAME:CEST
DTSTART:20260329T010000
END:DAYLIGHT
BEGIN:STANDARD
TZOFFSETFROM:+0200
TZOFFSETTO:+0100
TZNAME:CET
DTSTART:20261025T010000
END:STANDARD
BEGIN:DAYLIGHT
TZOFFSETFROM:+0100
TZOFFSETTO:+0200
TZNAME:CEST
DTSTART:20270328T010000
END:DAYLIGHT
BEGIN:STANDARD
TZOFFSETFROM:+0200
TZOFFSETTO:+0100
TZNAME:CET
DTSTART:20271031T010000
END:STANDARD
END:VTIMEZONE
BEGIN:VEVENT
DTSTART;TZID=Europe/Zurich:20260830T200000
DTEND;TZID=Europe/Zurich:20260830T230000
DTSTAMP:20260424T123803
CREATED:20260308T180939Z
LAST-MODIFIED:20260308T180939Z
UID:10009233-1788120000-1788130800@www.party-insider.com
SUMMARY:TON STEINE SCHERBEN - Kantine Konstanz
DESCRIPTION:Songs in der ersten Reihe! Legende pur! \n\n\n\n\nGibt es eine deutsche Rock-Band\, von der die meisten Songs auch nach über 50 Jahren kaum etwas an Aktualität verloren haben? Wahrscheinlich nicht viele\, aber mit Sicherheit eine: TON STEINE SCHERBEN. \n\n>>> Tickets <<< \n\nDie Band TON STEINE SCHERBEN hat inspiriert und wird oft und überall immer wieder gespielt und gecovert. Nach deren Auflösung (1985) touren noch bis heute zwei Ur-SCHERBEN durch deutschsprachige Länder: Gründungsmitglied Kai Sichtermann (Bass\, seit 1970) und Drummer Funky K. Götzner (ab 1974\, jetzt Cajón\, Percussion). \nSeit dem Frühjahr 2023 spielen sie zusammen mit der Singer-Songwriterin Birte Volta (Gesang\, Gitarre). Birte verinnerlicht sowohl den Folk-Blues als auch den daraus entstanden Rock’n’Roll mit Leidenschaft und Poesie und greift auf langjährige Straßen- und Bühnenerfahrung im In- und Ausland zurück\, mit ihrem Solo-Projekt sowie als Sängerin und Gitarristin in diversen Formationen dieser Genres (u.a. BM STEREO). \nDie Originale Kai & Funky treten mit der Sängerin Birte Volta in Clubs und bei Festivals auf und begeistern mit ihrem authentischen\, unverwechselbaren Sound und dem Repertoire Rio Reisers sowie der SCHERBEN \nDas Jahr 2025 ist der 75. Geburtstag der verstorbenen SCHERBEN-Gründungsmitglieder Rio Reiser (Gesang) und RPS Lanrue (Gitarre) – das Trio spielt ihre Konzerte in besonderem Gedenken an diese beiden Songwriter und hält die Erinnerungen an eine rebellische Zeit wach: \nSongs in der ersten Reihe! Legende pur! \nMit: Ton Steine Scherben\, Rio Reiser \nEinlass: 19 Uhr \nStart: 20 Uhr \nMit der Unterstützung durch kissundklein- Kommunikation\, Design und Identität
URL:https://www.party-insider.com/event/ton-steine-scherben-kantine-konstanz/
LOCATION:Kantine Konstanz\, Oberlohnstraße 3\, Konstanz\, 78467\, Germany
CATEGORIES:Kantine
ATTACH;FMTTYPE=image/webp:https://www.party-insider.com/wp-content/uploads/2026/03/IMG_5025.webp
END:VEVENT
END:VCALENDAR