BEGIN:VCALENDAR
VERSION:2.0
PRODID:-//Party-Insider - ECPv6.15.20//NONSGML v1.0//EN
CALSCALE:GREGORIAN
METHOD:PUBLISH
X-WR-CALNAME:Party-Insider
X-ORIGINAL-URL:https://www.party-insider.com
X-WR-CALDESC:Veranstaltungen im Party-Insider
REFRESH-INTERVAL;VALUE=DURATION:PT1H
X-Robots-Tag:noindex
X-PUBLISHED-TTL:PT1H
BEGIN:VTIMEZONE
TZID:Europe/Zurich
BEGIN:DAYLIGHT
TZOFFSETFROM:+0100
TZOFFSETTO:+0200
TZNAME:CEST
DTSTART:20250330T010000
END:DAYLIGHT
BEGIN:STANDARD
TZOFFSETFROM:+0200
TZOFFSETTO:+0100
TZNAME:CET
DTSTART:20251026T010000
END:STANDARD
BEGIN:DAYLIGHT
TZOFFSETFROM:+0100
TZOFFSETTO:+0200
TZNAME:CEST
DTSTART:20260329T010000
END:DAYLIGHT
BEGIN:STANDARD
TZOFFSETFROM:+0200
TZOFFSETTO:+0100
TZNAME:CET
DTSTART:20261025T010000
END:STANDARD
BEGIN:DAYLIGHT
TZOFFSETFROM:+0100
TZOFFSETTO:+0200
TZNAME:CEST
DTSTART:20270328T010000
END:DAYLIGHT
BEGIN:STANDARD
TZOFFSETFROM:+0200
TZOFFSETTO:+0100
TZNAME:CET
DTSTART:20271031T010000
END:STANDARD
END:VTIMEZONE
BEGIN:VEVENT
DTSTART;TZID=Europe/Zurich:20261009T210000
DTEND;TZID=Europe/Zurich:20261009T210000
DTSTAMP:20260424T054829
CREATED:20260314T144302Z
LAST-MODIFIED:20260314T144412Z
UID:10009295-1791579600-1791579600@www.party-insider.com
SUMMARY:Lollipop Julian Sommer - X-TRA Zürich
DESCRIPTION:Julian Sommer – Lollipop DJ Crew \nJulian Sommer hat sich als DER Top Star der Partyschlager Szene etabliert & im November 2025 unsere Gäste begeistert. Also keine Frage\, dass wir ihn wieder buchen. Mittlerweile reiht er Hit an Hit und wir sind auf sein neues Album gespannt. \n>>> Tickets <<< \n«Peter Pan(mit Mia Julia)»\, «Handwerker (mit Mickie Krause)» oder «Dicht im Flieger» werden zig millionenfach gestreamt und dürfen an keiner Schalgerparty fehlen. \nWir feiern zusätzlich auf 2 Dance Floors & in der Karaoke Lounge. \nViel Spass \nProgramm: \nFrühzeitiges Erscheinen empfohlen.\nTüröffnung und Party: 21 Uhr \nJulian Sommer dazu die DJs DJ Käpten Lollipop & Friends\nSchlager\, Après-Ski\, Disco\, Schweizer Hits \nWannabe – DJ Adrinardi\n80s\, 90\, 2000er \nKaraoke Lounge\nWo Du der Star bist \n(Programmänderungen vorbehalten)
URL:https://www.party-insider.com/event/lollipop-julian-sommer-x-tra-zuerich/
LOCATION:X-TRA Zürich\, Limmatstrasse 118\, Zürich\, 8005\, Switzerland
CATEGORIES:X-TRA Zürich
ATTACH;FMTTYPE=image/png:https://www.party-insider.com/wp-content/uploads/2026/03/IMG_2026-03-14-153911.png
END:VEVENT
BEGIN:VEVENT
DTSTART;TZID=Europe/Zurich:20261009T220000
DTEND;TZID=Europe/Zurich:20261009T220000
DTSTAMP:20260424T054829
CREATED:20250518T203204Z
LAST-MODIFIED:20260419T171012Z
UID:10002369-1791583200-1791583200@www.party-insider.com
SUMMARY:Club Time - Peggys Frauenfeld
DESCRIPTION:
URL:https://www.party-insider.com/event/club-time-in-peggys-frauenfeld/2026-10-09/
LOCATION:Peggys Frauenfeld\, Metzgerstrasse 1\, Frauenfeld\, 8500\, Switzerland
CATEGORIES:Peggy
ATTACH;FMTTYPE=image/jpeg:https://www.party-insider.com/wp-content/uploads/2025/05/IMG_1341.jpeg
END:VEVENT
BEGIN:VEVENT
DTSTART;TZID=Europe/Zurich:20261009T220000
DTEND;TZID=Europe/Zurich:20261009T220000
DTSTAMP:20260424T054829
CREATED:20251227T002346Z
LAST-MODIFIED:20260419T170537Z
UID:10009507-1791583200-1791583200@www.party-insider.com
SUMMARY:Live DJ - minoo Konstanz
DESCRIPTION:
URL:https://www.party-insider.com/event/babylon-bar-noa-konstanz-9/2026-10-09/
LOCATION:minoo Konstanz\, Bruderturmgasse 3\, Konstanz\, 78462\, Germany
CATEGORIES:minoo konstanz
ATTACH;FMTTYPE=image/jpeg:https://www.party-insider.com/wp-content/uploads/2025/12/IMG_5111.jpeg
END:VEVENT
END:VCALENDAR