BEGIN:VCALENDAR
VERSION:2.0
PRODID:-//Party-Insider - ECPv6.15.20//NONSGML v1.0//EN
CALSCALE:GREGORIAN
METHOD:PUBLISH
X-ORIGINAL-URL:https://www.party-insider.com
X-WR-CALDESC:Veranstaltungen im Party-Insider
REFRESH-INTERVAL;VALUE=DURATION:PT1H
X-Robots-Tag:noindex
X-PUBLISHED-TTL:PT1H
BEGIN:VTIMEZONE
TZID:Europe/Zurich
BEGIN:DAYLIGHT
TZOFFSETFROM:+0100
TZOFFSETTO:+0200
TZNAME:CEST
DTSTART:20290325T010000
END:DAYLIGHT
BEGIN:STANDARD
TZOFFSETFROM:+0200
TZOFFSETTO:+0100
TZNAME:CET
DTSTART:20291028T010000
END:STANDARD
BEGIN:DAYLIGHT
TZOFFSETFROM:+0100
TZOFFSETTO:+0200
TZNAME:CEST
DTSTART:20300331T010000
END:DAYLIGHT
BEGIN:STANDARD
TZOFFSETFROM:+0200
TZOFFSETTO:+0100
TZNAME:CET
DTSTART:20301027T010000
END:STANDARD
BEGIN:DAYLIGHT
TZOFFSETFROM:+0100
TZOFFSETTO:+0200
TZNAME:CEST
DTSTART:20310330T010000
END:DAYLIGHT
BEGIN:STANDARD
TZOFFSETFROM:+0200
TZOFFSETTO:+0100
TZNAME:CET
DTSTART:20311026T010000
END:STANDARD
END:VTIMEZONE
BEGIN:VEVENT
DTSTART;TZID=Europe/Zurich:20301221T210000
DTEND;TZID=Europe/Zurich:20301221T210000
DTSTAMP:20260425T172112
CREATED:20250510T155008Z
LAST-MODIFIED:20260419T170713Z
UID:10006689-1924117200-1924117200@www.party-insider.com
SUMMARY:Die K9-Disco im Kulturzentrum K9 Konstanz
DESCRIPTION:
URL:https://www.party-insider.com/event/die-k9-disco-im-kulturzentrum-k9-konstanz/2030-12-21/
LOCATION:K9 Konstanz\, Hieronymusgasse 3\, Konstanz\, 78462\, Switzerland
CATEGORIES:K9
ATTACH;FMTTYPE=image/jpeg:https://www.party-insider.com/wp-content/uploads/2025/02/IMG_0500.jpeg
END:VEVENT
BEGIN:VEVENT
DTSTART;TZID=Europe/Zurich:20301221T220000
DTEND;TZID=Europe/Zurich:20301221T220000
DTSTAMP:20260425T172112
CREATED:20250518T203204Z
LAST-MODIFIED:20260419T171012Z
UID:10007693-1924120800-1924120800@www.party-insider.com
SUMMARY:Club Time - Peggys Frauenfeld
DESCRIPTION:
URL:https://www.party-insider.com/event/club-time-in-peggys-frauenfeld/2030-12-21/
LOCATION:Peggys Frauenfeld\, Metzgerstrasse 1\, Frauenfeld\, 8500\, Switzerland
CATEGORIES:Peggy
ATTACH;FMTTYPE=image/jpeg:https://www.party-insider.com/wp-content/uploads/2025/05/IMG_1341.jpeg
END:VEVENT
BEGIN:VEVENT
DTSTART;TZID=Europe/Zurich:20301221T220000
DTEND;TZID=Europe/Zurich:20301221T220000
DTSTAMP:20260425T172112
CREATED:20251227T002346Z
LAST-MODIFIED:20260419T170537Z
UID:10009946-1924120800-1924120800@www.party-insider.com
SUMMARY:Live DJ - minoo Konstanz
DESCRIPTION:
URL:https://www.party-insider.com/event/babylon-bar-noa-konstanz-9/2030-12-21/
LOCATION:minoo Konstanz\, Bruderturmgasse 3\, Konstanz\, 78462\, Germany
CATEGORIES:minoo konstanz
ATTACH;FMTTYPE=image/jpeg:https://www.party-insider.com/wp-content/uploads/2025/12/IMG_5111.jpeg
END:VEVENT
END:VCALENDAR