BEGIN:VCALENDAR
VERSION:2.0
PRODID:-//Party-Insider - ECPv6.14.2//NONSGML v1.0//EN
CALSCALE:GREGORIAN
METHOD:PUBLISH
X-ORIGINAL-URL:https://www.party-insider.com
X-WR-CALDESC:Veranstaltungen im Party-Insider
REFRESH-INTERVAL;VALUE=DURATION:PT1H
X-Robots-Tag:noindex
X-PUBLISHED-TTL:PT1H
BEGIN:VTIMEZONE
TZID:Europe/Zurich
BEGIN:DAYLIGHT
TZOFFSETFROM:+0100
TZOFFSETTO:+0200
TZNAME:CEST
DTSTART:20250330T010000
END:DAYLIGHT
BEGIN:STANDARD
TZOFFSETFROM:+0200
TZOFFSETTO:+0100
TZNAME:CET
DTSTART:20251026T010000
END:STANDARD
END:VTIMEZONE
BEGIN:VEVENT
DTSTART;TZID=Europe/Zurich:20250620T210000
DTEND;TZID=Europe/Zurich:20250621T030000
DTSTAMP:20260423T002442
CREATED:20250619T051230Z
LAST-MODIFIED:20250619T052409Z
UID:10001272-1750453200-1750474800@www.party-insider.com
SUMMARY:Disco Party im GenX Konstanz
DESCRIPTION:Disco-Feeling pur – Glitzer\, Beats\, Bewegung…. \nDisco Night | 20. Juni 2025 | ab 21:00 Uhr \nLicht aus – Kugel an! Tauche ein in die Glitzerwelt der Disco Night im Club GenX. \nMit den besten Disco-Vibes\, echten Dancefloor-Klassikern und DJ Mario am Pult erwartet dich eine Nacht voller Bewegung\, Licht und legendärem Sound. \nMaybachstr. 8\, 78467 Konstanz \nClub GenX – where the night still shines. \n#DiscoNight #ClubGenX #DJMario #DiscoVibes #TanzflächeRuft #GenXKonstanz #GlitzerUndBeats #PartyKonstanz #80s90sGroove #LetTheBallSpin #DiscoFieber #DancingAllNight
URL:https://www.party-insider.com/event/disco-party-im-genx-konstanz-3-11/
LOCATION:Poly Club Konstanz\, Maybachstraße 8\, Konstanz\, 78467\, Germany
CATEGORIES:Poly Club Konstanz
ATTACH;FMTTYPE=image/jpeg:https://www.party-insider.com/wp-content/uploads/2025/03/IMG_5680.jpeg
END:VEVENT
BEGIN:VEVENT
DTSTART;TZID=Europe/Zurich:20250620T220000
DTEND;TZID=Europe/Zurich:20250621T010000
DTSTAMP:20260423T002442
CREATED:20250619T050218Z
LAST-MODIFIED:20250619T050801Z
UID:10002233-1750456800-1750467600@www.party-insider.com
SUMMARY:Club Time im Peggys Frauenfeld
DESCRIPTION:
URL:https://www.party-insider.com/event/club-time-in-peggys-frauenfeld-7/
LOCATION:Peggys Frauenfeld\, Metzgerstrasse 1\, Frauenfeld\, 8500\, Switzerland
CATEGORIES:Peggy
ATTACH;FMTTYPE=image/png:https://www.party-insider.com/wp-content/uploads/2025/05/IMG_2025-06-19-065554.png
END:VEVENT
BEGIN:VEVENT
DTSTART;TZID=Europe/Zurich:20250620T220000
DTEND;TZID=Europe/Zurich:20250621T040000
DTSTAMP:20260423T002442
CREATED:20250615T085724Z
LAST-MODIFIED:20250615T085724Z
UID:10003938-1750456800-1750478400@www.party-insider.com
SUMMARY:City Beats & Downtown im Bolero Winterthur
DESCRIPTION:
URL:https://www.party-insider.com/event/city-beats-downtown-im-bolero-winterthur/
LOCATION:Bolero Winterthur\, Vogelsangstrasse 10\, Winterthur\, 8400\, Switzerland
CATEGORIES:Bolero
ATTACH;FMTTYPE=image/jpeg:https://www.party-insider.com/wp-content/uploads/2025/06/IMG_2025-06-15-105507.jpeg
END:VEVENT
BEGIN:VEVENT
DTSTART;TZID=Europe/Zurich:20250620T220000
DTEND;TZID=Europe/Zurich:20250621T040000
DTSTAMP:20260423T002442
CREATED:20250615T091549Z
LAST-MODIFIED:20250615T093031Z
UID:10003940-1750456800-1750478400@www.party-insider.com
SUMMARY:Crush im Top10 Singen
DESCRIPTION: Crush – Die ultimative Flirt- und Single-Party! \nBist du bereit für einen unvergesslichen Abend voller Spaß\, Flirts und neuer Bekanntschaften? Dann komm zu „Crush“! Hier erwarten dich spannende Aktionen\, die speziell für Singles gedacht sind! \nWas dich erwartet:\n Speed-Dating: Lerne in kurzer Zeit viele neue Leute kennen!  Sektempfang für alle Single Ladies\n Flirtspiele: Nimm an lustigen Spielen teil\, um das Eis zu brechen! \n– Shot Roulette: Flirt & Drink – Dance-Off: Zeig deine besten Moves und gewinne coole Preise! \n✪ ZEIG UNS DEINEN STATUS!Leuchtende Flirtarmbänder zeigen:GRÜN: Single und offen für allesBLAU: Probier’s doch malROT: Vergeben\nKomm vorbei\, bring deine Freunde mit und erlebe einen Abend voller Flirts und Spaß!\n\n\n✪ MAINHALL✪DJ RELIQUE // Mixed Music\nRESERVIERUNGEN:Direkt über unsere Homepage – www.top10-singen.de\n★★★★★★★★★★★★★★★★★EINLASS AB 16 JAHREN (in Verbindung mit u18 Formular)DRESS TO IMPRESSÖffnungszeiten 22:00 – 4:00 UhrEintritt: Abendkasse 8€★★★★★★★★★★★★★★★★★
URL:https://www.party-insider.com/event/crush-im-top10-singen-3/
LOCATION:TOP10 Singen\, Otto-Hahn-Str. 5\, Singen (Hohentwiel)\, 78224\, Germany
CATEGORIES:Top10
ATTACH;FMTTYPE=image/png:https://www.party-insider.com/wp-content/uploads/2025/06/IMG_5522.png
END:VEVENT
BEGIN:VEVENT
DTSTART;TZID=Europe/Zurich:20250620T220000
DTEND;TZID=Europe/Zurich:20250621T040000
DTSTAMP:20260423T002442
CREATED:20250615T100438Z
LAST-MODIFIED:20250615T100438Z
UID:10003943-1750456800-1750478400@www.party-insider.com
SUMMARY:Weil ich ein Mädchen bin in Erdbeermund Singen
DESCRIPTION:Wei ich ein Mädchen bin ist…\nEine säuft. Eine heult. Eine kichert irre vor sich hin.\nZwei rennen schreiend durch den Club.\nEine steht beim DJ und macht sich über den Rest der Truppe lustig…\n\nFrauen haben die ganze Nacht freien Eintritt.\n\nUnsere Getränkeaktionen:\njede 3er Gruppe Frauen erhält eine Falsche Sekt gratis\n\nGrüße vom Erdbeermund Team\n▀▀▀▀▀▀▀▀▀▀▀▀▀▀▀▀▀▀▀▀▀\nX Music by DJ MIKA X\nBest of Mainstream\, Latino und Partyhits\n▀▀▀▀▀▀▀▀▀▀▀▀▀▀▀▀▀▀▀▀▀\nmore info\n►► Eintritt: 8\,00 EUR\n►► ab 21 Jahren\n►► Öffnungszeiten 22:00 – 4:00 Uhr\n►► Reservierungen: https://www.erdbeermund-singen.de
URL:https://www.party-insider.com/event/weil-ich-ein-maedchen-bin-in-erdbeermund-singen-3/
LOCATION:Erdbeermund Singen\, Otto-Hahn-Str. 5\, Singen (Hohentwiel)\, 78224\, Germany
CATEGORIES:Erdbeermund
ATTACH;FMTTYPE=image/png:https://www.party-insider.com/wp-content/uploads/2025/06/IMG_2025-06-15-115807.png
END:VEVENT
BEGIN:VEVENT
DTSTART;TZID=Europe/Zurich:20250620T220000
DTEND;TZID=Europe/Zurich:20250621T050000
DTSTAMP:20260423T002442
CREATED:20250615T084420Z
LAST-MODIFIED:20250615T084935Z
UID:10003936-1750456800-1750482000@www.party-insider.com
SUMMARY:💄LADIES NIGHT💄 im Grey Konstanz
DESCRIPTION:💄LADIES NIGHT💄 \n20 EURO FREIVERZEHR FÜR LADIES! \n❤️ Und sie feiern wieder in ihrem Lieblingsclub ❤️ \n🔆 Mädelsabend…\n🔆 Ladies Night…\n🔆 Queensclub… \n❣️Specials:\nLadies erhalten bis 00:00Uhr 20€ Getränkefreiverzehr\n(gültig die ganze Nacht) \n❌❌❌ EINTRITT FREI BIS 23 UHR FÜR ALLE ❌❌❌\ndie Ladies sind heute Abend wieder im größten Club am Bodensee zum feiern unterwegs.\nFeier mit uns DEIN WOCHENENDE auf 🔴 FÜNF MUSIKBEREICHEN 🔴! \n# Lounge Reservierung unter:\nhttp://www.greyclub.de
URL:https://www.party-insider.com/event/%f0%9f%92%84ladies-night%f0%9f%92%84-im-grey-konstanz-9/
LOCATION:Grey Konstanz\, Max-Stromeyerstr. 33\, Konstanz\, 78467\, Germany
CATEGORIES:Grey
ATTACH;FMTTYPE=image/jpeg:https://www.party-insider.com/wp-content/uploads/2025/06/IMG_2997.jpeg
END:VEVENT
BEGIN:VEVENT
DTSTART;TZID=Europe/Zurich:20250620T230000
DTEND;TZID=Europe/Zurich:20250621T050000
DTSTAMP:20260423T002442
CREATED:20250609T175620Z
LAST-MODIFIED:20250609T175716Z
UID:10003914-1750460400-1750482000@www.party-insider.com
SUMMARY:1 Night in Y2K in Kantine Konstanz
DESCRIPTION:Freitag 20.06. | 23:00 – 05:00 | \n@kantinekn \nY2K is calling – schnapp dir dein Flip Phone und schmeiß dich in dein liebstes 2000er-Outfit +°«»u^» \n* 40 Sounds by: \nDJ Vipcode \n@di_tico_ \n@nm.reisch aka Init \n-★ー \nMIXED MUSIC / RNB / HIP HOP / POP / DANCE \nNo sexism\, no homophobia\, no racism! \n°：*+°.次 XOXO°：.* \n@flashbacks_konstanz \n#y2k #2000s #y2kparty #y2kfashion #konstanz
URL:https://www.party-insider.com/event/1-night-in-y2k-in-kantine-konstanz-2/
LOCATION:Kantine Konstanz\, Oberlohnstraße 3\, Konstanz\, 78467\, Germany
CATEGORIES:Kantine
ATTACH;FMTTYPE=image/png:https://www.party-insider.com/wp-content/uploads/2025/06/IMG_2025-06-09-195427.png
END:VEVENT
BEGIN:VEVENT
DTSTART;TZID=Europe/Zurich:20250621T140000
DTEND;TZID=Europe/Zurich:20250621T180000
DTSTAMP:20260423T002442
CREATED:20250615T105134Z
LAST-MODIFIED:20250615T105418Z
UID:10003947-1750514400-1750528800@www.party-insider.com
SUMMARY:Kalimera Kollektiv im Akropolis Konstanz
DESCRIPTION:
URL:https://www.party-insider.com/event/kalimera-kollektiv-im-akropolis-konstanz/
ATTACH;FMTTYPE=image/jpeg:https://www.party-insider.com/wp-content/uploads/2025/06/IMG_5533.jpeg
END:VEVENT
BEGIN:VEVENT
DTSTART;TZID=Europe/Zurich:20250621T140000
DTEND;TZID=Europe/Zurich:20250621T220000
DTSTAMP:20260423T002443
CREATED:20250516T083317Z
LAST-MODIFIED:20250516T083408Z
UID:10002219-1750514400-1750543200@www.party-insider.com
SUMMARY:Daydance am Gemeindehafen Romanshorn Bodensee
DESCRIPTION:Bojenwache und SEEmotion 2025 finden statt!\nAm 20.06.2025 erleben wir die Rund Um hautnah mit. Die Wendeboje Romanshorn steht in nächstmöglicher Nähe zur Mole im Gemeindehafen und garantiert Segelspektakel pur.\nAm 21.06.2025 wird Schnuppersegeln und ein Day Dance vom Feinsten geboten.\nAlles auf der Mole im Gemeindehafen Romanshorn. \nSelbstverständlich steht eine Festwirtschaft bereit. \nBis bald an der SEEmotion 2025!
URL:https://www.party-insider.com/event/daydance-am-gemeindehafen-romanshorn-bodensee/
ATTACH;FMTTYPE=image/png:https://www.party-insider.com/wp-content/uploads/2025/05/IMG_2025-05-16-102918.png
END:VEVENT
BEGIN:VEVENT
DTSTART;TZID=Europe/Zurich:20250621T140000
DTEND;TZID=Europe/Zurich:20250621T220000
DTSTAMP:20260423T002443
CREATED:20250611T105741Z
LAST-MODIFIED:20250619T182413Z
UID:10003932-1750514400-1750543200@www.party-insider.com
SUMMARY:Day Dance am Gemeindehafen Romanshorn
DESCRIPTION:🎉 Daydance Vibes am See – SeeMotion 2025 🎶🌊\nAm 21. Juni heißt es: Sonnenbrille auf\, Drink in die Hand und ab an den See! ☀️\nVon 14:00 bis 22:00 Uhr feiern wir den Sommer mit feinsten House Beats direkt am Wasser! 🕺💃 \n🔥 Mit am Start:\n🎧  DJ PandaX – treibende Grooves & sommerliche Vibes\n🎧  Svelect – deep & funky House mit Seele\n🎧  Marc Diamond– feinste elektronische Tunes für die goldene Stunde \n📍 Location: Gemeindehafen Romanshorn\, die Daydance-Location am Wasser\n🎵 Musik: House | Summer | Good Vibes\n🕘 Uhrzeit: 14:00 – 22:00 \nTimetable fūr Day Dance: \n14:00-16:15 Uhr – Svelect\n16:15-17:45 Uhr – Marc Diamond\n17:45-20:45 Uhr – PandaX 🐼\n20:45-21:30 Uhr – Svelect\n21:30 – Schluss – Marc Diamond
URL:https://www.party-insider.com/event/day-dance-am-gemeindehafen-romanshorn/
ATTACH;FMTTYPE=image/jpeg:https://www.party-insider.com/wp-content/uploads/2025/06/165f83df-4cb3-49ff-992e-c8a4dd45de38.jpeg
END:VEVENT
BEGIN:VEVENT
DTSTART;TZID=Europe/Zurich:20250621T140000
DTEND;TZID=Europe/Zurich:20250621T220000
DTSTAMP:20260423T002443
CREATED:20250616T073803Z
LAST-MODIFIED:20250616T073803Z
UID:10003949-1750514400-1750543200@www.party-insider.com
SUMMARY:ROOFTOP Vibes im Glorious Bastards - Lago Konstanz
DESCRIPTION:
URL:https://www.party-insider.com/event/rooftop-vibes-im-glorious-bastards-lago-konstanz/
LOCATION:Glorious Bastards Konstanz\, Bodanstraße 1\, Konstanz\, 78462\, Germany
CATEGORIES:Glorious Bastards
ATTACH;FMTTYPE=image/jpeg:https://www.party-insider.com/wp-content/uploads/2025/06/IMG_5583.jpeg
END:VEVENT
BEGIN:VEVENT
DTSTART;TZID=Europe/Zurich:20250621T150000
DTEND;TZID=Europe/Zurich:20250622T040000
DTSTAMP:20260423T002443
CREATED:20250615T090449Z
LAST-MODIFIED:20250615T090549Z
UID:10003939-1750518000-1750564800@www.party-insider.com
SUMMARY:Daytimer - We love 2000 im Bolero Winterthur
DESCRIPTION:
URL:https://www.party-insider.com/event/daytimer-we-love-2000-im-bolero-winterthur/
LOCATION:Bolero Winterthur\, Vogelsangstrasse 10\, Winterthur\, 8400\, Switzerland
CATEGORIES:Bolero
ATTACH;FMTTYPE=image/jpeg:https://www.party-insider.com/wp-content/uploads/2025/06/IMG_2025-06-15-105947.jpeg
END:VEVENT
BEGIN:VEVENT
DTSTART;TZID=Europe/Zurich:20250621T160000
DTEND;TZID=Europe/Zurich:20250621T220000
DTSTAMP:20260423T002443
CREATED:20250617T133133Z
LAST-MODIFIED:20250617T133215Z
UID:10003956-1750521600-1750543200@www.party-insider.com
SUMMARY:Day Dance in US-MEX Terraza Kreuzlingen
DESCRIPTION:Freu dich auf mitreissende Beats\, sommerliche Vibes und elektrisierende Beats direkt am See! Am Samstag tanzen wir am Day Dance auf der US-MEX Terraza Kreuzlingen. Tanze unter freiem Himmel\, geniesse coole Drinks und den Sonnenuntergang in einzigartiger Atmosphäre. Unsere DJs liefern den perfekten Soundtrack für einen unvergesslichen Sommertag – Open Air\, direkt am Wasser und voller Lebensfreude. \n\nUS-MEX Terraza Kreuzlingen | Seestrasse 11B.2 / Seeufer West\nwww.usmex-terraza.ch
URL:https://www.party-insider.com/event/day-dance-in-us-mex-terraza-kreuzlingen/
LOCATION:US-MEX Terraza Kreuzlingen\, Seestrasse 11B.2 / Seeufer West\, Kreuzlingen\, 8280\, Switzerland
CATEGORIES:US-MEX Terraza Kreuzlingen
ATTACH;FMTTYPE=image/png:https://www.party-insider.com/wp-content/uploads/2025/06/IMG_2025-06-17-153028.png
END:VEVENT
BEGIN:VEVENT
DTSTART;TZID=Europe/Zurich:20250621T210000
DTEND;TZID=Europe/Zurich:20250621T210000
DTSTAMP:20260423T002443
CREATED:20250510T155008Z
LAST-MODIFIED:20260419T170713Z
UID:10001946-1750539600-1750539600@www.party-insider.com
SUMMARY:Die K9-Disco im Kulturzentrum K9 Konstanz
DESCRIPTION:
URL:https://www.party-insider.com/event/die-k9-disco-im-kulturzentrum-k9-konstanz/2025-06-21/
LOCATION:K9 Konstanz\, Hieronymusgasse 3\, Konstanz\, 78462\, Switzerland
CATEGORIES:K9
ATTACH;FMTTYPE=image/jpeg:https://www.party-insider.com/wp-content/uploads/2025/02/IMG_0500.jpeg
END:VEVENT
BEGIN:VEVENT
DTSTART;TZID=Europe/Zurich:20250621T210000
DTEND;TZID=Europe/Zurich:20250622T030000
DTSTAMP:20260423T002443
CREATED:20250617T075400Z
LAST-MODIFIED:20250617T075446Z
UID:10000501-1750539600-1750561200@www.party-insider.com
SUMMARY:Disco Fox & Schlager Party im GenX Konstanz
DESCRIPTION:Der Beat\, bei dem keiner sitzen bleibt.. \n21. Juni – ab 21 Uhr | Club GenX \nDiscofox & Schlager-Nacht mit DJ Grisu! \nOb du mitsingen willst\, dein Tanzbein schwingen lässt oder einfach die besten Schlager-Hits feiern willst – diese Nacht gehört dir! \nVon den Klassikern bis zu den modernen Fox-Beats – alles dabei! \nDJ Grisu sorgt für volle Tanzflächen & gute Laune nonstop! \nClub GenX | Maybachstr. 8 | 78467 Konstanz \nEintritt: 5 € \nTanzen\, feiern\, drehen\, lachen – wie früher\, nur besser! \n#DiscofoxParty #Schlagerabend #DJGrisu #GenXKonstanz #DiscoNacht #FoxUndFeeling #KonstanzFeiert #Schlagerliebe #SchlagerUndFox #TanzNacht #FreitagMitBeat #PartyMitHerz #GenXEvents #TanzenWieFrüher #DiscofoxLovers
URL:https://www.party-insider.com/event/disco-party-im-genx-konstanz-3-9/
LOCATION:Poly Club Konstanz\, Maybachstraße 8\, Konstanz\, 78467\, Germany
CATEGORIES:Poly Club Konstanz
ATTACH;FMTTYPE=image/png:https://www.party-insider.com/wp-content/uploads/2025/03/IMG_2025-06-17-095149.png
END:VEVENT
BEGIN:VEVENT
DTSTART;TZID=Europe/Zurich:20250621T220000
DTEND;TZID=Europe/Zurich:20250622T010000
DTSTAMP:20260423T002443
CREATED:20250619T050400Z
LAST-MODIFIED:20250619T050833Z
UID:10002234-1750543200-1750554000@www.party-insider.com
SUMMARY:Club Time im Peggys Frauenfeld
DESCRIPTION:
URL:https://www.party-insider.com/event/club-time-in-peggys-frauenfeld-8/
LOCATION:Peggys Frauenfeld\, Metzgerstrasse 1\, Frauenfeld\, 8500\, Switzerland
CATEGORIES:Peggy
ATTACH;FMTTYPE=image/png:https://www.party-insider.com/wp-content/uploads/2025/05/IMG_2025-06-19-065645.png
END:VEVENT
BEGIN:VEVENT
DTSTART;TZID=Europe/Zurich:20250621T220000
DTEND;TZID=Europe/Zurich:20250622T020000
DTSTAMP:20260423T002443
CREATED:20250617T061557Z
LAST-MODIFIED:20250617T061919Z
UID:10003951-1750543200-1750557600@www.party-insider.com
SUMMARY:Anotter Drum and Bass Event im Labor\, Contrast Konstanz
DESCRIPTION:Otter verlassen den Bau – Anotter Drum and Bass Event im Contrast ruft! \nAm 21.06. heißt’s: rein ins Wasser\, raus aus dem Alltag. \nDnB only – keine Umwege\, kein Geblubber. Nur Druck. \nDie Otter hinter’m Pult: \nA-BEING – schwappt zwischen Liquid und Roller\, bis der Teich kocht. \nLeopardy – gleitet smooth\, schlägt dann plötzlich zu. Wie ein Bass-Otter aus dem Hinterhalt. \nLiz – paddelt durch Jungle bis Neuro\, lässt’s zischen\, rollen und rasieren. \nContrast//Labor \nUhrzeit: 22-02 Uhr \nEintritt: frei \nWas du brauchst: \nTrockene Schuhe (optional) \nBock auf Bass (Pflicht) \nRudel-Energie (empfohlen) \nDenn wenn Otter feiern\, dann nicht leise. \nKeine Seerose bleibt heil\, kein Fell bleibt trocken. \nKein Platz für Sexismus\, Rassismus\, Homo-/Transphobie \nKein Dresscode – aber Otter tragen Fell und nicht Oberkörperfrei. \n#AnOtterDnB #OtterRave #DnBUndFluss #BassFlossen #ContrastLabor #OtternAberRichtig
URL:https://www.party-insider.com/event/anotter-drum-and-bass-event-im-labor-contrast-konstanz/
ATTACH;FMTTYPE=image/png:https://www.party-insider.com/wp-content/uploads/2025/06/IMG_2025-06-17-080949.png
END:VEVENT
BEGIN:VEVENT
DTSTART;TZID=Europe/Zurich:20250621T220000
DTEND;TZID=Europe/Zurich:20250622T040000
DTSTAMP:20260423T002443
CREATED:20250615T101759Z
LAST-MODIFIED:20250615T102253Z
UID:10003945-1750543200-1750564800@www.party-insider.com
SUMMARY:20 JAHRE DAMEN FC FRAUENFELD im Schlosskeller Frauenfeld
DESCRIPTION:20 JAHRE FRAUENPOWER – WIR FEIERN MIT EUCH!\nDer FC Frauenfeld feiert das 20-jährige Jubiläum seiner Frauenmannschaft – und ihr seid herzlich eingeladen! Nach einem offiziellen Teil für geladene Gäste öffnen wir ab 22.00 Uhr die Türen des Schlosskellers für alle\, die mit uns feiern möchten. \nFreut euch auf einen mitreissenden Open Format DJ\, der euch mit den besten Charts und Partytunes durch die Nacht begleitet. Ob Vereinsmitglied\, Fan oder einfach partybegeistert – kommt vorbei und lasst uns gemeinsam auf zwei Jahrzehnte Frauenfussball in Frauenfeld anstossen!
URL:https://www.party-insider.com/event/fc-frauenfeld-schlosskeller-frauenfeld/
LOCATION:Schlosskeller Frauenfeld\, Schlossmühlestrasse 1\, Frauenfeld\, 8500\, Switzerland
CATEGORIES:Schlosskeller
ATTACH;FMTTYPE=image/jpeg:https://www.party-insider.com/wp-content/uploads/2025/06/IMG_5531.jpeg
END:VEVENT
BEGIN:VEVENT
DTSTART;TZID=Europe/Zurich:20250621T220000
DTEND;TZID=Europe/Zurich:20250622T040000
DTSTAMP:20260423T002443
CREATED:20250615T120719Z
LAST-MODIFIED:20250615T120928Z
UID:10003948-1750543200-1750564800@www.party-insider.com
SUMMARY:Retro Party in Arena Amriswil
DESCRIPTION:LETZTE RETRO-PARTY \nVOR DER SOMMERPAUSE \nWir tauchen noch einmal so richtig in die 90er & 2000er ab\, bevor wir uns in die Sommerpause verabschieden! L Für alle Ladies gibt’s einen prickelnden Begrüssungs-Prosecco! \nSei dabei und feier mit uns eine unvergessliche Nacht voller Hits der 90er und 2000er Jahren \nEINTRITT: CHF 20.-IM RETRO OUTFIT/LOOK: CHF 10.-
URL:https://www.party-insider.com/event/retro-party-in-arena-amriswil/
LOCATION:Mood12 Amriswil\, Schrofenstrasse 12\, Amriswil​​​​​​​\, 8580\, Switzerland
CATEGORIES:MOOD12 Amriswil
ATTACH;FMTTYPE=image/jpeg:https://www.party-insider.com/wp-content/uploads/2025/06/IMG_5537.jpeg
END:VEVENT
BEGIN:VEVENT
DTSTART;TZID=Europe/Zurich:20250621T220000
DTEND;TZID=Europe/Zurich:20250622T050000
DTSTAMP:20260423T002443
CREATED:20250615T084855Z
LAST-MODIFIED:20250615T084855Z
UID:10003937-1750543200-1750568400@www.party-insider.com
SUMMARY:💥 HIP HOP AT LAKE 💥 in Grey Konstanz
DESCRIPTION:💥 HIP HOP AT LAKE KONSTANZ 💥 \nWHITE NIGHT EDITION \n🔥🎶 HIP HOP AT LAKE KONSTANZ – DIE PARTY LEGEND AM SEE! 🎶🔥\n💥 Today’s the Day: Die größte Hip Hop Party am Bodensee in der größten Diskothek der Region – Club 1! 💥\nDas wird Massiv\, das wird Laut\, das wird Unvergesslich!\n🎧 Sound Alert: DJ Mighty Mike von Planet Radio / Frankfurt liefert dir heute den feinsten Mix aus:\n➡️ Hip Hop\n➡️ Trap\n➡️ Dancehall\n➡️ Reggaeton\n➡️ R&B\n🔥 100% Lit Vibes garantiert – bring deine Moves! 🔥\n💃 Unsere heißen GoGo’s sind ON FIRE und pushen den Energielevel auf Maximum! 😏💎\n📣 How to join the party:\n👉 Einlass: Ab 22 Uhr\n👉 Free Entry bis 23 Uhr – Sei early\, save dein Spot und dreh mit uns durch! 😎\n🎉 Das wird der ULTIMATE TURN-UP\, den du nicht verpassen willst! Bring deine Crew und mach dich bereit für eine Nacht voller Beats\, Hype und intensiven Partymomenten.\n🚀 Club 1 – Hip Hop Heaven am Bodensee** 🚀\n#HipHopAtLake #PartyTurnUp #Club1Vibes #LetsGetIt\n# Lounge Reservierung unter:\nhttp://www.greyclub.de
URL:https://www.party-insider.com/event/%f0%9f%92%a5-hip-hop-at-lake-%f0%9f%92%a5-in-grey-konstanz/
LOCATION:Grey Konstanz\, Max-Stromeyerstr. 33\, Konstanz\, 78467\, Germany
CATEGORIES:Grey
ATTACH;FMTTYPE=image/jpeg:https://www.party-insider.com/wp-content/uploads/2025/06/IMG_5517.jpeg
END:VEVENT
BEGIN:VEVENT
DTSTART;TZID=Europe/Zurich:20250621T220000
DTEND;TZID=Europe/Zurich:20250622T050000
DTSTAMP:20260423T002443
CREATED:20250615T093911Z
LAST-MODIFIED:20250615T093911Z
UID:10003941-1750543200-1750568400@www.party-insider.com
SUMMARY:Ladies Night im Top10 Singen
DESCRIPTION:Oh yes it’s Ladies Night!\nLadies aufgepasst das wird eure Nacht!\nHeute stehen die Ladies im Mittelpunkt der Party deshalb haben wir für euch ein ganz besonderes Special:\nSchnapp dir deine Mädels und ab gehts ins Top10 nach Singen!\n alle Ladies erhalten bis 23.30 Uhr freien Eintritt\n bis 23:30 Uhr gibt es einen 20\,- € Getränkegutschein für alle Ladies\n Die größte Ladies Gruppe die bis 24 Uhr eincheckt erhält eine VIP Lounge gratis!\n✪ MAINHALL ✪DJ NOT A SAINT // Mixed up\nRESERVIERUNGEN:Direkt über unsere Homepage – www.top10-singen.de\n★★★★★★★★★★★★★★★★★EINLASS AB 18 JAHREN DRESS TO IMPRESSÖffnungszeiten 22:00 – 5:00 UhrEintritt: Abendkasse 8€★★★★★★★★★★★★★★★★★\nWir freuen uns auf euch!
URL:https://www.party-insider.com/event/ladies-night-im-top10-singen-4/
LOCATION:TOP10 Singen\, Otto-Hahn-Str. 5\, Singen (Hohentwiel)\, 78224\, Germany
CATEGORIES:Top10
ATTACH;FMTTYPE=image/png:https://www.party-insider.com/wp-content/uploads/2025/06/IMG_2025-06-15-113726.png
END:VEVENT
BEGIN:VEVENT
DTSTART;TZID=Europe/Zurich:20250621T220000
DTEND;TZID=Europe/Zurich:20250622T050000
DTSTAMP:20260423T002443
CREATED:20250615T100903Z
LAST-MODIFIED:20250615T100903Z
UID:10003944-1750543200-1750568400@www.party-insider.com
SUMMARY:Mädelsabend in Erdbeermund Singen
DESCRIPTION:Heute ist wieder Mädels Abend!!!\n\nMädels Abend ist…\nEine säuft. Eine heult. Eine kichert irre vor sich hin.\nZwei rennen schreiend durch den Club.\nEine steht beim DJ und macht sich über den Rest der Truppe lustig…\n\nFrauen haben bis 24.00 Uhr freien Eintritt.\n\nUnsere Getränkeaktionen:\nEmund Sekt 0\,7l 12€ statt 19€\nSalitos Pink 0\,33l 2\,50 € statt 4\,50€\nPiccolo 0\,2l 3€\n\nGrüße vom Erdbeermund Team\n▀▀▀▀▀▀▀▀▀▀▀▀▀▀▀▀▀▀▀▀▀\nX Music by DJ Sanvalentino X\nBest of Mainstream\, Latino und Partyhits\n▀▀▀▀▀▀▀▀▀▀▀▀▀▀▀▀▀▀▀▀▀\nmore info\n►► Eintritt: 9\,00 EUR\n►► ab 21 Jahren\n►► Öffnungszeiten 22:00 – 5:00 Uhr\n►► Reservierungen: https://www.erdbeermund-singen.de
URL:https://www.party-insider.com/event/maedelsabend-in-erdbeermund-singen-2/
LOCATION:Erdbeermund Singen\, Otto-Hahn-Str. 5\, Singen (Hohentwiel)\, 78224\, Germany
CATEGORIES:Erdbeermund
ATTACH;FMTTYPE=image/png:https://www.party-insider.com/wp-content/uploads/2025/06/IMG_2025-06-15-120602.png
END:VEVENT
BEGIN:VEVENT
DTSTART;TZID=Europe/Zurich:20250622T140000
DTEND;TZID=Europe/Zurich:20250622T140000
DTSTAMP:20260423T002443
CREATED:20250615T102843Z
LAST-MODIFIED:20250615T103019Z
UID:10003946-1750600800-1750600800@www.party-insider.com
SUMMARY:SUN.DAY.LAKE.MUSIC in US-MEX Terraza Kreuzlingen
DESCRIPTION:SONNENSCHEIN\, ENTSPANNTE BEATS UND URLAUBSFEELING DIREKT AM WASSER:\nFreut euch auf elektronische Klänge in chilliger Atmosphäre und erfrischende Drinks – alles eingebettet in unsere einzigartige Kulisse direkt am See. Pack deine Sonnenbrille ein und geniesse den Sonntag wie einen Kurzurlaub. Wir freuen uns auf dich! \n\nUS-MEX Terraza Kreuzlingen | Seestrasse 11B.2 / Seeufer West\nBei Sonnenschein täglich ab 12.00 Uhr geöffnet | www.usmex-terraza.ch
URL:https://www.party-insider.com/event/sun-day-lake-music-in-us-mex-terraza-kreuzlingen-3/
LOCATION:US-MEX Terraza Kreuzlingen\, Seestrasse 11B.2 / Seeufer West\, Kreuzlingen\, 8280\, Switzerland
CATEGORIES:US-MEX Terraza Kreuzlingen
ATTACH;FMTTYPE=image/jpeg:https://www.party-insider.com/wp-content/uploads/2025/06/IMG_5532.jpeg
END:VEVENT
BEGIN:VEVENT
DTSTART;VALUE=DATE:20250624
DTEND;VALUE=DATE:20250626
DTSTAMP:20260423T002443
CREATED:20250623T095435Z
LAST-MODIFIED:20250623T095435Z
UID:10003981-1750744800-1750831199@www.party-insider.com
SUMMARY:Spritz Tour in Strandbar Konstanz
DESCRIPTION:Spritz Tour ||| Aperol Spritz 4.8€ ||| Dienstag\, 24.06.25 \nMusik: @_robin.dj @larniedjuk \n#strandbarkonstanz #konstanz #bodensee #strandbar #seezeit
URL:https://www.party-insider.com/event/spritz-tour-in-strandbar-konstanz-2/
ATTACH;FMTTYPE=image/png:https://www.party-insider.com/wp-content/uploads/2025/06/IMG_2025-06-23-115259.png
END:VEVENT
BEGIN:VEVENT
DTSTART;TZID=Europe/Zurich:20250625T200000
DTEND;TZID=Europe/Zurich:20250625T230000
DTSTAMP:20260423T002443
CREATED:20250625T075841Z
LAST-MODIFIED:20250625T075913Z
UID:10003987-1750881600-1750892400@www.party-insider.com
SUMMARY:HTWG Sommerfest - Strandbar Konstanz
DESCRIPTION:
URL:https://www.party-insider.com/event/htwg-sommerfest-strandbar-konstanz/
ATTACH;FMTTYPE=image/png:https://www.party-insider.com/wp-content/uploads/2025/06/IMG_2025-06-25-095640.png
END:VEVENT
BEGIN:VEVENT
DTSTART;TZID=Europe/Zurich:20250626T170000
DTEND;TZID=Europe/Zurich:20250626T170000
DTSTAMP:20260423T002443
CREATED:20250402T043915Z
LAST-MODIFIED:20260422T173806Z
UID:10001544-1750957200-1750957200@www.party-insider.com
SUMMARY:After Work - Peggys Frauenfeld
DESCRIPTION:
URL:https://www.party-insider.com/event/after-work-im-peggys-frauenfeld/2025-06-26/
LOCATION:Peggys Frauenfeld\, Metzgerstrasse 1\, Frauenfeld\, 8500\, Switzerland
CATEGORIES:Peggy
ATTACH;FMTTYPE=image/jpeg:https://www.party-insider.com/wp-content/uploads/2025/04/IMG_6453.jpeg
END:VEVENT
BEGIN:VEVENT
DTSTART;TZID=Europe/Zurich:20250626T170000
DTEND;TZID=Europe/Zurich:20250626T220000
DTSTAMP:20260423T002443
CREATED:20250623T072000Z
LAST-MODIFIED:20250623T072036Z
UID:10003977-1750957200-1750975200@www.party-insider.com
SUMMARY:OUT OF OFFICE: ELEKTRONISCHE BEATS ZUM FEIERABEND in US-MEX Terraza Kreuzlingen
DESCRIPTION:ENTFLIEHE DEM BÜROALLTAG UND TAUCHE EIN IN DIE ENTSPANNTE ATMOSPHÄRE VON OUT OF OFFICE!\nJeweils an ausgewählten Donnerstagabenden verwandelt sich die US-MEX Terraza\, unsere idyllische Strandbar direkt am See\, in einen Afterwork-Hotspot. Elektronische Musik von Live-DJs begleitet dich in den Feierabend und lässt den Stress der Woche vergessen. Komm vorbei\, geniesse die erfrischenden Drinks und lass den Alltag durch die Klänge der Musik und die malerische Abendstimmung vergessen. Out of Office – der Afterwork-Event\, welcher dich jede Woche aufs Neue begeistern wird. \n\nUS-MEX Terraza Kreuzlingen | Seestrasse 11B.2 / Seeufer West\nwww.usmex-terraza.ch
URL:https://www.party-insider.com/event/out-of-office-elektronische-beats-zum-feierabend-in-us-mex-terraza-kreuzlingen-2/
LOCATION:US-MEX Terraza Kreuzlingen\, Seestrasse 11B.2 / Seeufer West\, Kreuzlingen\, 8280\, Switzerland
CATEGORIES:US-MEX Terraza Kreuzlingen
ATTACH;FMTTYPE=image/jpeg:https://www.party-insider.com/wp-content/uploads/2025/06/IMG_5889.jpeg
END:VEVENT
BEGIN:VEVENT
DTSTART;TZID=Europe/Zurich:20250626T183000
DTEND;TZID=Europe/Zurich:20250626T235500
DTSTAMP:20260423T002443
CREATED:20250623T154700Z
LAST-MODIFIED:20250623T212012Z
UID:10003983-1750962600-1750982100@www.party-insider.com
SUMMARY:Breeze Rooftop Afterwork im Glorious Bastards Konstanz
DESCRIPTION:
URL:https://www.party-insider.com/event/breeze-rooftop-afterwork-im-glorious-bastards-konstanz-2/
LOCATION:Glorious Bastards Konstanz\, Bodanstraße 1\, Konstanz\, 78462\, Germany
CATEGORIES:Glorious Bastards
ATTACH;FMTTYPE=image/jpeg:https://www.party-insider.com/wp-content/uploads/2025/06/E5168C7B-9FE8-42C9-A3D5-114982F9C6EB.jpeg
END:VEVENT
BEGIN:VEVENT
DTSTART;TZID=Europe/Zurich:20250626T203000
DTEND;TZID=Europe/Zurich:20250626T203000
DTSTAMP:20260423T002443
CREATED:20250609T184440Z
LAST-MODIFIED:20250609T184440Z
UID:10003920-1750969800-1750969800@www.party-insider.com
SUMMARY:JAKE SULEMAN - LIVE in Peggys Frauenfeld
DESCRIPTION:
URL:https://www.party-insider.com/event/jake-suleman-live-in-peggys-frauenfeld/
LOCATION:Peggys Frauenfeld\, Metzgerstrasse 1\, Frauenfeld\, 8500\, Switzerland
CATEGORIES:Peggy
ATTACH;FMTTYPE=image/jpeg:https://www.party-insider.com/wp-content/uploads/2025/06/IMG_5193.jpeg
END:VEVENT
BEGIN:VEVENT
DTSTART;VALUE=DATE:20250627
DTEND;VALUE=DATE:20250701
DTSTAMP:20260423T002443
CREATED:20250626T180503Z
LAST-MODIFIED:20250626T180806Z
UID:10003996-1751004000-1751263199@www.party-insider.com
SUMMARY:Singener Stadtfest 2025
DESCRIPTION:Von Freitag\, 27. bis Sonntag\, 29 Juni 2025 wird beim Stadtfest für tausende Besucherinnen und Besucher ein unterhaltsames und vielseitiges Programm präsentiert.  Am Samstag\, den 28. Juni 2025 findet das Landesmusikfestival statt. \nGemeinsam mit den Singener Vereinen\, dem Singener Handel und vielen weiteren Partnern wird die City zu einem quirligen Treffpunkt. \nSingen zeigt seine bunte und internationale Seite\, viele ehrenamtliche Akteure verdeutlichen gelebtes Miteinander. \nDazu gehörten auch aktive Inklusion\, Integration und Ökumene. \nhttps://www.singen-totallokal.de
URL:https://www.party-insider.com/event/singener-stadtfest-2025/
ATTACH;FMTTYPE=image/jpeg:https://www.party-insider.com/wp-content/uploads/2025/06/IMG_6023.jpeg
END:VEVENT
END:VCALENDAR