BEGIN:VCALENDAR
VERSION:2.0
PRODID:-//Party-Insider - ECPv6.15.20//NONSGML v1.0//EN
CALSCALE:GREGORIAN
METHOD:PUBLISH
X-WR-CALNAME:Party-Insider
X-ORIGINAL-URL:https://www.party-insider.com
X-WR-CALDESC:Veranstaltungen im Party-Insider
REFRESH-INTERVAL;VALUE=DURATION:PT1H
X-Robots-Tag:noindex
X-PUBLISHED-TTL:PT1H
BEGIN:VTIMEZONE
TZID:Europe/Zurich
BEGIN:DAYLIGHT
TZOFFSETFROM:+0100
TZOFFSETTO:+0200
TZNAME:CEST
DTSTART:20240331T010000
END:DAYLIGHT
BEGIN:STANDARD
TZOFFSETFROM:+0200
TZOFFSETTO:+0100
TZNAME:CET
DTSTART:20241027T010000
END:STANDARD
BEGIN:DAYLIGHT
TZOFFSETFROM:+0100
TZOFFSETTO:+0200
TZNAME:CEST
DTSTART:20250330T010000
END:DAYLIGHT
BEGIN:STANDARD
TZOFFSETFROM:+0200
TZOFFSETTO:+0100
TZNAME:CET
DTSTART:20251026T010000
END:STANDARD
BEGIN:DAYLIGHT
TZOFFSETFROM:+0100
TZOFFSETTO:+0200
TZNAME:CEST
DTSTART:20260329T010000
END:DAYLIGHT
BEGIN:STANDARD
TZOFFSETFROM:+0200
TZOFFSETTO:+0100
TZNAME:CET
DTSTART:20261025T010000
END:STANDARD
END:VTIMEZONE
BEGIN:VEVENT
DTSTART;TZID=Europe/Zurich:20250301T203000
DTEND;TZID=Europe/Zurich:20250302T013000
DTSTAMP:20260425T151427
CREATED:20250223T185025Z
LAST-MODIFIED:20250223T185133Z
UID:10000248-1740861000-1740879000@www.party-insider.com
SUMMARY:Club Classix im NOA Konstanz
DESCRIPTION:DJ Zoki
URL:https://www.party-insider.com/event/club-classix-im-noa-konstanz/
ATTACH;FMTTYPE=image/jpeg:https://www.party-insider.com/wp-content/uploads/2025/02/978E200C-920E-421B-B963-9C609BDA2E11.jpeg
END:VEVENT
BEGIN:VEVENT
DTSTART;TZID=Europe/Zurich:20250301T200000
DTEND;TZID=Europe/Zurich:20250302T020000
DTSTAMP:20260425T151427
CREATED:20250301T122249Z
LAST-MODIFIED:20250301T122319Z
UID:10000381-1740859200-1740880800@www.party-insider.com
SUMMARY:KATZ FASTNACHTS PARTY in Schwarze Katz Konstanz
DESCRIPTION:Willkommen zur großen Fasnachts Party in der Schwarzen Katz: \nFASNACHTS SAMSTAG: Ab 20:00 Uhr\nFeiert mit unseren DJ’s zu den größten Hits aller Zeiten in der Bar und in unserem Party-Zelt! Holt Euch rechtzeitig euer Einlassbändchen* im Vorverkauf. Wir freuen uns auf Euch! \nVORVERKUAUFSTELLEN:\nNamNam Club\nFastnachtsladen Niederburg Konstanz\n*Das Einlassband garantiert nicht den Eintritt während eines Einlassstopp.\nKeine Lust anzustehen aber immer garantierten Einlass zu haben ?\nFragt beim Vorverkauf nach unseren Golden Bändchen.\nAchtung die Anzahl ist streng limitiert
URL:https://www.party-insider.com/event/katz-fastnachts-party-in-schwarze-katz-konstanz-2/
LOCATION:Schwarze Katz Konstanz\, Katzgasse 8\, Konstanz\, 78462\, Germany
CATEGORIES:Schwarze Katz
ATTACH;FMTTYPE=image/jpeg:https://www.party-insider.com/wp-content/uploads/2025/02/katz_27-02-25_modified.jpeg
END:VEVENT
BEGIN:VEVENT
DTSTART;TZID=Europe/Zurich:20250301T200000
DTEND;TZID=Europe/Zurich:20250301T200000
DTSTAMP:20260425T151427
CREATED:20250122T235132Z
LAST-MODIFIED:20250123T000339Z
UID:10000138-1740859200-1740859200@www.party-insider.com
SUMMARY:Alkazuül-Party Fasnacht in Frauenfeld
DESCRIPTION:
URL:https://www.party-insider.com/event/alkazuuel-party-fasnacht-in-frauenfeld/
ATTACH;FMTTYPE=image/jpeg:https://www.party-insider.com/wp-content/uploads/2025/01/0E1CB042-A7BD-4130-A6D1-4FB3256586E9.jpeg
END:VEVENT
BEGIN:VEVENT
DTSTART;TZID=Europe/Zurich:20250301T190000
DTEND;TZID=Europe/Zurich:20250302T040000
DTSTAMP:20260425T151427
CREATED:20250118T132931Z
LAST-MODIFIED:20250118T132931Z
UID:10000104-1740855600-1740888000@www.party-insider.com
SUMMARY:Singemer Fasnachtsnacht in Top10 Singen
DESCRIPTION:Heute Abend Einlass nur mit gültigem VVK Ticket der Singemer Fasnachtsnacht!\nHier gehts zum VVK Ticket:\nhttps://www.poppele-zunft.de/aktuelles/karten-html/\nEinlass ab 19 UhrBeginn ab 20 Uhr
URL:https://www.party-insider.com/event/singemer-fasnachtsnacht-in-top10-singen/
LOCATION:TOP10 Singen\, Otto-Hahn-Str. 5\, Singen (Hohentwiel)\, 78224\, Germany
CATEGORIES:Top10
ATTACH;FMTTYPE=image/png:https://www.party-insider.com/wp-content/uploads/2025/01/top10_01-03-25.png
END:VEVENT
BEGIN:VEVENT
DTSTART;TZID=Europe/Zurich:20250301T150000
DTEND;TZID=Europe/Zurich:20250302T040000
DTSTAMP:20260425T151427
CREATED:20250205T041043Z
LAST-MODIFIED:20250205T041043Z
UID:10000171-1740841200-1740888000@www.party-insider.com
SUMMARY:Daytimer - Finest Black Beats - Moon Lights im Bolero Winterthur
DESCRIPTION:
URL:https://www.party-insider.com/event/daytimer-finest-black-beats-moon-lights-im-bolero-winterthur/
LOCATION:Bolero Winterthur\, Vogelsangstrasse 10\, Winterthur\, 8400\, Switzerland
CATEGORIES:Bolero
ATTACH;FMTTYPE=image/jpeg:https://www.party-insider.com/wp-content/uploads/2025/02/IMG_0028.jpeg
END:VEVENT
BEGIN:VEVENT
DTSTART;TZID=Europe/Zurich:20250228T230000
DTEND;TZID=Europe/Zurich:20250301T050000
DTSTAMP:20260425T151427
CREATED:20250209T140914Z
LAST-MODIFIED:20250209T142554Z
UID:10000203-1740783600-1740805200@www.party-insider.com
SUMMARY:Magic Ladies Night DJ Sebo Beats in Sugar Club Winterthur
DESCRIPTION:#dj #djlife #münchen #djclub #video #schweiz #zurich #zürich #winterhur
URL:https://www.party-insider.com/event/magic-ladies-night-dj-sebo-beats-in-suger-club-winterthur/
LOCATION:Sugar Club Winterthur\, Schaffhauserstrasse 201\, Winterthur\, 8400\, Switzerland
CATEGORIES:Sugar Club
ATTACH;FMTTYPE=image/jpeg:https://www.party-insider.com/wp-content/uploads/2025/02/IMG_2025-02-09-150705.jpeg
END:VEVENT
BEGIN:VEVENT
DTSTART;TZID=Europe/Zurich:20250228T223000
DTEND;TZID=Europe/Zurich:20250301T050000
DTSTAMP:20260425T151427
CREATED:20250218T215319Z
LAST-MODIFIED:20250218T215319Z
UID:10000217-1740781800-1740805200@www.party-insider.com
SUMMARY:💄 GLAMOUR LADIES NIGHT SPECIAL 💄 im Grey Konstanz
DESCRIPTION:20 EURO FREIVERZEHR FÜR LADIES! \n✨ **LADIES\, IT’S YOUR NIGHT!** ✨\nHeute Abend steht alles im Zeichen von Glamour\, Stil und jeder Menge Spaß bei der **Glamour Ladies Night** im **Grey Konstanz**! 💃✨\n💎 **SPECIAL HIGHLIGHT** 💎\nGewinne eine **Fahrt in einer Hummer Stretchlimo** für Dich und Deine besten Mädels – stilvoller kannst Du nicht ins Grey fahren! 🚖💎\n🎉 **So einfach geht’s:**\nFüll einen Teilnahmezettel aus und gib ihn bis zum **28.02.25** bei uns ab. Teilnahme nur für Ladies! 😘\n👑 **Wichtig:** Am 28.02.25 musst Du dabei sein\, um zu erfahren\, ob Du gewonnen hast – der Gewinn ist nur mit Deiner Anwesenheit möglich!\n🌟 **EXTRA MEGA SPECIAL HEUTE:**\nIm **Club 2** erwartet Euch exklusiv eine **heiße MEN-STRIP-SHOW** – nur für unsere Ladies! 😏🔥\n🎁 **Noch mehr Goodies:**\n– **20 € Freiverzehr** für alle Ladies\, die es vor Mitternacht zu uns in den Club schaffen!\n– **Freier Eintritt bis 23 Uhr!**\n– **Party auf 4 Floors – die ganze Nacht!** 💃🕺\nSchnapp Dir Deine Mädels und schmeiße Dich in Dein bestes Outfit – heute Abend gehört die Party ganz Euch! 💄✨\n📍 **Grey Konstanz**\n⏰ **Doors Open: 22:00**\n💃 **LET’S MAKE IT A NIGHT TO REMEMBER!** 💃\n___\n🔥 _Markiere Deine Mädels und lasst uns gemeinsam die Nacht unvergesslich machen!_ 🔥
URL:https://www.party-insider.com/event/%f0%9f%92%84-glamour-ladies-night-special-%f0%9f%92%84-im-grey-konstanz/
LOCATION:Grey Konstanz\, Max-Stromeyerstr. 33\, Konstanz\, 78467\, Germany
CATEGORIES:Grey
ATTACH;FMTTYPE=image/jpeg:https://www.party-insider.com/wp-content/uploads/2025/02/grey_28-02-25.jpg
END:VEVENT
BEGIN:VEVENT
DTSTART;TZID=Europe/Zurich:20250228T220000
DTEND;TZID=Europe/Zurich:20250301T050000
DTSTAMP:20260425T151427
CREATED:20250205T051227Z
LAST-MODIFIED:20250205T051227Z
UID:10000189-1740780000-1740805200@www.party-insider.com
SUMMARY:I ♥️ OLDSCHOOL & 💄LADIES NIGHT💄 im Grey Konstanz
DESCRIPTION:20 EURO FREIVERZEHR FÜR LADIES! \nI LOVE OLDSCHOOL 🎉\n📅 Freitag\, 28. Februar\n📍 Grey Konstanz – Max-Stromeyer-Straße 33\, 78467 Konstanz \nErlebt die besten Oldschool-Vibes der Stadt! 🎶🎤\nWir bringen euch zurück in die goldene Ära des Hip-Hop\, Funk und R’n’B mit Top DJs\, vielen Specials und einer unvergesslichen Party! 💃🕺 \n✅ FREE ENTRY bis 23 Uhr!\nSchnapp dir deine Crew und seid rechtzeitig da\, um euch den kostenlosen Eintritt zu sichern! \n💥 Don’t miss it!\nDer perfekte Start ins Wochenende für alle Oldschool-Fans. Lasst euch von den Beats und der Stimmung mitreißen! 🎧 \n❣️Specials:\nLadies erhalten bis 00:00Uhr 20€ Getränkefreiverzehr\n(gültig die ganze Nacht) \n# Lounge Reservierung unter:\nhttp://www.greyclub.de
URL:https://www.party-insider.com/event/i-%e2%99%a5%ef%b8%8f-oldschool-%f0%9f%92%84ladies-night%f0%9f%92%84-im-grey-konstanz/
LOCATION:Grey Konstanz\, Max-Stromeyerstr. 33\, Konstanz\, 78467\, Germany
CATEGORIES:Grey
ATTACH;FMTTYPE=image/jpeg:https://www.party-insider.com/wp-content/uploads/2025/02/IMG_0046.jpeg
END:VEVENT
BEGIN:VEVENT
DTSTART;TZID=Europe/Zurich:20250228T220000
DTEND;TZID=Europe/Zurich:20250301T040000
DTSTAMP:20260425T151427
CREATED:20250205T054020Z
LAST-MODIFIED:20250205T054020Z
UID:10000194-1740780000-1740801600@www.party-insider.com
SUMMARY:F**K it's my birthday 16+ im Top10 Singen
DESCRIPTION:F*** it’s my Birthday! Feier mit deinen Freunden deinen Geburtstag im Top10 Singen!\nF*** it’s my Birthday! Feier mit deinen Freunden deinen Geburtstag im Top10 Singen!  \nDu hattest im Februar Geburtstag? Dann checke bis 23 Uhr ein und erhalte freien Eintritt und folgendes:\nU18: Eine Flasche Sekt\nÜ18: Eine Fl. 0\,5l 9Mile Vodka inkl. 1l Beigetränk\nVerpasse dieses Highlight auf keinen Fall und starte so richtig ins Wochenende! \n✪ MAINHALL✪\nDJ MPR // Mixed Music \nRESERVIERUNGEN:\nDirekt über unsere Homepage – www.top10-singen.de \n★★★★★★★★★★★★★★★★★\nEINLASS AB 16 JAHREN (in Verbindung mit u18 Formular)\nDRESS TO IMPRESS\nÖffnungszeiten 22:00 – 4:00 Uhr\nEintritt: Abendkasse 8€\n★★★★★★★★★★★★★★★★★
URL:https://www.party-insider.com/event/fk-its-my-birthday-16-im-top10-singen-2/
LOCATION:TOP10 Singen\, Otto-Hahn-Str. 5\, Singen (Hohentwiel)\, 78224\, Germany
CATEGORIES:Top10
ATTACH;FMTTYPE=image/png:https://www.party-insider.com/wp-content/uploads/2025/02/IMG_0050-1.png
END:VEVENT
BEGIN:VEVENT
DTSTART;TZID=Europe/Zurich:20250228T220000
DTEND;TZID=Europe/Zurich:20250301T040000
DTSTAMP:20260425T151427
CREATED:20250119T214459Z
LAST-MODIFIED:20250119T214459Z
UID:10000131-1740780000-1740801600@www.party-insider.com
SUMMARY:Weil ich ein Mädchen bin im Erdbeermund Singen
DESCRIPTION:
URL:https://www.party-insider.com/event/weil-ich-ein-maedchen-bin-im-erdbeermund-singen-6/
LOCATION:Erdbeermund Singen\, Otto-Hahn-Str. 5\, Singen (Hohentwiel)\, 78224\, Germany
CATEGORIES:Erdbeermund
ATTACH;FMTTYPE=image/png:https://www.party-insider.com/wp-content/uploads/2025/01/Erdbeermund_28-02-25_modified.png
END:VEVENT
BEGIN:VEVENT
DTSTART;TZID=Europe/Zurich:20250228T220000
DTEND;TZID=Europe/Zurich:20250301T040000
DTSTAMP:20260425T151427
CREATED:20250119T193007Z
LAST-MODIFIED:20250119T193007Z
UID:10000120-1740780000-1740801600@www.party-insider.com
SUMMARY:Nacht Seminar im Bolero Winterthur
DESCRIPTION:
URL:https://www.party-insider.com/event/nacht-seminar-im-bolero-winterthur-2/
LOCATION:Bolero Winterthur\, Vogelsangstrasse 10\, Winterthur\, 8400\, Switzerland
CATEGORIES:Bolero
ATTACH;FMTTYPE=image/jpeg:https://www.party-insider.com/wp-content/uploads/2025/01/Bolero_28-02-25.jpg
END:VEVENT
BEGIN:VEVENT
DTSTART;TZID=Europe/Zurich:20250228T213000
DTEND;TZID=Europe/Zurich:20250301T020000
DTSTAMP:20260425T151427
CREATED:20250226T101917Z
LAST-MODIFIED:20250226T101917Z
UID:10000371-1740778200-1740794400@www.party-insider.com
SUMMARY:Party Time in Treu Tägerwilen
DESCRIPTION:DJ Giumo
URL:https://www.party-insider.com/event/party-time-in-treu-taegerwilen/
LOCATION:Zur Treu Tägerwilen\, Hauptstrasse 99\, Tägerwilen\, 8274\, Switzerland
CATEGORIES:Zur Treu
ATTACH;FMTTYPE=image/png:https://www.party-insider.com/wp-content/uploads/2025/02/IMG_2025-02-26-111650.png
END:VEVENT
BEGIN:VEVENT
DTSTART;TZID=Europe/Zurich:20250228T210000
DTEND;TZID=Europe/Zurich:20250301T050000
DTSTAMP:20260425T151427
CREATED:20250202T213803Z
LAST-MODIFIED:20250202T213803Z
UID:10000159-1740776400-1740805200@www.party-insider.com
SUMMARY:Mix Music Party mit DJ Dennis im GenX Konstanz
DESCRIPTION:Februar im Club GenX: DJs\, die du nicht verpassen darfst! \nKreuzt die Kalender an! Unsere DJ-Auswahl im Februar bringt die besten Beats und Vibes. Komm vorbei und erlebe Musik\, die bewegt! \n#ClubGenX #GenXNights #KonstanzNightlife #PartyInKonstanz #NightclubLife #FebruaryBeats #DJsOfGenX #WeekendVibesGenX #GenXDJLineUp #DanceTheNightAway #FeelTheMusic #NightOut #LiveDJSet #PartyTime #MusiclsLife #MeetMeAtGenX #TurnItUp #HitTheFloor #SeeYouAtTheClub #RaiseYourGlass
URL:https://www.party-insider.com/event/mix-music-party-mit-dj-dennis-im-genx-konstanz-4/
LOCATION:Poly Club Konstanz\, Maybachstraße 8\, Konstanz\, 78467\, Germany
CATEGORIES:Poly Club Konstanz
ATTACH;FMTTYPE=image/jpeg:https://www.party-insider.com/wp-content/uploads/2025/02/980371CC-AA10-4D4C-85C1-8E73A8A8EB35-scaled.jpeg
END:VEVENT
BEGIN:VEVENT
DTSTART;TZID=Europe/Zurich:20250228T210000
DTEND;TZID=Europe/Zurich:20250301T010000
DTSTAMP:20260425T151427
CREATED:20250227T153224Z
LAST-MODIFIED:20250227T153310Z
UID:10000378-1740776400-1740790800@www.party-insider.com
SUMMARY:Disco meets Fasnacht im Peggys Frauenfeld
DESCRIPTION:Grosses Fasnachts Wochenende im\nPeggys! \nDonnerstag 27. Februar\nSchmudo Party mit Lokalmatador DJ Turi und Gugge \nFreitag 28. Februar\nDisco meets Fasnacht mit DJ Little Maze \nSamstag 1. März\nXXL Fasnachts Party mit DJ Marc One \nSonntag 2. März\nGeschlossen \nDienstag 4. März\nPiratenbegräbnis mit Gugge \nBar geöffnet ab 17 Uhr!\nParty ab 19/21 Uhr!\nZutritt ab 18 Jahren! \nGratis Eintritt für alle mit Verkleidung!\nFr & Sa Club Night 22 – 01 Uhr CHF 5.- Eintritt
URL:https://www.party-insider.com/event/schmudo-party-im-peggys-frauenfeld-2/
ATTACH;FMTTYPE=image/png:https://www.party-insider.com/wp-content/uploads/2025/02/IMG_2025-02-27-162741.png
END:VEVENT
BEGIN:VEVENT
DTSTART;TZID=Europe/Zurich:20250228T203000
DTEND;TZID=Europe/Zurich:20250301T013000
DTSTAMP:20260425T151427
CREATED:20250223T184735Z
LAST-MODIFIED:20250223T185235Z
UID:10000247-1740774600-1740792600@www.party-insider.com
SUMMARY:Oriental Beats im NOA Konstanz
DESCRIPTION:DJ Luca Paladino
URL:https://www.party-insider.com/event/oriental-beats-im-noa-konstanz/
ATTACH;FMTTYPE=image/jpeg:https://www.party-insider.com/wp-content/uploads/2025/02/978E200C-920E-421B-B963-9C609BDA2E11.jpeg
END:VEVENT
BEGIN:VEVENT
DTSTART;TZID=Europe/Zurich:20250228T200000
DTEND;TZID=Europe/Zurich:20250301T050000
DTSTAMP:20260425T151427
CREATED:20250225T010526Z
LAST-MODIFIED:20250225T010526Z
UID:10000309-1740772800-1740805200@www.party-insider.com
SUMMARY:LONG A im Firehouse Weinfelden
DESCRIPTION:AMBIENT | DEEP | HOUSE \nFREE Entry
URL:https://www.party-insider.com/event/long-a-im-firehouse-weinfelden/
LOCATION:Firehouse Weinfelden\, Amriswilerstrasse 57\, Weinfelden\, 8570\, Switzerland
CATEGORIES:Firehouse
ATTACH;FMTTYPE=image/jpeg:https://www.party-insider.com/wp-content/uploads/2025/02/IMG_0552.jpeg
END:VEVENT
BEGIN:VEVENT
DTSTART;TZID=Europe/Zurich:20250228T173000
DTEND;TZID=Europe/Zurich:20250228T210000
DTSTAMP:20260425T151427
CREATED:20250205T055447Z
LAST-MODIFIED:20250205T055447Z
UID:10000195-1740763800-1740776400@www.party-insider.com
SUMMARY:youth ball im Top10 Singen
DESCRIPTION:🎭 Carnival children and youth ball! 🎉✨ \n🎈 When? Friday\, February 28\, 2025\n🎈 Where? In the Top 10 Singing! \nGet ready for an afternoon full of fun\, laughter and colorful costumes! 🌈👑 \n👶🧒 Costumes are a must! Whether as a superhero\, princess or mad scientist – let your imagination run wild! The more colorful\, the better! 🎨✨ \n🎶 Dance\, fun and good mood! We have the best beats for you to rock the dance floor! 💃🕺 \n🍭 Treats and surprises: sweets and snacks are waiting for you! Snacking allowed! 🍬🍕 \n🎉 Come along and celebrate with us! Let’s rock the carnival together and create unforgettable memories! 🎊🥳 \nWe look forward to seeing you – your Top10 Singen Team & the Poppele Zunft Singen! 🎭❤️ \nFrom 12 years
URL:https://www.party-insider.com/event/youth-ball-im-top10-singen/
LOCATION:TOP10 Singen\, Otto-Hahn-Str. 5\, Singen (Hohentwiel)\, 78224\, Germany
CATEGORIES:Top10
ATTACH;FMTTYPE=image/jpeg:https://www.party-insider.com/wp-content/uploads/2025/02/IMG_0052.jpeg
END:VEVENT
BEGIN:VEVENT
DTSTART;TZID=Europe/Zurich:20250228T143000
DTEND;TZID=Europe/Zurich:20250228T163000
DTSTAMP:20260425T151427
CREATED:20250118T132604Z
LAST-MODIFIED:20250205T054904Z
UID:10000103-1740753000-1740760200@www.party-insider.com
SUMMARY:Children and Youth Ball of the Poppele Zunft im Top10 Singen
DESCRIPTION:Get ready for an afternoon full of fun\, laughter and colorful costumes! 🌈👑 \n🎭 Carnival children and youth ball! 🎉✨ \n🎈 When? Friday\, February 28\, 2025\n🎈 Where? In the Top 10 Singing! \nGet ready for an afternoon full of fun\, laughter and colorful costumes! 🌈👑 \n👶🧒 Costumes are a must! Whether as a superhero\, princess or mad scientist – let your imagination run wild! The more colorful\, the better! 🎨✨ \n🎶 Dance\, fun and good mood! We have the best beats for you to rock the dance floor! 💃🕺 \n🍭 Treats and surprises: sweets and snacks are waiting for you! Snacking allowed! 🍬🍕 \n🎉 Come along and celebrate with us! Let’s rock the carnival together and create unforgettable memories! 🎊🥳 \nWe look forward to seeing you – your Top10 Singen Team & the Poppele Zunft Singen! 🎭❤️
URL:https://www.party-insider.com/event/kinder-und-jugendball-der-poppele-zunft-im-top10-singen/
LOCATION:TOP10 Singen\, Otto-Hahn-Str. 5\, Singen (Hohentwiel)\, 78224\, Germany
CATEGORIES:Top10
ATTACH;FMTTYPE=image/jpeg:https://www.party-insider.com/wp-content/uploads/2025/01/IMG_0051.jpeg
END:VEVENT
BEGIN:VEVENT
DTSTART;TZID=Europe/Zurich:20250227T210000
DTEND;TZID=Europe/Zurich:20250228T020000
DTSTAMP:20260425T151427
CREATED:20250223T095309Z
LAST-MODIFIED:20250223T102609Z
UID:10000237-1740690000-1740708000@www.party-insider.com
SUMMARY:Die K9-Disco am Schmotzigen mit DJ Carnevale im Kulturzentrum K9 Konstanz
DESCRIPTION:Zur fünften Jahreszeit bittet DJ Andrea Carnevale zum Tanz zu Songs aus den 60igern bis in die 80iger! Ihr erlebt eine Zeitreise durch die Musikgeschichte\, dokumentiert anhand von Musikvideos\, als es noch keine rein synthetische Musik gab!\nErlebt diese einzigartige Atmosphäre mitten in Konstanz\, in einer ehemaligen Kirche zu tanzen\, Generationen übergreifendes Publikum\, positive Vibes!\nAuf dass die Endorphine die Tanzfläche fluten!
URL:https://www.party-insider.com/event/die-k9-disco-am-schmotzigen-mit-dj-carnevale-im-kulturzentrum-k9/
ATTACH;FMTTYPE=image/jpeg:https://www.party-insider.com/wp-content/uploads/2025/02/IMG_0500.jpeg
END:VEVENT
BEGIN:VEVENT
DTSTART;TZID=Europe/Zurich:20250227T193000
DTEND;TZID=Europe/Zurich:20250228T010000
DTSTAMP:20260425T151427
CREATED:20250227T152702Z
LAST-MODIFIED:20250227T154635Z
UID:10000377-1740684600-1740704400@www.party-insider.com
SUMMARY:Schmudo Party im Peggys Frauenfeld
DESCRIPTION:Grosses Fasnachts Wochenende im\nPeggys! \nDonnerstag 27. Februar\nSchmudo Party mit Lokalmatador DJ Turi und Gugge \nFreitag 28. Februar\nDisco meets Fasnacht mit DJ Little Maze \nSamstag 1. März\nXXL Fasnachts Party mit DJ Marc One \nSonntag 2. März\nGeschlossen \nDienstag 4. März\nPiratenbegräbnis mit Gugge \nBar geöffnet ab 17 Uhr!\nParty ab 19/21 Uhr!\nZutritt ab 18 Jahren! \nGratis Eintritt für alle mit Verkleidung!\nFr & Sa Club Night 22 – 01 Uhr CHF 5.- Eintritt
URL:https://www.party-insider.com/event/schmudo-party-im-peggys-frauenfeld/
ATTACH;FMTTYPE=image/png:https://www.party-insider.com/wp-content/uploads/2025/02/IMG_2025-02-27-161909.png
END:VEVENT
BEGIN:VEVENT
DTSTART;TZID=Europe/Zurich:20250227T170000
DTEND;TZID=Europe/Zurich:20250228T050000
DTSTAMP:20260425T151427
CREATED:20250225T004711Z
LAST-MODIFIED:20251227T150646Z
UID:10000308-1740675600-1740718800@www.party-insider.com
SUMMARY:Techno College im Destille Konstanz
DESCRIPTION:Leider hat die Stadt der Wiedereröffnung der 107 Bar für morgen einen Riegel vorgeschoben. Daher kann die Party dieses mal nicht wie gewohnt stattfinden. \nWir verlagern daher kurzfristig die Party in die @destille_konstanz und starten ab 17 Uhr.
URL:https://www.party-insider.com/event/techno-college-im-kantine-konstanz/
ATTACH;FMTTYPE=image/jpeg:https://www.party-insider.com/wp-content/uploads/2025/02/IMG_0605.jpeg
END:VEVENT
BEGIN:VEVENT
DTSTART;TZID=Europe/Zurich:20250227T140000
DTEND;TZID=Europe/Zurich:20250228T050000
DTSTAMP:20260425T151427
CREATED:20250218T223820Z
LAST-MODIFIED:20250219T052950Z
UID:10000225-1740664800-1740718800@www.party-insider.com
SUMMARY:Fasnacht Party im il Boccone Konstanz
DESCRIPTION:Feiere Fasnacht mit uns im il Boccone Konstanz. \nWann? Donnerstag\, 27. Februar 2025\, ab 14:00 Uhr \nWo? Il Boccone\, Konstanz \nMit dabei: DJ Elmo sorgt für die beste Stimmung! \nEintritt frei! \nKommt vorbei\, feiert mit uns und genießt eine unvergessliche Fasnacht voller Musik\, guter Laune. \nWir freuen uns auf euch!
URL:https://www.party-insider.com/event/fasnacht-party-im-grey-konstanz/
LOCATION:Il Boccone Konstanz\, Bodanstraße 20 - 26\, Konstanz\, 78462
CATEGORIES:il Boccone
ATTACH;FMTTYPE=image/jpeg:https://www.party-insider.com/wp-content/uploads/2025/02/IMG_0330.jpeg
END:VEVENT
BEGIN:VEVENT
DTSTART;TZID=Europe/Zurich:20250227T130000
DTEND;TZID=Europe/Zurich:20250228T050000
DTSTAMP:20260425T151427
CREATED:20250223T152303Z
LAST-MODIFIED:20250223T152303Z
UID:10000245-1740661200-1740718800@www.party-insider.com
SUMMARY:Schmudo im Antik Konstanz
DESCRIPTION:MUSIC BY \nFUNK HOUSE | DEEP TECH | TECH HOUSE I TECHNO \nMARCELLO FIORENZA\, TONI ROSSETTI (STUGGITOWN RECORDS)\, ZOKI (SMOSO)\, LUCA PALADINO (LAKERAVE) \n 
URL:https://www.party-insider.com/event/schmudo-im-antik-konstanz/
ATTACH;FMTTYPE=image/png:https://www.party-insider.com/wp-content/uploads/2025/02/IMG_2025-02-23-161102.png
END:VEVENT
BEGIN:VEVENT
DTSTART;TZID=Europe/Zurich:20250227T120000
DTEND;TZID=Europe/Zurich:20250228T020000
DTSTAMP:20260425T151427
CREATED:20250221T125607Z
LAST-MODIFIED:20250221T125607Z
UID:10000231-1740657600-1740708000@www.party-insider.com
SUMMARY:KATZ FASTNACHTS PARTY in Schwarze Katz Konstanz
DESCRIPTION:Willkommen zur großen Fasnachts Party in der Schwarzen Katz: \nSCHMOTZIGER DUNSCHTIG: Ab 12:00 bis Open End – bis 17 Uhr Eintritt frei! \nFASNACHTS SAMSTAG: Ab 20:00 Uhr\nFeiert mit unseren DJ’s zu den größten Hits aller Zeiten in der Bar und in unserem Party-Zelt! Holt Euch rechtzeitig euer Einlassbändchen* im Vorverkauf. Wir freuen uns auf Euch! \nVORVERKUAUFSTELLEN:\nNamNam Club\nFastnachtsladen Niederburg Konstanz\n*Das Einlassband garantiert nicht den Eintritt während eines Einlassstopp.\nKeine Lust anzustehen aber immer garantierten Einlass zu haben ?\nFragt beim Vorverkauf nach unseren Golden Bändchen.\nAchtung die Anzahl ist streng limitiert
URL:https://www.party-insider.com/event/katz-fastnachts-party-in-schwarze-katz-konstanz/
LOCATION:Schwarze Katz Konstanz\, Katzgasse 8\, Konstanz\, 78462\, Germany
CATEGORIES:Schwarze Katz
ATTACH;FMTTYPE=image/jpeg:https://www.party-insider.com/wp-content/uploads/2025/02/katz_27-02-25_modified.jpeg
END:VEVENT
BEGIN:VEVENT
DTSTART;TZID=Europe/Zurich:20250222T230000
DTEND;TZID=Europe/Zurich:20250223T050000
DTSTAMP:20260425T151427
CREATED:20250204T212853Z
LAST-MODIFIED:20250204T212853Z
UID:10000165-1740265200-1740286800@www.party-insider.com
SUMMARY:Friendslist is coming back in Kantine Konstanz
DESCRIPTION:22. February @kantinekn! Friendslist is coming back with its third edition\, and you are already on the list – just like @float_wsh\, @dj___draco and @its_anti_anti. Grab your stickersheet and see you on the dancefloor. \n── ⊹ ࣪ ˖ ✿ ˖ ࣪ ⊹ ── \nFLOAT (WSH) @float_wsh\nDJ DRACO @dj___draco\nANTI ANTI @its_anti_anti \n── ⊹ ࣪ ˖ 𖦹 ˖ ࣪ ⊹ ── \nCreative Direction: @antoniaviola_com @dj___draco\nGraphic Design: @antoniaviola_com\nTrack: FLOAT (WSH) – Dance with me\nStickersheets: @craplabs \n── ⊹ ࣪ ˖ ✶ ˖ ࣪ ⊹ ── \nNo sexism\, no homophobia\, no fascism or any other form of discrimination. Please come with open hearts and loving minds. \n#friendslist #kantinekn #friends #rave #techno #hardgroove #hardhouse #trance #ukgarage #bringyourfriends #youareonthefriendslist
URL:https://www.party-insider.com/event/friendslist-is-coming-back-in-kantine-konstanz/
LOCATION:Kantine Konstanz\, Oberlohnstraße 3\, Konstanz\, 78467\, Germany
CATEGORIES:Kantine
ATTACH;FMTTYPE=image/png:https://www.party-insider.com/wp-content/uploads/2025/02/kantine_22-02-25.png
END:VEVENT
BEGIN:VEVENT
DTSTART;TZID=Europe/Zurich:20250222T220000
DTEND;TZID=Europe/Zurich:20250223T050000
DTSTAMP:20260425T151427
CREATED:20250221T131004Z
LAST-MODIFIED:20250221T131004Z
UID:10000232-1740261600-1740286800@www.party-insider.com
SUMMARY:MATTEY WEBBER Lobby Area in Grey Konstanz
DESCRIPTION:
URL:https://www.party-insider.com/event/mattey-webber-lobby-area-in-grey-konstanz/
LOCATION:Grey Konstanz\, Max-Stromeyerstr. 33\, Konstanz\, 78467\, Germany
CATEGORIES:Grey
ATTACH;FMTTYPE=image/jpeg:https://www.party-insider.com/wp-content/uploads/2025/02/Grey_22-02-25_2.jpg
END:VEVENT
BEGIN:VEVENT
DTSTART;TZID=Europe/Zurich:20250222T220000
DTEND;TZID=Europe/Zurich:20250223T050000
DTSTAMP:20260425T151427
CREATED:20250118T132117Z
LAST-MODIFIED:20250205T054402Z
UID:10000102-1740261600-1740286800@www.party-insider.com
SUMMARY:Zunftball der Poppele Zunft Singen e.V. im Top10 Singen
DESCRIPTION:Zunftball der Poppele Zunft Singen e.V.\n\n\ngeschlossene Gesellschaft! Einlass nur mit gültigem VVK Ticket!\nHier geht’s zum VVK Ticket:\nhttps://www.poppele-zunft.de/aktuelles/karten-html/\n\n\nEinlass ab 19:00 Uhr\nBeginn ab 20:00 Uhr
URL:https://www.party-insider.com/event/zunftball-der-poppele-zunft-singen-e-v-im-top10-singen/
LOCATION:TOP10 Singen\, Otto-Hahn-Str. 5\, Singen (Hohentwiel)\, 78224\, Germany
CATEGORIES:Top10
ATTACH;FMTTYPE=image/png:https://www.party-insider.com/wp-content/uploads/2025/01/Top10-22-02-25.png
END:VEVENT
BEGIN:VEVENT
DTSTART;TZID=Europe/Zurich:20250222T220000
DTEND;TZID=Europe/Zurich:20250223T050000
DTSTAMP:20260425T151427
CREATED:20250114T230011Z
LAST-MODIFIED:20250118T081246Z
UID:10000085-1740261600-1740286800@www.party-insider.com
SUMMARY:WE LOVE REGGAETON im Grey Konstanz
DESCRIPTION:✨WE LOVE REGGAETON✨\nPARTY AUF 4 FLOORS\n🎉 WE LOVE REGGAETON – DAS ORIGINAL! 🎉\nFeiert mit uns die Party des Jahres im Grey Konstanz am Samstag\, 22.02.2025!\n🌟 Top-DJs auf unterschiedlichen Dancefloors sorgen dafür\, dass für jeden Musikgeschmack etwas dabei ist. 🌟\n🔥 4 Floors 🔥 🎶 4 Musikrichtungen 🎶 ✨ Für jeden was dabei! ✨\nKommt vorbei und erlebt einen unvergesslichen Abend! Wir freuen uns auf euch! 🌟\n🎶 WE LOVE REGGAETON – DAS ORIGINAL! 🎶 \nEinlass ab 22 Uhr\n🔴🔴🔴 EINTRITT FREI bis 23 Uhr 🔴🔴🔴\nFeier mit uns DEIN WOCHENENDE auf 🔴 FÜNF MUSIKBEREICHEN 🔴 in der größten Diskothek am Bodensee!
URL:https://www.party-insider.com/event/we-love-reggaeton-im-grey-konstanz/
LOCATION:Grey Konstanz\, Max-Stromeyerstr. 33\, Konstanz\, 78467\, Germany
CATEGORIES:Grey
ATTACH;FMTTYPE=image/jpeg:https://www.party-insider.com/wp-content/uploads/2025/01/Grey-22-02-25.jpg
END:VEVENT
BEGIN:VEVENT
DTSTART;TZID=Europe/Zurich:20250222T220000
DTEND;TZID=Europe/Zurich:20250223T040000
DTSTAMP:20260425T151427
CREATED:20250205T072632Z
LAST-MODIFIED:20250205T072632Z
UID:10000198-1740261600-1740283200@www.party-insider.com
SUMMARY:Clubnight im Steg4 Konstanz
DESCRIPTION:Für alle die dem Fasnachts Wahnsinn nichts abgewinnen können und für diejenigen die sich schon mal für die närrischen Tage warmfeiern wollen\, also quasi für alle. Noch einmal gediegen feiern gehen\, bevor Konstanz am Schmotzigen Dunschtig wieder Kopf steht. \nGenießt erneut unsere legendäre Happy Hour bis 23:00 Uhr mit einem unschlagbaren 2for1-Angebot. Euch erwartet ein erstklassiger Soundtrack\, exzellente Drinks und die angesagtesten Leute der Stadt. Freut euch auf eine unvergessliche und schweißtreibende Partynacht!\nDJ Type F & Luk‘em werden die ganze Nacht lang die besten Mixed Music & Club Hits aus vier Jahrzehnten zum Besten geben. Lasst euch dieses epochale Abtanzen nicht entgehen! \nDie Veranstaltung wird präsentiert von party-news.de.\nDer Beginn ist um 22:00 Uhr. \nVergünstigter Eintritt mit Reservierung auf party-news.de
URL:https://www.party-insider.com/event/clubnight-im-steg4-konstanz-2/
LOCATION:Steg4 Konstanz\, Hafenstraße 8\, Konstanz\, 78462
CATEGORIES:Steg4
ATTACH;FMTTYPE=image/jpeg:https://www.party-insider.com/wp-content/uploads/2025/02/IMG_0077-scaled.jpeg
END:VEVENT
BEGIN:VEVENT
DTSTART;TZID=Europe/Zurich:20250222T220000
DTEND;TZID=Europe/Zurich:20250223T040000
DTSTAMP:20260425T151427
CREATED:20250119T192755Z
LAST-MODIFIED:20250119T192755Z
UID:10000119-1740261600-1740283200@www.party-insider.com
SUMMARY:We love 2000 & MOON LIGHTS im Bolero Winterthur
DESCRIPTION:
URL:https://www.party-insider.com/event/we-love-2000-moon-lights-im-bolero-winterthur/
LOCATION:Bolero Winterthur\, Vogelsangstrasse 10\, Winterthur\, 8400\, Switzerland
CATEGORIES:Bolero
ATTACH;FMTTYPE=image/jpeg:https://www.party-insider.com/wp-content/uploads/2025/01/Bolero_22-02-25.jpg
END:VEVENT
END:VCALENDAR