BEGIN:VCALENDAR
VERSION:2.0
PRODID:-//Party-Insider - ECPv6.14.2//NONSGML v1.0//EN
CALSCALE:GREGORIAN
METHOD:PUBLISH
X-WR-CALNAME:Party-Insider
X-ORIGINAL-URL:https://www.party-insider.com
X-WR-CALDESC:Veranstaltungen im Party-Insider
REFRESH-INTERVAL;VALUE=DURATION:PT1H
X-Robots-Tag:noindex
X-PUBLISHED-TTL:PT1H
BEGIN:VTIMEZONE
TZID:Europe/Zurich
BEGIN:DAYLIGHT
TZOFFSETFROM:+0100
TZOFFSETTO:+0200
TZNAME:CEST
DTSTART:20300331T010000
END:DAYLIGHT
BEGIN:STANDARD
TZOFFSETFROM:+0200
TZOFFSETTO:+0100
TZNAME:CET
DTSTART:20301027T010000
END:STANDARD
END:VTIMEZONE
BEGIN:VEVENT
DTSTART;TZID=Europe/Zurich:20300511T210000
DTEND;TZID=Europe/Zurich:20300511T210000
DTSTAMP:20260420T180145
CREATED:20250510T155008Z
LAST-MODIFIED:20260419T170713Z
UID:10002204-1904763600-1904763600@www.party-insider.com
SUMMARY:Die K9-Disco im Kulturzentrum K9 Konstanz
DESCRIPTION:
URL:https://www.party-insider.com/event/die-k9-disco-im-kulturzentrum-k9-konstanz/2030-05-11/
LOCATION:K9 Konstanz\, Hieronymusgasse 3\, Konstanz\, 78462\, Switzerland
CATEGORIES:K9
ATTACH;FMTTYPE=image/jpeg:https://www.party-insider.com/wp-content/uploads/2025/02/IMG_0500.jpeg
END:VEVENT
BEGIN:VEVENT
DTSTART;TZID=Europe/Zurich:20300510T220000
DTEND;TZID=Europe/Zurich:20300510T220000
DTSTAMP:20260420T180145
CREATED:20251227T002346Z
LAST-MODIFIED:20260419T170537Z
UID:10009881-1904680800-1904680800@www.party-insider.com
SUMMARY:Live DJ - minoo Konstanz
DESCRIPTION:
URL:https://www.party-insider.com/event/babylon-bar-noa-konstanz-9/2030-05-10/
LOCATION:minoo Konstanz\, Bruderturmgasse 3\, Konstanz\, 78462\, Germany
CATEGORIES:minoo konstanz
ATTACH;FMTTYPE=image/jpeg:https://www.party-insider.com/wp-content/uploads/2025/12/IMG_5111.jpeg
END:VEVENT
BEGIN:VEVENT
DTSTART;TZID=Europe/Zurich:20300510T220000
DTEND;TZID=Europe/Zurich:20300510T220000
DTSTAMP:20260420T180145
CREATED:20250518T203204Z
LAST-MODIFIED:20260419T171012Z
UID:10002743-1904680800-1904680800@www.party-insider.com
SUMMARY:Club Time - Peggys Frauenfeld
DESCRIPTION:
URL:https://www.party-insider.com/event/club-time-in-peggys-frauenfeld/2030-05-10/
LOCATION:Peggys Frauenfeld\, Metzgerstrasse 1\, Frauenfeld\, 8500\, Switzerland
CATEGORIES:Peggy
ATTACH;FMTTYPE=image/jpeg:https://www.party-insider.com/wp-content/uploads/2025/05/IMG_1341.jpeg
END:VEVENT
BEGIN:VEVENT
DTSTART;TZID=Europe/Zurich:20300509T210000
DTEND;TZID=Europe/Zurich:20300509T210000
DTSTAMP:20260420T180145
CREATED:20260208T232657Z
LAST-MODIFIED:20260208T232657Z
UID:10009008-1904590800-1904590800@www.party-insider.com
SUMMARY:CUBA CALIENTE SALSA PARTY - Publicbar Tägerwilen
DESCRIPTION:Unsere SalsaPartys stehen für extravagantes Feiern in einzigartigem Ambiente! Salseras\, Salseros und Liebhaber der Latin-Szene finden in der charmanten Atmosphäre dieses besonderen Ortes Freude\, Spass und Sinnlichkeit unter tanzbegeisterten Menschen. Lasst euch in die feurige Welt des Salsa entführen\, mit leckeren Cocktails verwöhnen und verbringt eine leidenschaftliche Zeit mit uns!
URL:https://www.party-insider.com/event/cuba-caliente-salsa-party-publicbar-taegerwilen/2030-05-09/
LOCATION:Publicbar Tägerwilen\, Konstanzerstrasse 42\, Tägerwilen\, 8274\, Switzerland
CATEGORIES:Publicbar Tägerwilen
ATTACH;FMTTYPE=image/png:https://www.party-insider.com/wp-content/uploads/2026/02/IMG_4129.png
END:VEVENT
BEGIN:VEVENT
DTSTART;TZID=Europe/Zurich:20300509T170000
DTEND;TZID=Europe/Zurich:20300509T190000
DTSTAMP:20260420T180145
CREATED:20250402T043915Z
LAST-MODIFIED:20250707T104217Z
UID:10004051-1904576400-1904583600@www.party-insider.com
SUMMARY:After Work - Peggys Frauenfeld
DESCRIPTION:
URL:https://www.party-insider.com/event/after-work-im-peggys-frauenfeld/2030-05-09/
LOCATION:Peggys Frauenfeld\, Metzgerstrasse 1\, Frauenfeld\, 8500\, Switzerland
CATEGORIES:Peggy
ATTACH;FMTTYPE=image/jpeg:https://www.party-insider.com/wp-content/uploads/2025/04/IMG_6453.jpeg
END:VEVENT
BEGIN:VEVENT
DTSTART;TZID=Europe/Zurich:20300504T220000
DTEND;TZID=Europe/Zurich:20300504T220000
DTSTAMP:20260420T180145
CREATED:20251227T002346Z
LAST-MODIFIED:20260419T170537Z
UID:10009880-1904162400-1904162400@www.party-insider.com
SUMMARY:Live DJ - minoo Konstanz
DESCRIPTION:
URL:https://www.party-insider.com/event/babylon-bar-noa-konstanz-9/2030-05-04/
LOCATION:minoo Konstanz\, Bruderturmgasse 3\, Konstanz\, 78462\, Germany
CATEGORIES:minoo konstanz
ATTACH;FMTTYPE=image/jpeg:https://www.party-insider.com/wp-content/uploads/2025/12/IMG_5111.jpeg
END:VEVENT
BEGIN:VEVENT
DTSTART;TZID=Europe/Zurich:20300504T220000
DTEND;TZID=Europe/Zurich:20300504T220000
DTSTAMP:20260420T180145
CREATED:20250518T203204Z
LAST-MODIFIED:20260419T171012Z
UID:10002742-1904162400-1904162400@www.party-insider.com
SUMMARY:Club Time - Peggys Frauenfeld
DESCRIPTION:
URL:https://www.party-insider.com/event/club-time-in-peggys-frauenfeld/2030-05-04/
LOCATION:Peggys Frauenfeld\, Metzgerstrasse 1\, Frauenfeld\, 8500\, Switzerland
CATEGORIES:Peggy
ATTACH;FMTTYPE=image/jpeg:https://www.party-insider.com/wp-content/uploads/2025/05/IMG_1341.jpeg
END:VEVENT
BEGIN:VEVENT
DTSTART;TZID=Europe/Zurich:20300504T210000
DTEND;TZID=Europe/Zurich:20300504T210000
DTSTAMP:20260420T180145
CREATED:20250510T155008Z
LAST-MODIFIED:20260419T170713Z
UID:10002200-1904158800-1904158800@www.party-insider.com
SUMMARY:Die K9-Disco im Kulturzentrum K9 Konstanz
DESCRIPTION:
URL:https://www.party-insider.com/event/die-k9-disco-im-kulturzentrum-k9-konstanz/2030-05-04/
LOCATION:K9 Konstanz\, Hieronymusgasse 3\, Konstanz\, 78462\, Switzerland
CATEGORIES:K9
ATTACH;FMTTYPE=image/jpeg:https://www.party-insider.com/wp-content/uploads/2025/02/IMG_0500.jpeg
END:VEVENT
BEGIN:VEVENT
DTSTART;TZID=Europe/Zurich:20300503T220000
DTEND;TZID=Europe/Zurich:20300503T220000
DTSTAMP:20260420T180145
CREATED:20251227T002346Z
LAST-MODIFIED:20260419T170537Z
UID:10009879-1904076000-1904076000@www.party-insider.com
SUMMARY:Live DJ - minoo Konstanz
DESCRIPTION:
URL:https://www.party-insider.com/event/babylon-bar-noa-konstanz-9/2030-05-03/
LOCATION:minoo Konstanz\, Bruderturmgasse 3\, Konstanz\, 78462\, Germany
CATEGORIES:minoo konstanz
ATTACH;FMTTYPE=image/jpeg:https://www.party-insider.com/wp-content/uploads/2025/12/IMG_5111.jpeg
END:VEVENT
BEGIN:VEVENT
DTSTART;TZID=Europe/Zurich:20300503T220000
DTEND;TZID=Europe/Zurich:20300503T220000
DTSTAMP:20260420T180145
CREATED:20250518T203204Z
LAST-MODIFIED:20260419T171012Z
UID:10002741-1904076000-1904076000@www.party-insider.com
SUMMARY:Club Time - Peggys Frauenfeld
DESCRIPTION:
URL:https://www.party-insider.com/event/club-time-in-peggys-frauenfeld/2030-05-03/
LOCATION:Peggys Frauenfeld\, Metzgerstrasse 1\, Frauenfeld\, 8500\, Switzerland
CATEGORIES:Peggy
ATTACH;FMTTYPE=image/jpeg:https://www.party-insider.com/wp-content/uploads/2025/05/IMG_1341.jpeg
END:VEVENT
BEGIN:VEVENT
DTSTART;TZID=Europe/Zurich:20300502T210000
DTEND;TZID=Europe/Zurich:20300502T210000
DTSTAMP:20260420T180145
CREATED:20260208T232657Z
LAST-MODIFIED:20260208T232657Z
UID:10009007-1903986000-1903986000@www.party-insider.com
SUMMARY:CUBA CALIENTE SALSA PARTY - Publicbar Tägerwilen
DESCRIPTION:Unsere SalsaPartys stehen für extravagantes Feiern in einzigartigem Ambiente! Salseras\, Salseros und Liebhaber der Latin-Szene finden in der charmanten Atmosphäre dieses besonderen Ortes Freude\, Spass und Sinnlichkeit unter tanzbegeisterten Menschen. Lasst euch in die feurige Welt des Salsa entführen\, mit leckeren Cocktails verwöhnen und verbringt eine leidenschaftliche Zeit mit uns!
URL:https://www.party-insider.com/event/cuba-caliente-salsa-party-publicbar-taegerwilen/2030-05-02/
LOCATION:Publicbar Tägerwilen\, Konstanzerstrasse 42\, Tägerwilen\, 8274\, Switzerland
CATEGORIES:Publicbar Tägerwilen
ATTACH;FMTTYPE=image/png:https://www.party-insider.com/wp-content/uploads/2026/02/IMG_4129.png
END:VEVENT
BEGIN:VEVENT
DTSTART;TZID=Europe/Zurich:20300502T170000
DTEND;TZID=Europe/Zurich:20300502T190000
DTSTAMP:20260420T180145
CREATED:20250402T043915Z
LAST-MODIFIED:20250707T104217Z
UID:10004050-1903971600-1903978800@www.party-insider.com
SUMMARY:After Work - Peggys Frauenfeld
DESCRIPTION:
URL:https://www.party-insider.com/event/after-work-im-peggys-frauenfeld/2030-05-02/
LOCATION:Peggys Frauenfeld\, Metzgerstrasse 1\, Frauenfeld\, 8500\, Switzerland
CATEGORIES:Peggy
ATTACH;FMTTYPE=image/jpeg:https://www.party-insider.com/wp-content/uploads/2025/04/IMG_6453.jpeg
END:VEVENT
BEGIN:VEVENT
DTSTART;TZID=Europe/Zurich:20300427T220000
DTEND;TZID=Europe/Zurich:20300427T220000
DTSTAMP:20260420T180145
CREATED:20251227T002346Z
LAST-MODIFIED:20260419T170537Z
UID:10009878-1903557600-1903557600@www.party-insider.com
SUMMARY:Live DJ - minoo Konstanz
DESCRIPTION:
URL:https://www.party-insider.com/event/babylon-bar-noa-konstanz-9/2030-04-27/
LOCATION:minoo Konstanz\, Bruderturmgasse 3\, Konstanz\, 78462\, Germany
CATEGORIES:minoo konstanz
ATTACH;FMTTYPE=image/jpeg:https://www.party-insider.com/wp-content/uploads/2025/12/IMG_5111.jpeg
END:VEVENT
BEGIN:VEVENT
DTSTART;TZID=Europe/Zurich:20300427T220000
DTEND;TZID=Europe/Zurich:20300427T220000
DTSTAMP:20260420T180145
CREATED:20250518T203204Z
LAST-MODIFIED:20260419T171012Z
UID:10002740-1903557600-1903557600@www.party-insider.com
SUMMARY:Club Time - Peggys Frauenfeld
DESCRIPTION:
URL:https://www.party-insider.com/event/club-time-in-peggys-frauenfeld/2030-04-27/
LOCATION:Peggys Frauenfeld\, Metzgerstrasse 1\, Frauenfeld\, 8500\, Switzerland
CATEGORIES:Peggy
ATTACH;FMTTYPE=image/jpeg:https://www.party-insider.com/wp-content/uploads/2025/05/IMG_1341.jpeg
END:VEVENT
BEGIN:VEVENT
DTSTART;TZID=Europe/Zurich:20300427T210000
DTEND;TZID=Europe/Zurich:20300427T210000
DTSTAMP:20260420T180145
CREATED:20250510T155008Z
LAST-MODIFIED:20260419T170713Z
UID:10002199-1903554000-1903554000@www.party-insider.com
SUMMARY:Die K9-Disco im Kulturzentrum K9 Konstanz
DESCRIPTION:
URL:https://www.party-insider.com/event/die-k9-disco-im-kulturzentrum-k9-konstanz/2030-04-27/
LOCATION:K9 Konstanz\, Hieronymusgasse 3\, Konstanz\, 78462\, Switzerland
CATEGORIES:K9
ATTACH;FMTTYPE=image/jpeg:https://www.party-insider.com/wp-content/uploads/2025/02/IMG_0500.jpeg
END:VEVENT
BEGIN:VEVENT
DTSTART;TZID=Europe/Zurich:20300426T220000
DTEND;TZID=Europe/Zurich:20300426T220000
DTSTAMP:20260420T180145
CREATED:20251227T002346Z
LAST-MODIFIED:20260419T170537Z
UID:10009877-1903471200-1903471200@www.party-insider.com
SUMMARY:Live DJ - minoo Konstanz
DESCRIPTION:
URL:https://www.party-insider.com/event/babylon-bar-noa-konstanz-9/2030-04-26/
LOCATION:minoo Konstanz\, Bruderturmgasse 3\, Konstanz\, 78462\, Germany
CATEGORIES:minoo konstanz
ATTACH;FMTTYPE=image/jpeg:https://www.party-insider.com/wp-content/uploads/2025/12/IMG_5111.jpeg
END:VEVENT
BEGIN:VEVENT
DTSTART;TZID=Europe/Zurich:20300426T220000
DTEND;TZID=Europe/Zurich:20300426T220000
DTSTAMP:20260420T180145
CREATED:20250518T203204Z
LAST-MODIFIED:20260419T171012Z
UID:10002739-1903471200-1903471200@www.party-insider.com
SUMMARY:Club Time - Peggys Frauenfeld
DESCRIPTION:
URL:https://www.party-insider.com/event/club-time-in-peggys-frauenfeld/2030-04-26/
LOCATION:Peggys Frauenfeld\, Metzgerstrasse 1\, Frauenfeld\, 8500\, Switzerland
CATEGORIES:Peggy
ATTACH;FMTTYPE=image/jpeg:https://www.party-insider.com/wp-content/uploads/2025/05/IMG_1341.jpeg
END:VEVENT
BEGIN:VEVENT
DTSTART;TZID=Europe/Zurich:20300425T210000
DTEND;TZID=Europe/Zurich:20300425T210000
DTSTAMP:20260420T180145
CREATED:20260208T232657Z
LAST-MODIFIED:20260208T232657Z
UID:10009006-1903381200-1903381200@www.party-insider.com
SUMMARY:CUBA CALIENTE SALSA PARTY - Publicbar Tägerwilen
DESCRIPTION:Unsere SalsaPartys stehen für extravagantes Feiern in einzigartigem Ambiente! Salseras\, Salseros und Liebhaber der Latin-Szene finden in der charmanten Atmosphäre dieses besonderen Ortes Freude\, Spass und Sinnlichkeit unter tanzbegeisterten Menschen. Lasst euch in die feurige Welt des Salsa entführen\, mit leckeren Cocktails verwöhnen und verbringt eine leidenschaftliche Zeit mit uns!
URL:https://www.party-insider.com/event/cuba-caliente-salsa-party-publicbar-taegerwilen/2030-04-25/
LOCATION:Publicbar Tägerwilen\, Konstanzerstrasse 42\, Tägerwilen\, 8274\, Switzerland
CATEGORIES:Publicbar Tägerwilen
ATTACH;FMTTYPE=image/png:https://www.party-insider.com/wp-content/uploads/2026/02/IMG_4129.png
END:VEVENT
BEGIN:VEVENT
DTSTART;TZID=Europe/Zurich:20300425T170000
DTEND;TZID=Europe/Zurich:20300425T190000
DTSTAMP:20260420T180145
CREATED:20250402T043915Z
LAST-MODIFIED:20250707T104217Z
UID:10004049-1903366800-1903374000@www.party-insider.com
SUMMARY:After Work - Peggys Frauenfeld
DESCRIPTION:
URL:https://www.party-insider.com/event/after-work-im-peggys-frauenfeld/2030-04-25/
LOCATION:Peggys Frauenfeld\, Metzgerstrasse 1\, Frauenfeld\, 8500\, Switzerland
CATEGORIES:Peggy
ATTACH;FMTTYPE=image/jpeg:https://www.party-insider.com/wp-content/uploads/2025/04/IMG_6453.jpeg
END:VEVENT
BEGIN:VEVENT
DTSTART;TZID=Europe/Zurich:20300420T220000
DTEND;TZID=Europe/Zurich:20300420T220000
DTSTAMP:20260420T180145
CREATED:20251227T002346Z
LAST-MODIFIED:20260419T170537Z
UID:10009876-1902952800-1902952800@www.party-insider.com
SUMMARY:Live DJ - minoo Konstanz
DESCRIPTION:
URL:https://www.party-insider.com/event/babylon-bar-noa-konstanz-9/2030-04-20/
LOCATION:minoo Konstanz\, Bruderturmgasse 3\, Konstanz\, 78462\, Germany
CATEGORIES:minoo konstanz
ATTACH;FMTTYPE=image/jpeg:https://www.party-insider.com/wp-content/uploads/2025/12/IMG_5111.jpeg
END:VEVENT
BEGIN:VEVENT
DTSTART;TZID=Europe/Zurich:20300420T220000
DTEND;TZID=Europe/Zurich:20300420T220000
DTSTAMP:20260420T180145
CREATED:20250518T203204Z
LAST-MODIFIED:20260419T171012Z
UID:10002738-1902952800-1902952800@www.party-insider.com
SUMMARY:Club Time - Peggys Frauenfeld
DESCRIPTION:
URL:https://www.party-insider.com/event/club-time-in-peggys-frauenfeld/2030-04-20/
LOCATION:Peggys Frauenfeld\, Metzgerstrasse 1\, Frauenfeld\, 8500\, Switzerland
CATEGORIES:Peggy
ATTACH;FMTTYPE=image/jpeg:https://www.party-insider.com/wp-content/uploads/2025/05/IMG_1341.jpeg
END:VEVENT
BEGIN:VEVENT
DTSTART;TZID=Europe/Zurich:20300420T210000
DTEND;TZID=Europe/Zurich:20300420T210000
DTSTAMP:20260420T180145
CREATED:20250510T155008Z
LAST-MODIFIED:20260419T170713Z
UID:10002198-1902949200-1902949200@www.party-insider.com
SUMMARY:Die K9-Disco im Kulturzentrum K9 Konstanz
DESCRIPTION:
URL:https://www.party-insider.com/event/die-k9-disco-im-kulturzentrum-k9-konstanz/2030-04-20/
LOCATION:K9 Konstanz\, Hieronymusgasse 3\, Konstanz\, 78462\, Switzerland
CATEGORIES:K9
ATTACH;FMTTYPE=image/jpeg:https://www.party-insider.com/wp-content/uploads/2025/02/IMG_0500.jpeg
END:VEVENT
BEGIN:VEVENT
DTSTART;TZID=Europe/Zurich:20300419T220000
DTEND;TZID=Europe/Zurich:20300419T220000
DTSTAMP:20260420T180145
CREATED:20251227T002346Z
LAST-MODIFIED:20260419T170537Z
UID:10009875-1902866400-1902866400@www.party-insider.com
SUMMARY:Live DJ - minoo Konstanz
DESCRIPTION:
URL:https://www.party-insider.com/event/babylon-bar-noa-konstanz-9/2030-04-19/
LOCATION:minoo Konstanz\, Bruderturmgasse 3\, Konstanz\, 78462\, Germany
CATEGORIES:minoo konstanz
ATTACH;FMTTYPE=image/jpeg:https://www.party-insider.com/wp-content/uploads/2025/12/IMG_5111.jpeg
END:VEVENT
BEGIN:VEVENT
DTSTART;TZID=Europe/Zurich:20300419T220000
DTEND;TZID=Europe/Zurich:20300419T220000
DTSTAMP:20260420T180145
CREATED:20250518T203204Z
LAST-MODIFIED:20260419T171012Z
UID:10002737-1902866400-1902866400@www.party-insider.com
SUMMARY:Club Time - Peggys Frauenfeld
DESCRIPTION:
URL:https://www.party-insider.com/event/club-time-in-peggys-frauenfeld/2030-04-19/
LOCATION:Peggys Frauenfeld\, Metzgerstrasse 1\, Frauenfeld\, 8500\, Switzerland
CATEGORIES:Peggy
ATTACH;FMTTYPE=image/jpeg:https://www.party-insider.com/wp-content/uploads/2025/05/IMG_1341.jpeg
END:VEVENT
BEGIN:VEVENT
DTSTART;TZID=Europe/Zurich:20300418T210000
DTEND;TZID=Europe/Zurich:20300418T210000
DTSTAMP:20260420T180145
CREATED:20260208T232657Z
LAST-MODIFIED:20260208T232657Z
UID:10009005-1902776400-1902776400@www.party-insider.com
SUMMARY:CUBA CALIENTE SALSA PARTY - Publicbar Tägerwilen
DESCRIPTION:Unsere SalsaPartys stehen für extravagantes Feiern in einzigartigem Ambiente! Salseras\, Salseros und Liebhaber der Latin-Szene finden in der charmanten Atmosphäre dieses besonderen Ortes Freude\, Spass und Sinnlichkeit unter tanzbegeisterten Menschen. Lasst euch in die feurige Welt des Salsa entführen\, mit leckeren Cocktails verwöhnen und verbringt eine leidenschaftliche Zeit mit uns!
URL:https://www.party-insider.com/event/cuba-caliente-salsa-party-publicbar-taegerwilen/2030-04-18/
LOCATION:Publicbar Tägerwilen\, Konstanzerstrasse 42\, Tägerwilen\, 8274\, Switzerland
CATEGORIES:Publicbar Tägerwilen
ATTACH;FMTTYPE=image/png:https://www.party-insider.com/wp-content/uploads/2026/02/IMG_4129.png
END:VEVENT
BEGIN:VEVENT
DTSTART;TZID=Europe/Zurich:20300418T170000
DTEND;TZID=Europe/Zurich:20300418T190000
DTSTAMP:20260420T180145
CREATED:20250402T043915Z
LAST-MODIFIED:20250707T104217Z
UID:10004048-1902762000-1902769200@www.party-insider.com
SUMMARY:After Work - Peggys Frauenfeld
DESCRIPTION:
URL:https://www.party-insider.com/event/after-work-im-peggys-frauenfeld/2030-04-18/
LOCATION:Peggys Frauenfeld\, Metzgerstrasse 1\, Frauenfeld\, 8500\, Switzerland
CATEGORIES:Peggy
ATTACH;FMTTYPE=image/jpeg:https://www.party-insider.com/wp-content/uploads/2025/04/IMG_6453.jpeg
END:VEVENT
BEGIN:VEVENT
DTSTART;TZID=Europe/Zurich:20300413T220000
DTEND;TZID=Europe/Zurich:20300413T220000
DTSTAMP:20260420T180145
CREATED:20251227T002346Z
LAST-MODIFIED:20260419T170537Z
UID:10009874-1902348000-1902348000@www.party-insider.com
SUMMARY:Live DJ - minoo Konstanz
DESCRIPTION:
URL:https://www.party-insider.com/event/babylon-bar-noa-konstanz-9/2030-04-13/
LOCATION:minoo Konstanz\, Bruderturmgasse 3\, Konstanz\, 78462\, Germany
CATEGORIES:minoo konstanz
ATTACH;FMTTYPE=image/jpeg:https://www.party-insider.com/wp-content/uploads/2025/12/IMG_5111.jpeg
END:VEVENT
BEGIN:VEVENT
DTSTART;TZID=Europe/Zurich:20300413T220000
DTEND;TZID=Europe/Zurich:20300413T220000
DTSTAMP:20260420T180145
CREATED:20250518T203204Z
LAST-MODIFIED:20260419T171012Z
UID:10002736-1902348000-1902348000@www.party-insider.com
SUMMARY:Club Time - Peggys Frauenfeld
DESCRIPTION:
URL:https://www.party-insider.com/event/club-time-in-peggys-frauenfeld/2030-04-13/
LOCATION:Peggys Frauenfeld\, Metzgerstrasse 1\, Frauenfeld\, 8500\, Switzerland
CATEGORIES:Peggy
ATTACH;FMTTYPE=image/jpeg:https://www.party-insider.com/wp-content/uploads/2025/05/IMG_1341.jpeg
END:VEVENT
BEGIN:VEVENT
DTSTART;TZID=Europe/Zurich:20300413T210000
DTEND;TZID=Europe/Zurich:20300413T210000
DTSTAMP:20260420T180145
CREATED:20250510T155008Z
LAST-MODIFIED:20260419T170713Z
UID:10002197-1902344400-1902344400@www.party-insider.com
SUMMARY:Die K9-Disco im Kulturzentrum K9 Konstanz
DESCRIPTION:
URL:https://www.party-insider.com/event/die-k9-disco-im-kulturzentrum-k9-konstanz/2030-04-13/
LOCATION:K9 Konstanz\, Hieronymusgasse 3\, Konstanz\, 78462\, Switzerland
CATEGORIES:K9
ATTACH;FMTTYPE=image/jpeg:https://www.party-insider.com/wp-content/uploads/2025/02/IMG_0500.jpeg
END:VEVENT
BEGIN:VEVENT
DTSTART;TZID=Europe/Zurich:20300412T220000
DTEND;TZID=Europe/Zurich:20300412T220000
DTSTAMP:20260420T180145
CREATED:20251227T002346Z
LAST-MODIFIED:20260419T170537Z
UID:10009873-1902261600-1902261600@www.party-insider.com
SUMMARY:Live DJ - minoo Konstanz
DESCRIPTION:
URL:https://www.party-insider.com/event/babylon-bar-noa-konstanz-9/2030-04-12/
LOCATION:minoo Konstanz\, Bruderturmgasse 3\, Konstanz\, 78462\, Germany
CATEGORIES:minoo konstanz
ATTACH;FMTTYPE=image/jpeg:https://www.party-insider.com/wp-content/uploads/2025/12/IMG_5111.jpeg
END:VEVENT
END:VCALENDAR