BEGIN:VCALENDAR
VERSION:2.0
PRODID:-//Party-Insider - ECPv6.14.2//NONSGML v1.0//EN
CALSCALE:GREGORIAN
METHOD:PUBLISH
X-WR-CALNAME:Party-Insider
X-ORIGINAL-URL:https://www.party-insider.com
X-WR-CALDESC:Veranstaltungen im Party-Insider
REFRESH-INTERVAL;VALUE=DURATION:PT1H
X-Robots-Tag:noindex
X-PUBLISHED-TTL:PT1H
BEGIN:VTIMEZONE
TZID:Europe/Zurich
BEGIN:DAYLIGHT
TZOFFSETFROM:+0100
TZOFFSETTO:+0200
TZNAME:CEST
DTSTART:20250330T010000
END:DAYLIGHT
BEGIN:STANDARD
TZOFFSETFROM:+0200
TZOFFSETTO:+0100
TZNAME:CET
DTSTART:20251026T010000
END:STANDARD
END:VTIMEZONE
BEGIN:VEVENT
DTSTART;TZID=Europe/Zurich:20250628T210000
DTEND;TZID=Europe/Zurich:20250629T030000
DTSTAMP:20260421T222609
CREATED:20250622T171519Z
LAST-MODIFIED:20250622T171710Z
UID:10000503-1751144400-1751166000@www.party-insider.com
SUMMARY:Hip Hop meets Balkan im GenX Konstanz
DESCRIPTION:
URL:https://www.party-insider.com/event/disco-party-im-genx-konstanz-3-12/
LOCATION:Poly Club Konstanz\, Maybachstraße 8\, Konstanz\, 78467\, Germany
CATEGORIES:Poly Club Konstanz
ATTACH;FMTTYPE=image/jpeg:https://www.party-insider.com/wp-content/uploads/2025/03/IMG_5878.jpeg
END:VEVENT
BEGIN:VEVENT
DTSTART;TZID=Europe/Zurich:20250628T210000
DTEND;TZID=Europe/Zurich:20250629T020000
DTSTAMP:20260421T222609
CREATED:20250610T165349Z
LAST-MODIFIED:20250610T165422Z
UID:10003927-1751144400-1751162400@www.party-insider.com
SUMMARY:Warm-Up Holiday Party im Jacks & Duffys Weinfelden
DESCRIPTION:Wir feiern den Sommerstart mit erfrischendem Cocktails O und den besten 90er-Hits – aufgelegt von DJ Hoschi! \nSamstag\, 28. Juni Ab 21 Uhr \nSei dabei und bring die gute Laune mit! \n#holidayseason #summerfeeling #partytime #bestbartenders #cocktails #goodvibes #Drinks #music #90s
URL:https://www.party-insider.com/event/warm-up-holiday-party-im-jacks-duffys-weinfelden/
ATTACH;FMTTYPE=image/jpeg:https://www.party-insider.com/wp-content/uploads/2025/06/IMG_5297.jpeg
END:VEVENT
BEGIN:VEVENT
DTSTART;TZID=Europe/Zurich:20250628T210000
DTEND;TZID=Europe/Zurich:20250628T210000
DTSTAMP:20260421T222609
CREATED:20250626T162833Z
LAST-MODIFIED:20250626T162833Z
UID:10003990-1751144400-1751144400@www.party-insider.com
SUMMARY:House Beats in NOA Konstanz
DESCRIPTION:
URL:https://www.party-insider.com/event/house-beats-in-noa-konstanz-3/
ATTACH;FMTTYPE=image/png:https://www.party-insider.com/wp-content/uploads/2025/06/IMG_2025-06-26-182642.png
END:VEVENT
BEGIN:VEVENT
DTSTART;TZID=Europe/Zurich:20250628T210000
DTEND;TZID=Europe/Zurich:20250628T210000
DTSTAMP:20260421T222609
CREATED:20250510T155008Z
LAST-MODIFIED:20260419T170713Z
UID:10001947-1751144400-1751144400@www.party-insider.com
SUMMARY:Die K9-Disco im Kulturzentrum K9 Konstanz
DESCRIPTION:
URL:https://www.party-insider.com/event/die-k9-disco-im-kulturzentrum-k9-konstanz/2025-06-28/
LOCATION:K9 Konstanz\, Hieronymusgasse 3\, Konstanz\, 78462\, Switzerland
CATEGORIES:K9
ATTACH;FMTTYPE=image/jpeg:https://www.party-insider.com/wp-content/uploads/2025/02/IMG_0500.jpeg
END:VEVENT
BEGIN:VEVENT
DTSTART;TZID=Europe/Zurich:20250628T190000
DTEND;TZID=Europe/Zurich:20250628T190000
DTSTAMP:20260421T222609
CREATED:20250625T054340Z
LAST-MODIFIED:20250625T054823Z
UID:10003986-1751137200-1751137200@www.party-insider.com
SUMMARY:House Bests & Cocktails im Eis Zeit Konstanz
DESCRIPTION:Adresse: \nHussenstraße 31\n78462 Konstanz
URL:https://www.party-insider.com/event/house-bests-cocktails-im-eis-zeit-konstanz/
ATTACH;FMTTYPE=image/png:https://www.party-insider.com/wp-content/uploads/2025/06/IMG_2025-06-25-074206.png
END:VEVENT
BEGIN:VEVENT
DTSTART;TZID=Europe/Zurich:20250628T180000
DTEND;TZID=Europe/Zurich:20250628T180000
DTSTAMP:20260421T222609
CREATED:20250627T163340Z
LAST-MODIFIED:20250627T163340Z
UID:10004002-1751133600-1751133600@www.party-insider.com
SUMMARY:Flavour Nights- Gallery Lounge Konstanz
DESCRIPTION:
URL:https://www.party-insider.com/event/flavour-nights-gallery-lounge-konstanz/
ATTACH;FMTTYPE=image/jpeg:https://www.party-insider.com/wp-content/uploads/2025/06/IMG_6050.jpeg
END:VEVENT
BEGIN:VEVENT
DTSTART;TZID=Europe/Zurich:20250628T160000
DTEND;TZID=Europe/Zurich:20250628T220000
DTSTAMP:20260421T222609
CREATED:20250623T072925Z
LAST-MODIFIED:20250623T072925Z
UID:10003979-1751126400-1751148000@www.party-insider.com
SUMMARY:Day Dance in US-MEX Terraza Kreuzlingen
DESCRIPTION:Freu dich auf mitreissende Beats\, sommerliche Vibes und elektrisierende Beats direkt am See! Am Samstag tanzen wir am Day Dance auf der US-MEX Terraza Kreuzlingen. Tanze unter freiem Himmel\, geniesse coole Drinks und den Sonnenuntergang in einzigartiger Atmosphäre. Unsere DJs liefern den perfekten Soundtrack für einen unvergesslichen Sommertag – Open Air\, direkt am Wasser und voller Lebensfreude. \n\nUS-MEX Terraza Kreuzlingen | Seestrasse 11B.2 / Seeufer West\nwww.usmex-terraza.ch
URL:https://www.party-insider.com/event/day-dance-in-us-mex-terraza-kreuzlingen-2/
LOCATION:US-MEX Terraza Kreuzlingen\, Seestrasse 11B.2 / Seeufer West\, Kreuzlingen\, 8280\, Switzerland
CATEGORIES:US-MEX Terraza Kreuzlingen
ATTACH;FMTTYPE=image/png:https://www.party-insider.com/wp-content/uploads/2025/06/IMG_5892.png
END:VEVENT
BEGIN:VEVENT
DTSTART;TZID=Europe/Zurich:20250628T160000
DTEND;TZID=Europe/Zurich:20250628T160000
DTSTAMP:20260421T222609
CREATED:20250626T164321Z
LAST-MODIFIED:20250626T164321Z
UID:10003991-1751126400-1751126400@www.party-insider.com
SUMMARY:Day Dance - Vauna & Vlora Konstanz
DESCRIPTION:Wir starten am Samstag\, den 28.06.25 16:00 Uhr direkt am Seerhein. Gegenüber vom Bodenseeforum. Wir freuen uns auf Euch! \nAdresse:\nVauna & Vlora Seerhein\nReichenaustr. 27\n78467 Konstanz
URL:https://www.party-insider.com/event/day-dance-vauna-vlora-konstanz/
ATTACH;FMTTYPE=image/png:https://www.party-insider.com/wp-content/uploads/2025/06/IMG_2025-06-26-183957.png
END:VEVENT
BEGIN:VEVENT
DTSTART;TZID=Europe/Zurich:20250628T150000
DTEND;TZID=Europe/Zurich:20250628T150000
DTSTAMP:20260421T222609
CREATED:20250624T111740Z
LAST-MODIFIED:20250624T111918Z
UID:10003985-1751122800-1751122800@www.party-insider.com
SUMMARY:Beach Vibes - Hafenlounge Romanshorn
DESCRIPTION:Tanze mit uns am Samstag zu den Beach Vibes von Sir Replay X #openformat #sunnysaturdays #tanzenamsee #beachfeeling #hotdayslikethis
URL:https://www.party-insider.com/event/lounge-beats-in-hafenlounge-romanshorn-2/
ATTACH;FMTTYPE=image/png:https://www.party-insider.com/wp-content/uploads/2025/06/IMG_2025-06-24-131636.png
END:VEVENT
BEGIN:VEVENT
DTSTART;TZID=Europe/Zurich:20250628T140000
DTEND;TZID=Europe/Zurich:20250628T220000
DTSTAMP:20260421T222609
CREATED:20250618T210322Z
LAST-MODIFIED:20250618T210322Z
UID:10003959-1751119200-1751148000@www.party-insider.com
SUMMARY:ROOFTOP Sessions im Glorious Bastards - Lago Konstanz
DESCRIPTION:
URL:https://www.party-insider.com/event/rooftop-sessions-im-glorious-bastards-lago-konstanz-2/
LOCATION:Glorious Bastards Konstanz\, Bodanstraße 1\, Konstanz\, 78462\, Germany
CATEGORIES:Glorious Bastards
ATTACH;FMTTYPE=image/png:https://www.party-insider.com/wp-content/uploads/2025/06/IMG_2025-06-18-230206.png
END:VEVENT
BEGIN:VEVENT
DTSTART;VALUE=DATE:20250628
DTEND;VALUE=DATE:20250701
DTSTAMP:20260421T222609
CREATED:20250626T184240Z
LAST-MODIFIED:20250626T184512Z
UID:10003997-1751090400-1751263199@www.party-insider.com
SUMMARY:Mahagoni Kollektiv - 24h-Flohmarkt Konstanz-Kreuzlingen
DESCRIPTION:28. & 29. Juni – Mahagoni Kollektiv x 24h-Flohmarkt Konstanz-Kreuzlingen \nOpen Air + Drinks + Live Acts + Projection Mapping + Siebdruck \nWir freuen uns sehr\, auch dieses Jahr wieder die Aktionsfläche beim 24h-Flohmarkt Konstanz hosten zu dürfen. \nMit viel Liebe kuratieren wir ein vielseitiges Programm aus Live-Acts\, DJ-Sets\, Siebdruck und kleinen Extras. \nEinige unserer liebsten Künstler*innen bringen ihre Sounds auf unsere Bühne – wir sind dankbar\, ihnen diesen Raum bieten zu können. \nEin großes Dankeschön geht auch an das @kulturamt_konstanz für die Unterstützung. \nKommt vorbei\, sagt Hallo und verbringt mit uns ein schönes Wochenende auf dem Pausenhof. Wir freuen uns auf euch. \nSamstag 18-23 Uhr\, Sonntag 10-16 Uhr \nPausenhof Alexander-von-Humboldt-Gymnasium Konstanz \nProgramm: \nSamstag – Live Acts: \n@barconara_ \n@kiliband \n@hendrikrpp &@stani_24 \n+ Musik von Mahagoni Residents & Friends \n+ Visuals by @tetrapack.motion & @vagn.collective \nSonntag – Live Act: \n@theconeband \n+ Musik von Mahagoni Residents & Friends \nWir laden euch ein\, Teil eines sichereren und \nrespektvollen Raums zu sein. \nSeid achtsam mit eurem Verhalten und den Grenzen anderer. \nStellt immer gegenseitiges Einverständnis sicher. \nLasst uns gemeinsam einen positiven Raum schaffen. \nDesign by @flugmOdus \nUnterstützt vom @kulturamt_konstanz \nVisuals by @tetrapack.motion & @vagn.collective \nLightshow by@lakelight.kn \nSiebdruckwerkstatt supported by @larry.siebdruck
URL:https://www.party-insider.com/event/mahagoni-kollektiv-24h-flohmarkt-konstanz-kreuzlingen/
ATTACH;FMTTYPE=image/png:https://www.party-insider.com/wp-content/uploads/2025/06/IMG_2025-06-26-203949.png
END:VEVENT
BEGIN:VEVENT
DTSTART;VALUE=DATE:20250628
DTEND;VALUE=DATE:20250701
DTSTAMP:20260421T222609
CREATED:20250626T173820Z
LAST-MODIFIED:20250626T174120Z
UID:10003994-1751090400-1751263199@www.party-insider.com
SUMMARY:Grenzüberschreitender Flohmarkt - Konstanz Kreuzlingen
DESCRIPTION:Grenzüberschreitender Flohmarkt – so kommt ihr hin! \nAm 28. & 29. Juni 2025 ist es wieder so weit: Der grenzüberschreitende Flohmarkt lädt zum Stöbern ein – wir informieren euch\, wie ihr am besten hin- und zurückkommt und was ihr bei der Anreise beachten solltet! \n• Busverkehr der Linienbusse: \nAlle Stadtwerke-Busse im Linienverkehr starten & enden am Sternenplatz – Laube\, Paradies\, Bodanstraße & Bahnhof werden nicht angefahren. Die Linie 908 fährt nur in der Schweiz mit Ersatzhalt hinter dem LAGO. \n– Shuttles: \nZusätzliche Shuttlebusse bringen euch bequem in Richtung Innenstadt/Bahnhof! \n– Kostenlos parken im neuen Parkhaus Europabrücke: \nIm neuen Parkhaus Europabrücke könnt ihr am Samstag\, 28 Juni\, 8 Uhr bis Sonntag\, 29. Juni\, 20 Uhr kostenlos parken! 6 (schrankenlos\, keine Abrechnung). Offiziell eröffnet wird unser Parkhaus übrigens am 02. Juli! \nIhr reist von der anderen Seeseite an? Dann nutzt doch unsere Fähre Konstanz – Meersburg. \nkonrad-Angebote: \nZum ersten Mal mit konrad unterwegs? Nutzt den Code \n«KONRAD2025» in der «Mein konrad»-App für 30 Min. gratis fahren! \nOder ein Lastenrad? Mit dem Code «FLOHMARKT» bekommt ihr 1 Stunde kostenlos! 8e Wichtig: Die Station Laube ist gesperrt – nutzt die virtuelle Station Wallgutschule. \nAlle Infos & Fahrpläne gibt’s auf unserer Website: \nwww.stadtwerke-konstanz.de/bus/flohmarkt \nBleibt mobil – wir freuen uns auf euch! \nFoto: MTK / Chris Danneffel \n#StadtwerkeKonstanz #GrenzüberschreitenderFlohmarkt #Konstanz #Kreuzlingen #Bodensee
URL:https://www.party-insider.com/event/grenzueberschreitender-flohmarkt-konstanz-kreuzlingen/
ATTACH;FMTTYPE=image/png:https://www.party-insider.com/wp-content/uploads/2025/06/IMG_2025-06-26-193331.png
END:VEVENT
BEGIN:VEVENT
DTSTART;TZID=Europe/Zurich:20250627T230000
DTEND;TZID=Europe/Zurich:20250628T050000
DTSTAMP:20260421T222609
CREATED:20250619T163627Z
LAST-MODIFIED:20250619T163627Z
UID:10003965-1751065200-1751086800@www.party-insider.com
SUMMARY:Tidbit in Kantine Konstanz
DESCRIPTION:Tidbit is back! \nFreitag 27. Juni 2025 \nKantine Konstanz \nEin Space für FLINTA-DJs und creatives die juicy Beats lieben (use by FLINTA DJ’s Let them shine ( bright like a diamond) \nAlle anderen viben und genießen:) \nAbendkasse 23:00 Uhr
URL:https://www.party-insider.com/event/tidbit-in-kantine-konstanz/
LOCATION:Kantine Konstanz\, Oberlohnstraße 3\, Konstanz\, 78467\, Germany
CATEGORIES:Kantine
ATTACH;FMTTYPE=image/jpeg:https://www.party-insider.com/wp-content/uploads/2025/06/IMG_5692.jpeg
END:VEVENT
BEGIN:VEVENT
DTSTART;TZID=Europe/Zurich:20250627T220000
DTEND;TZID=Europe/Zurich:20250628T050000
DTSTAMP:20260421T222609
CREATED:20250621T140339Z
LAST-MODIFIED:20250621T140412Z
UID:10003970-1751061600-1751086800@www.party-insider.com
SUMMARY:💄LADIES NIGHT💄 im Grey Konstanz
DESCRIPTION:💄LADIES NIGHT💄 \n20 EURO FREIVERZEHR FÜR LADIES! \n❤️ Und sie feiern wieder in ihrem Lieblingsclub ❤️ \n🔆 Mädelsabend…\n🔆 Ladies Night…\n🔆 Queensclub… \n❣️Specials:\nLadies erhalten bis 00:00Uhr 20€ Getränkefreiverzehr\n(gültig die ganze Nacht) \n❌❌❌ EINTRITT FREI BIS 23 UHR FÜR ALLE ❌❌❌\ndie Ladies sind heute Abend wieder im größten Club am Bodensee zum feiern unterwegs.\nFeier mit uns DEIN WOCHENENDE auf 🔴 FÜNF MUSIKBEREICHEN 🔴! \n# Lounge Reservierung unter:\nhttp://www.greyclub.de
URL:https://www.party-insider.com/event/%f0%9f%92%84ladies-night%f0%9f%92%84-im-grey-konstanz-10/
LOCATION:Grey Konstanz\, Max-Stromeyerstr. 33\, Konstanz\, 78467\, Germany
CATEGORIES:Grey
ATTACH;FMTTYPE=image/jpeg:https://www.party-insider.com/wp-content/uploads/2025/06/IMG_2997-1.jpeg
END:VEVENT
BEGIN:VEVENT
DTSTART;TZID=Europe/Zurich:20250627T220000
DTEND;TZID=Europe/Zurich:20250628T040000
DTSTAMP:20260421T222609
CREATED:20250621T134131Z
LAST-MODIFIED:20250621T134219Z
UID:10003968-1751061600-1751083200@www.party-insider.com
SUMMARY:F*** it’s my Birthday im Top10 Singen
DESCRIPTION:F*** it’s my Birthday! Feier mit deinen Freunden deinen Geburtstag im Top10 Singen! \n  \nF*** it’s my Birthday! Feier mit deinen Freunden deinen Geburtstag im Top10 Singen! \nDu hattest im Juni Geburtstag? Dann checke bis 23 Uhr ein und erhalte freien Eintritt und folgendes: \nU18: Eine Flasche Sekt \nÜ18: Eine Fl. 0\,5l 9Mile Vodka inkl. 1l Beigetränk \nVerpasse dieses Highlight auf keinen Fall und starte so richtig ins Wochenende! \n✪ MAINHALL✪ \nDJ MPR // Mixed Music \nRESERVIERUNGEN: \nDirekt über unsere Homepage – www.top10-singen.de \n★★★★★★★★★★★★★★★★★ \nEINLASS AB 16 JAHREN (in Verbindung mit u18 Formular) \nDRESS TO IMPRESS \nÖffnungszeiten 22:00 – 4:00 Uhr \nEintritt: Abendkasse 8€ \n★★★★★★★★★★★★★★★★★
URL:https://www.party-insider.com/event/f-its-my-birthday-im-top10-singen-3/
LOCATION:TOP10 Singen\, Otto-Hahn-Str. 5\, Singen (Hohentwiel)\, 78224\, Germany
CATEGORIES:Top10
ATTACH;FMTTYPE=image/png:https://www.party-insider.com/wp-content/uploads/2025/06/IMG_5727-1.png
END:VEVENT
BEGIN:VEVENT
DTSTART;TZID=Europe/Zurich:20250627T220000
DTEND;TZID=Europe/Zurich:20250628T010000
DTSTAMP:20260421T222609
CREATED:20250627T155947Z
LAST-MODIFIED:20250627T160146Z
UID:10002235-1751061600-1751072400@www.party-insider.com
SUMMARY:Club Time im Peggys Frauenfeld
DESCRIPTION:Heute DJ Marc One zum letzten Mal vor der Sommerpause!
URL:https://www.party-insider.com/event/club-time-in-peggys-frauenfeld-9/
LOCATION:Peggys Frauenfeld\, Metzgerstrasse 1\, Frauenfeld\, 8500\, Switzerland
CATEGORIES:Peggy
ATTACH;FMTTYPE=image/png:https://www.party-insider.com/wp-content/uploads/2025/05/IMG_2025-06-27-175902.png
END:VEVENT
BEGIN:VEVENT
DTSTART;TZID=Europe/Zurich:20250627T210000
DTEND;TZID=Europe/Zurich:20250628T030000
DTSTAMP:20260421T222609
CREATED:20250505T164905Z
LAST-MODIFIED:20250622T170512Z
UID:10001918-1751058000-1751079600@www.party-insider.com
SUMMARY:DJ Chris & DJ Hirti im GenX Konstanz
DESCRIPTION:Save the Date! We are back! New Location! 27.06.2025 im GENX – DJ Chris & DJ Hirti mit den Best of 80’s & 90’s and Mixes. Best Party in Town 👌 Lasst uns diesen Abend gemeinsam feiern! \nVorverkauf 8€ und Tickets gibt es hier:\n\nGenX\nDJ Hirti\nDJ Chris\nMeisterklause\nKiosk an der Fähre\nKiosk am Bodanplatz\nHaarstudio Pina Sacca\n\n\nAbendkasse 10€
URL:https://www.party-insider.com/event/dj-chris-dj-hirti-im-genx-konstanz/
LOCATION:Poly Club Konstanz\, Maybachstraße 8\, Konstanz\, 78467\, Germany
CATEGORIES:Poly Club Konstanz
ATTACH;FMTTYPE=image/jpeg:https://www.party-insider.com/wp-content/uploads/2025/05/IMG_5874.jpeg
END:VEVENT
BEGIN:VEVENT
DTSTART;TZID=Europe/Zurich:20250627T210000
DTEND;TZID=Europe/Zurich:20250628T020000
DTSTAMP:20260421T222609
CREATED:20250619T164140Z
LAST-MODIFIED:20250619T164140Z
UID:10003966-1751058000-1751076000@www.party-insider.com
SUMMARY:Funk Soul Boogie Night im Dreiegg Frauenfeld
DESCRIPTION:
URL:https://www.party-insider.com/event/funk-soul-boogie-night-im-dreiegg-frauenfeld/
LOCATION:Dreiegg Frauenfeld\, Metzgerstrasse 4\, Frauenfeld\, 8500\, Switzerland
CATEGORIES:Dreiegg
ATTACH;FMTTYPE=image/png:https://www.party-insider.com/wp-content/uploads/2025/06/IMG_2025-06-19-183841.png
END:VEVENT
BEGIN:VEVENT
DTSTART;TZID=Europe/Zurich:20250627T200000
DTEND;TZID=Europe/Zurich:20250628T030000
DTSTAMP:20260421T222609
CREATED:20250621T141337Z
LAST-MODIFIED:20250621T141533Z
UID:10003972-1751054400-1751079600@www.party-insider.com
SUMMARY:Discofox Night in Erdbeermund Singen
DESCRIPTION:Eins Zwei Täp\nEins Zwei Täp.\nHeute wird getanzt im Erdbeermund!!!\nPackt eure Tanschschuhe aus und schwingt mit uns das Tanzbein die ganze nacht zu den heißesten Diskofox Songs.\nNoch Fragen???\nIhr macht euch hübsch\, wir machen euch tanzbar! Garantiert!!!\nGoodies:\n\nGrüße vom Erdbeermund Team\n▀▀▀▀▀▀▀▀▀▀▀▀▀▀▀▀▀▀▀▀▀\nX Music by  DJ MIKA X\nBest Discofox\n▀▀▀▀▀▀▀▀▀▀▀▀▀▀▀▀▀▀▀▀▀\nmore info\n►► Eintritt: 9\,00 EUR\n►► ab 21 Jahren\n►► Öffnungszeiten 20:00 – 3:00 Uhr\n►► Reservierungen: https://www.erdbeermund-singen.de
URL:https://www.party-insider.com/event/discofox-night-in-erdbeermund-singen/
LOCATION:Erdbeermund Singen\, Otto-Hahn-Str. 5\, Singen (Hohentwiel)\, 78224\, Germany
CATEGORIES:Erdbeermund
ATTACH;FMTTYPE=image/png:https://www.party-insider.com/wp-content/uploads/2025/06/IMG_2025-06-21-161117.png
END:VEVENT
BEGIN:VEVENT
DTSTART;TZID=Europe/Zurich:20250627T180000
DTEND;TZID=Europe/Zurich:20250627T220000
DTSTAMP:20260421T222609
CREATED:20250623T072355Z
LAST-MODIFIED:20250623T072438Z
UID:10003978-1751047200-1751061600@www.party-insider.com
SUMMARY:Lake Music Delicious in US-MEX Terraza Kreuzlingen
DESCRIPTION:Am 27. Juni heisst es zurücklehnen\, geniessen und den Sommer am See willkommen heissen – mit Delicious Lake Music auf der stilvollen US-MEX Terraza in Kreuzlingen! \nAST:ON bringt feinste Vibes mit einem Mix aus New & Classic House Music – perfekt für alle\, die Musik für Body & Soul lieben. Zwischen Sonnenuntergang und See-Panorama wird die Terraza zur Tanzfläche und Wohlfühl-Oase zugleich.
URL:https://www.party-insider.com/event/lake-music-delicious-in-us-mex-terraza-kreuzlingen-2/
LOCATION:US-MEX Terraza Kreuzlingen\, Seestrasse 11B.2 / Seeufer West\, Kreuzlingen\, 8280\, Switzerland
CATEGORIES:US-MEX Terraza Kreuzlingen
ATTACH;FMTTYPE=image/jpeg:https://www.party-insider.com/wp-content/uploads/2025/06/IMG_5891.jpeg
END:VEVENT
BEGIN:VEVENT
DTSTART;TZID=Europe/Zurich:20250627T180000
DTEND;TZID=Europe/Zurich:20250627T180000
DTSTAMP:20260421T222609
CREATED:20250531T082447Z
LAST-MODIFIED:20250622T081546Z
UID:10003068-1751047200-1751047200@www.party-insider.com
SUMMARY:Sunset Beach in Seeoase Konstanz
DESCRIPTION:Leider wird es am 7.6.25 abgesagt\, aber am 27.6.25 nachgeholt \nBack at the Beach – Es ist wieder so weit: \nDie Sunset Beach Session kehrt zurück an die Seeoase – mit Wüstenblume JUEL\, die schon im letzten Jahr für absolute Gänsehautmomente gesorgt hat! \nOrganische\, bunte Elektromusik trifft auf Urlaubsfeeling\, Sonnenuntergang und See – das perfekte Rezept für einen unvergesslichen Abend. \nDie Kids können sich im riesigen Sandkasten austoben\, während die Großen ganz entspannt chillen\, baden\, tanzen oder den Sonnenuntergang mit einem Drink in der Hand genießen. \nDie Seeoase ist ein echter Geheimtipp für alle\, die gemeinsam mit Freunden\, Kindern und sogar dem Hund eine gute Zeit verbringen wollen. * \nAlso: Picknickdecke einpacken\, Sonnenbrille auf – und ab an den Strand! Wir freuen uns auf euch!
URL:https://www.party-insider.com/event/sunset-beach-in-seeoase-konstanz/
LOCATION:Seeoase Konstanz\, Klein Venedig 1\, Konstanz\, 78462\, Germany
CATEGORIES:Seeoase
ATTACH;FMTTYPE=image/jpeg:https://www.party-insider.com/wp-content/uploads/2025/05/IMG_5833.jpeg
END:VEVENT
BEGIN:VEVENT
DTSTART;TZID=Europe/Zurich:20250627T170000
DTEND;TZID=Europe/Zurich:20250627T170000
DTSTAMP:20260421T222609
CREATED:20250623T171611Z
LAST-MODIFIED:20250623T213141Z
UID:10003984-1751043600-1751043600@www.party-insider.com
SUMMARY:Fritix Bier & Gin - Xlinger Brauerei Kreuzlingen
DESCRIPTION:Jeden letzten Freitag des Monats öffnen wir unsere Pforten für alle BierliebhaberInnen. Die Bar offen\, das Bier kalt.\nDiesen Monat zusammen mit Dreiklang Gin!\nEs erwartet euch eine besondere Premiere: Biercocktails mit Gin – frisch\, überraschend und absolut einzigartig.\n17:00 – 01:00
URL:https://www.party-insider.com/event/fritix-bier-gin-xlinger-brauerei-kreuzlingen/
ATTACH;FMTTYPE=image/jpeg:https://www.party-insider.com/wp-content/uploads/2025/06/515405C7-D983-4FB0-8FAA-8BD6F90A1C8D.jpeg
END:VEVENT
BEGIN:VEVENT
DTSTART;VALUE=DATE:20250627
DTEND;VALUE=DATE:20250701
DTSTAMP:20260421T222609
CREATED:20250626T180503Z
LAST-MODIFIED:20250626T180806Z
UID:10003996-1751004000-1751263199@www.party-insider.com
SUMMARY:Singener Stadtfest 2025
DESCRIPTION:Von Freitag\, 27. bis Sonntag\, 29 Juni 2025 wird beim Stadtfest für tausende Besucherinnen und Besucher ein unterhaltsames und vielseitiges Programm präsentiert.  Am Samstag\, den 28. Juni 2025 findet das Landesmusikfestival statt. \nGemeinsam mit den Singener Vereinen\, dem Singener Handel und vielen weiteren Partnern wird die City zu einem quirligen Treffpunkt. \nSingen zeigt seine bunte und internationale Seite\, viele ehrenamtliche Akteure verdeutlichen gelebtes Miteinander. \nDazu gehörten auch aktive Inklusion\, Integration und Ökumene. \nhttps://www.singen-totallokal.de
URL:https://www.party-insider.com/event/singener-stadtfest-2025/
ATTACH;FMTTYPE=image/jpeg:https://www.party-insider.com/wp-content/uploads/2025/06/IMG_6023.jpeg
END:VEVENT
BEGIN:VEVENT
DTSTART;TZID=Europe/Zurich:20250626T203000
DTEND;TZID=Europe/Zurich:20250626T203000
DTSTAMP:20260421T222609
CREATED:20250609T184440Z
LAST-MODIFIED:20250609T184440Z
UID:10003920-1750969800-1750969800@www.party-insider.com
SUMMARY:JAKE SULEMAN - LIVE in Peggys Frauenfeld
DESCRIPTION:
URL:https://www.party-insider.com/event/jake-suleman-live-in-peggys-frauenfeld/
LOCATION:Peggys Frauenfeld\, Metzgerstrasse 1\, Frauenfeld\, 8500\, Switzerland
CATEGORIES:Peggy
ATTACH;FMTTYPE=image/jpeg:https://www.party-insider.com/wp-content/uploads/2025/06/IMG_5193.jpeg
END:VEVENT
BEGIN:VEVENT
DTSTART;TZID=Europe/Zurich:20250626T183000
DTEND;TZID=Europe/Zurich:20250626T235500
DTSTAMP:20260421T222609
CREATED:20250623T154700Z
LAST-MODIFIED:20250623T212012Z
UID:10003983-1750962600-1750982100@www.party-insider.com
SUMMARY:Breeze Rooftop Afterwork im Glorious Bastards Konstanz
DESCRIPTION:
URL:https://www.party-insider.com/event/breeze-rooftop-afterwork-im-glorious-bastards-konstanz-2/
LOCATION:Glorious Bastards Konstanz\, Bodanstraße 1\, Konstanz\, 78462\, Germany
CATEGORIES:Glorious Bastards
ATTACH;FMTTYPE=image/jpeg:https://www.party-insider.com/wp-content/uploads/2025/06/E5168C7B-9FE8-42C9-A3D5-114982F9C6EB.jpeg
END:VEVENT
BEGIN:VEVENT
DTSTART;TZID=Europe/Zurich:20250626T170000
DTEND;TZID=Europe/Zurich:20250626T220000
DTSTAMP:20260421T222609
CREATED:20250623T072000Z
LAST-MODIFIED:20250623T072036Z
UID:10003977-1750957200-1750975200@www.party-insider.com
SUMMARY:OUT OF OFFICE: ELEKTRONISCHE BEATS ZUM FEIERABEND in US-MEX Terraza Kreuzlingen
DESCRIPTION:ENTFLIEHE DEM BÜROALLTAG UND TAUCHE EIN IN DIE ENTSPANNTE ATMOSPHÄRE VON OUT OF OFFICE!\nJeweils an ausgewählten Donnerstagabenden verwandelt sich die US-MEX Terraza\, unsere idyllische Strandbar direkt am See\, in einen Afterwork-Hotspot. Elektronische Musik von Live-DJs begleitet dich in den Feierabend und lässt den Stress der Woche vergessen. Komm vorbei\, geniesse die erfrischenden Drinks und lass den Alltag durch die Klänge der Musik und die malerische Abendstimmung vergessen. Out of Office – der Afterwork-Event\, welcher dich jede Woche aufs Neue begeistern wird. \n\nUS-MEX Terraza Kreuzlingen | Seestrasse 11B.2 / Seeufer West\nwww.usmex-terraza.ch
URL:https://www.party-insider.com/event/out-of-office-elektronische-beats-zum-feierabend-in-us-mex-terraza-kreuzlingen-2/
LOCATION:US-MEX Terraza Kreuzlingen\, Seestrasse 11B.2 / Seeufer West\, Kreuzlingen\, 8280\, Switzerland
CATEGORIES:US-MEX Terraza Kreuzlingen
ATTACH;FMTTYPE=image/jpeg:https://www.party-insider.com/wp-content/uploads/2025/06/IMG_5889.jpeg
END:VEVENT
BEGIN:VEVENT
DTSTART;TZID=Europe/Zurich:20250626T170000
DTEND;TZID=Europe/Zurich:20250626T190000
DTSTAMP:20260421T222609
CREATED:20250402T043915Z
LAST-MODIFIED:20250707T104217Z
UID:10001544-1750957200-1750964400@www.party-insider.com
SUMMARY:After Work - Peggys Frauenfeld
DESCRIPTION:
URL:https://www.party-insider.com/event/after-work-im-peggys-frauenfeld/2025-06-26/
LOCATION:Peggys Frauenfeld\, Metzgerstrasse 1\, Frauenfeld\, 8500\, Switzerland
CATEGORIES:Peggy
ATTACH;FMTTYPE=image/jpeg:https://www.party-insider.com/wp-content/uploads/2025/04/IMG_6453.jpeg
END:VEVENT
BEGIN:VEVENT
DTSTART;TZID=Europe/Zurich:20250625T200000
DTEND;TZID=Europe/Zurich:20250625T230000
DTSTAMP:20260421T222609
CREATED:20250625T075841Z
LAST-MODIFIED:20250625T075913Z
UID:10003987-1750881600-1750892400@www.party-insider.com
SUMMARY:HTWG Sommerfest - Strandbar Konstanz
DESCRIPTION:
URL:https://www.party-insider.com/event/htwg-sommerfest-strandbar-konstanz/
ATTACH;FMTTYPE=image/png:https://www.party-insider.com/wp-content/uploads/2025/06/IMG_2025-06-25-095640.png
END:VEVENT
BEGIN:VEVENT
DTSTART;VALUE=DATE:20250624
DTEND;VALUE=DATE:20250626
DTSTAMP:20260421T222609
CREATED:20250623T095435Z
LAST-MODIFIED:20250623T095435Z
UID:10003981-1750744800-1750831199@www.party-insider.com
SUMMARY:Spritz Tour in Strandbar Konstanz
DESCRIPTION:Spritz Tour ||| Aperol Spritz 4.8€ ||| Dienstag\, 24.06.25 \nMusik: @_robin.dj @larniedjuk \n#strandbarkonstanz #konstanz #bodensee #strandbar #seezeit
URL:https://www.party-insider.com/event/spritz-tour-in-strandbar-konstanz-2/
ATTACH;FMTTYPE=image/png:https://www.party-insider.com/wp-content/uploads/2025/06/IMG_2025-06-23-115259.png
END:VEVENT
BEGIN:VEVENT
DTSTART;TZID=Europe/Zurich:20250622T140000
DTEND;TZID=Europe/Zurich:20250622T140000
DTSTAMP:20260421T222609
CREATED:20250615T102843Z
LAST-MODIFIED:20250615T103019Z
UID:10003946-1750600800-1750600800@www.party-insider.com
SUMMARY:SUN.DAY.LAKE.MUSIC in US-MEX Terraza Kreuzlingen
DESCRIPTION:SONNENSCHEIN\, ENTSPANNTE BEATS UND URLAUBSFEELING DIREKT AM WASSER:\nFreut euch auf elektronische Klänge in chilliger Atmosphäre und erfrischende Drinks – alles eingebettet in unsere einzigartige Kulisse direkt am See. Pack deine Sonnenbrille ein und geniesse den Sonntag wie einen Kurzurlaub. Wir freuen uns auf dich! \n\nUS-MEX Terraza Kreuzlingen | Seestrasse 11B.2 / Seeufer West\nBei Sonnenschein täglich ab 12.00 Uhr geöffnet | www.usmex-terraza.ch
URL:https://www.party-insider.com/event/sun-day-lake-music-in-us-mex-terraza-kreuzlingen-3/
LOCATION:US-MEX Terraza Kreuzlingen\, Seestrasse 11B.2 / Seeufer West\, Kreuzlingen\, 8280\, Switzerland
CATEGORIES:US-MEX Terraza Kreuzlingen
ATTACH;FMTTYPE=image/jpeg:https://www.party-insider.com/wp-content/uploads/2025/06/IMG_5532.jpeg
END:VEVENT
END:VCALENDAR