BEGIN:VCALENDAR
VERSION:2.0
PRODID:-//Party-Insider - ECPv6.14.2//NONSGML v1.0//EN
CALSCALE:GREGORIAN
METHOD:PUBLISH
X-WR-CALNAME:Party-Insider
X-ORIGINAL-URL:https://www.party-insider.com
X-WR-CALDESC:Veranstaltungen im Party-Insider
REFRESH-INTERVAL;VALUE=DURATION:PT1H
X-Robots-Tag:noindex
X-PUBLISHED-TTL:PT1H
BEGIN:VTIMEZONE
TZID:Europe/Zurich
BEGIN:DAYLIGHT
TZOFFSETFROM:+0100
TZOFFSETTO:+0200
TZNAME:CEST
DTSTART:20250330T010000
END:DAYLIGHT
BEGIN:STANDARD
TZOFFSETFROM:+0200
TZOFFSETTO:+0100
TZNAME:CET
DTSTART:20251026T010000
END:STANDARD
END:VTIMEZONE
BEGIN:VEVENT
DTSTART;TZID=Europe/Zurich:20250719T160000
DTEND;TZID=Europe/Zurich:20250719T220000
DTSTAMP:20260420T224420
CREATED:20250713T172157Z
LAST-MODIFIED:20250713T172308Z
UID:10004099-1752940800-1752962400@www.party-insider.com
SUMMARY:Day Dance - US-MEX Terraza Kreuzlingen
DESCRIPTION:Freu dich auf mitreissende Beats\, sommerliche Vibes und elektrisierende Beats direkt am See! Am Samstag tanzen wir am Daydance auf der US-MEX Terraza Kreuzlingen. Tanze unter freiem Himmel\, geniesse coole Drinks und den Sonnenuntergang in einzigartiger Atmosphäre. Unsere DJs liefern den perfekten Soundtrack für einen unvergesslichen Sommertag – Open Air\, direkt am Wasser und voller Lebensfreude. \n\nUS-MEX Terraza Kreuzlingen | Seestrasse 11B.2 / Seeufer West\nwww.usmex-terraza.ch
URL:https://www.party-insider.com/event/day-dance-us-mex-terraza-kreuzlingen-2/
LOCATION:US-MEX Terraza Kreuzlingen\, Seestrasse 11B.2 / Seeufer West\, Kreuzlingen\, 8280\, Switzerland
CATEGORIES:US-MEX Terraza Kreuzlingen
ATTACH;FMTTYPE=image/jpeg:https://www.party-insider.com/wp-content/uploads/2025/07/IMG_6623.jpeg
END:VEVENT
BEGIN:VEVENT
DTSTART;TZID=Europe/Zurich:20250719T160000
DTEND;TZID=Europe/Zurich:20250719T200000
DTSTAMP:20260420T224420
CREATED:20250709T194215Z
LAST-MODIFIED:20250709T194326Z
UID:10004083-1752940800-1752955200@www.party-insider.com
SUMMARY:Kalimera Kollektiv - Akropolis Konstanz
DESCRIPTION:
URL:https://www.party-insider.com/event/kalimera-kollektiv-akropolis-konstanz/
ATTACH;FMTTYPE=image/png:https://www.party-insider.com/wp-content/uploads/2025/07/IMG_2025-07-09-213321.png
END:VEVENT
BEGIN:VEVENT
DTSTART;TZID=Europe/Zurich:20250719T150000
DTEND;TZID=Europe/Zurich:20250720T040000
DTSTAMP:20260420T224420
CREATED:20250713T162152Z
LAST-MODIFIED:20250713T162152Z
UID:10004093-1752937200-1752984000@www.party-insider.com
SUMMARY:Daytimer - We love 2000 - Bolero Winterthur
DESCRIPTION:
URL:https://www.party-insider.com/event/daytimer-we-love-2000-bolero-winterthur/
LOCATION:Bolero Winterthur\, Vogelsangstrasse 10\, Winterthur\, 8400\, Switzerland
CATEGORIES:Bolero
ATTACH;FMTTYPE=image/jpeg:https://www.party-insider.com/wp-content/uploads/2025/07/IMG_6618.jpeg
END:VEVENT
BEGIN:VEVENT
DTSTART;TZID=Europe/Zurich:20250719T140000
DTEND;TZID=Europe/Zurich:20250719T220000
DTSTAMP:20260420T224420
CREATED:20250715T202642Z
LAST-MODIFIED:20250715T202642Z
UID:10004108-1752933600-1752962400@www.party-insider.com
SUMMARY:Rooftop Glorious Garden - Lago Konstanz
DESCRIPTION:
URL:https://www.party-insider.com/event/rooftop-glorious-garden-lago-konstanz-4/
LOCATION:Glorious Bastards Konstanz\, Bodanstraße 1\, Konstanz\, 78462\, Germany
CATEGORIES:Glorious Bastards
ATTACH;FMTTYPE=image/jpeg:https://www.party-insider.com/wp-content/uploads/2025/07/IMG_6691.jpeg
END:VEVENT
BEGIN:VEVENT
DTSTART;TZID=Europe/Zurich:20250718T230000
DTEND;TZID=Europe/Zurich:20250719T040000
DTSTAMP:20260420T224420
CREATED:20250713T161819Z
LAST-MODIFIED:20250713T161819Z
UID:10004092-1752879600-1752897600@www.party-insider.com
SUMMARY:Moon Lights & Friday Vibrations - Bolero Winterthur
DESCRIPTION:
URL:https://www.party-insider.com/event/moon-lights-friday-vibrations-bolero-winterthur/
LOCATION:Bolero Winterthur\, Vogelsangstrasse 10\, Winterthur\, 8400\, Switzerland
CATEGORIES:Bolero
ATTACH;FMTTYPE=image/jpeg:https://www.party-insider.com/wp-content/uploads/2025/07/IMG_6617.jpeg
END:VEVENT
BEGIN:VEVENT
DTSTART;TZID=Europe/Zurich:20250718T220000
DTEND;TZID=Europe/Zurich:20250719T050000
DTSTAMP:20260420T224420
CREATED:20250713T160718Z
LAST-MODIFIED:20250713T160718Z
UID:10004090-1752876000-1752901200@www.party-insider.com
SUMMARY:💄LADIES NIGHT💄 Grey Konstanz
DESCRIPTION:💄LADIES NIGHT💄 \n20 EURO FREIVERZEHR FÜR LADIES! \n❤️ Und sie feiern wieder in ihrem Lieblingsclub ❤️ \n🔆 Mädelsabend…\n🔆 Ladies Night…\n🔆 Queensclub… \n❣️Specials:\nLadies erhalten bis 00:00Uhr 20€ Getränkefreiverzehr\n(gültig die ganze Nacht) \n❌❌❌ EINTRITT FREI BIS 23 UHR FÜR ALLE ❌❌❌\ndie Ladies sind heute Abend wieder im größten Club am Bodensee zum feiern unterwegs.\nFeier mit uns DEIN WOCHENENDE auf 🔴 FÜNF MUSIKBEREICHEN 🔴! \n# Lounge Reservierung unter:\nhttp://www.greyclub.de
URL:https://www.party-insider.com/event/%f0%9f%92%84ladies-night%f0%9f%92%84-grey-konstanz/
LOCATION:Grey Konstanz\, Max-Stromeyerstr. 33\, Konstanz\, 78467\, Germany
CATEGORIES:Grey
ATTACH;FMTTYPE=image/jpeg:https://www.party-insider.com/wp-content/uploads/2025/07/IMG_6142.jpeg
END:VEVENT
BEGIN:VEVENT
DTSTART;TZID=Europe/Zurich:20250718T220000
DTEND;TZID=Europe/Zurich:20250719T040000
DTSTAMP:20260420T224420
CREATED:20250713T164530Z
LAST-MODIFIED:20250713T164530Z
UID:10004094-1752876000-1752897600@www.party-insider.com
SUMMARY:Project Singen - Top10 Singen
DESCRIPTION: PROJECT SINGEN Sei dabei\, wenn Singen Geschichte schreibt und erlebe eine Nacht\, die du niemals vergessen wirst. Am 18. Juli starten wir die größte Hausparty der Region im TOP 10. An diesem Abend wollen wir alle Maßstäbe sprengen – wirklich alle!\n PARTY REKORDSage allen deinen Freunden Bescheid – es soll einfach jeder von dieser Party erfahren! ! Es wird die größte Party des Jahres! \n CRAZY POOL GAMESUnser Animationsteam hat aufregende Spiele für euch vorbereitet!\n NINTENDO GAMESIn unserer Gaming-Lounge starten wir ein großes Mario-Kart Turnier! Auf die Gewinner warten coole Geschenke und Freigetränke.\n BOCK AUF PIZZAWir bestellen für 00:00 gratis Pizza für den ganzen Club!\n POLIZEI EINSATZZwischen 02 Uhr und 03 Uhr ertönt für 2 Minuten die Polizeisirene und es gibt am DJ Pult gratis Shots!\n MEGA HÜPFBURGKein Spaß! Wir stellen eine große Hüpfburg auf!\n BESOFFEN ZU OFFENVon Beer Pong bis zu Trichter Trinken – unsere Drunken Games sorgen für Spaß!\n WAS GEHT HIER AB!?An JEDER BAR gibt es gratis Süßigkeiten und Chips!\n CAKE BOMBSWer lässt sich eine Torte ins Gesicht schmeißen?\n ONE NIGHT STAND ODER GROßE LIEBEFarbige Knicklichter zeigen\, was du willstund dunkle Ecken laden zum Knutschen ein!Grün: One Night Stand – Ich bin für Alles offen! Gelb: Ich suche eher was festes – Probiere dein Glück!Rot: Vergiss es! Ich bin nur zum Feiern hier.\n WENN DEINE MUTTER WÜSSTEWir machen einen Wet-T-Shirt-Contest. Das Publikum entscheidet\, wer gewinnt und ein gratis Vodka Boot bekommt!\n PURE ESKALATION» Sichere dir beim DJ GRATIS KONDOME!» Wir schießen mit TEQUILA PISTOLEN rum!\n SINGEN RASTET AUS!Konfetti Bomben\, CO2 Eskalation\, XXL Ballons & vieles mehr!\n✘✘✘ MUSIC ✘✘✘Party auf 3 AreasOPEN AIR AREA•⁠ ⁠EDM\, Charts & Project Singen Show•⁠ ⁠Beer-Pong\, Pool\, Chill-Out\, Raucherbereich\nINDOOR MAIN FLOOR•⁠ ⁠Best of Black & Deutschrap –\nGROOVE CLUB•⁠ ⁠Best of 90er & 2000er –\n✘✘✘ TICKETS ✘✘✘unter https://bit.ly/projectsingen_top_10 oder an der Abendkasse!\nDer Vorverkauf ist ab sofort geöffnet!\nEarly Bird Ticket: 7\,90€ (die ersten 300 Tickets)Normales Ticket: 9\,90€\n✘✘✘ INFOS ✘✘✘・ Geöffnet ab 22:00・ Freitag\, 18.07.2025・ TOP 10 Singen・ P16 mit Partyzettel
URL:https://www.party-insider.com/event/project-singen-top10-singen/
LOCATION:TOP10 Singen\, Otto-Hahn-Str. 5\, Singen (Hohentwiel)\, 78224\, Germany
CATEGORIES:Top10
ATTACH;FMTTYPE=image/jpeg:https://www.party-insider.com/wp-content/uploads/2025/07/IMG_6619.jpeg
END:VEVENT
BEGIN:VEVENT
DTSTART;TZID=Europe/Zurich:20250718T220000
DTEND;TZID=Europe/Zurich:20250718T220000
DTSTAMP:20260420T224420
CREATED:20250715T203758Z
LAST-MODIFIED:20250715T203837Z
UID:10004109-1752876000-1752876000@www.party-insider.com
SUMMARY:Summer + Holiday Vibes - BBC butterbarcafe Gossau
DESCRIPTION:Das Motto von diesem Wochenende: \nSummer & Holiday Vibes! \nUrlaubsstimmung mitten in Gossau \n#bbcgossau #usgangostschweiz #stgallenevents #gossausg #clubbing #switzerland #events #bbcbutterbarcafe
URL:https://www.party-insider.com/event/summer-holiday-vibes-bbc-butterbarcafe-gossau/
ATTACH;FMTTYPE=image/jpeg:https://www.party-insider.com/wp-content/uploads/2025/07/IMG_6712.jpeg
END:VEVENT
BEGIN:VEVENT
DTSTART;TZID=Europe/Zurich:20250718T220000
DTEND;TZID=Europe/Zurich:20250718T220000
DTSTAMP:20260420T224420
CREATED:20250518T203204Z
LAST-MODIFIED:20260419T171012Z
UID:10002241-1752876000-1752876000@www.party-insider.com
SUMMARY:Club Time - Peggys Frauenfeld
DESCRIPTION:
URL:https://www.party-insider.com/event/club-time-in-peggys-frauenfeld/2025-07-18/
LOCATION:Peggys Frauenfeld\, Metzgerstrasse 1\, Frauenfeld\, 8500\, Switzerland
CATEGORIES:Peggy
ATTACH;FMTTYPE=image/jpeg:https://www.party-insider.com/wp-content/uploads/2025/05/IMG_1341.jpeg
END:VEVENT
BEGIN:VEVENT
DTSTART;TZID=Europe/Zurich:20250718T210000
DTEND;TZID=Europe/Zurich:20250718T210000
DTSTAMP:20260420T224420
CREATED:20250717T185054Z
LAST-MODIFIED:20250717T202040Z
UID:10004117-1752872400-1752872400@www.party-insider.com
SUMMARY:CSD Pre-Party - Labor\, Contrast Konstanz
DESCRIPTION:Adresse:\nJoseph-Belli-Weg 11\n78467 Konstanz \nDie Party am Freitag: \nEinlass ab 21.00\, Eintritt 3€ \nProgramm: \n21.00-23.00 Uhr \nDuo Comtè (Pop / House / Slow Techno) \n23.00-00.30 Uhr \nACKiller (Hyperpop / Slutpop) \n00.30-02.30 Uhr \nDJ Levana (Minimal Techno) \nGet to know each other & have a good time
URL:https://www.party-insider.com/event/csd-pre-party-labor-contrast-konstanz/
ATTACH;FMTTYPE=image/jpeg:https://www.party-insider.com/wp-content/uploads/2025/07/IMG_6750.jpeg
END:VEVENT
BEGIN:VEVENT
DTSTART;TZID=Europe/Zurich:20250718T200000
DTEND;TZID=Europe/Zurich:20250718T235500
DTSTAMP:20260420T224420
CREATED:20250718T055528Z
LAST-MODIFIED:20250718T055554Z
UID:10004121-1752868800-1752882900@www.party-insider.com
SUMMARY:Eat\, Drink & Music - The Secret Garden Firehouse Weinfelden
DESCRIPTION:AMBIENT | DEEP | HOUSE \nFREE Entry \nDJ Long A
URL:https://www.party-insider.com/event/eat-drink-music-the-secret-garden-firehouse-weinfelden/
LOCATION:Firehouse Weinfelden\, Amriswilerstrasse 57\, Weinfelden\, 8570\, Switzerland
CATEGORIES:Firehouse
ATTACH;FMTTYPE=image/jpeg:https://www.party-insider.com/wp-content/uploads/2025/07/IMG_6787.jpeg
END:VEVENT
BEGIN:VEVENT
DTSTART;TZID=Europe/Zurich:20250718T180000
DTEND;TZID=Europe/Zurich:20250718T220000
DTSTAMP:20260420T224420
CREATED:20250713T171852Z
LAST-MODIFIED:20250713T171852Z
UID:10004098-1752861600-1752876000@www.party-insider.com
SUMMARY:Lake Music Delicious - US-MEX Terraza Kreuzlingen
DESCRIPTION:Am 18. Juli heisst es zurücklehnen\, geniessen und den Sommer am See willkommen heissen – mit Delicious Lake Music auf der stilvollen US-MEX Terraza in Kreuzlingen! \nPad Beryll bringt feinste Vibes mit einem Mix aus New & Classic House Music – perfekt für alle\, die Musik für Body & Soul lieben. Zwischen Sonnenuntergang und See-Panorama wird die Terraza zur Tanzfläche und Wohlfühl-Oase zugleich.
URL:https://www.party-insider.com/event/lake-music-delicious-us-mex-terraza-kreuzlingen-2/
LOCATION:US-MEX Terraza Kreuzlingen\, Seestrasse 11B.2 / Seeufer West\, Kreuzlingen\, 8280\, Switzerland
CATEGORIES:US-MEX Terraza Kreuzlingen
ATTACH;FMTTYPE=image/jpeg:https://www.party-insider.com/wp-content/uploads/2025/07/IMG_5891.jpeg
END:VEVENT
BEGIN:VEVENT
DTSTART;TZID=Europe/Zurich:20250718T180000
DTEND;TZID=Europe/Zurich:20250718T180000
DTSTAMP:20260420T224420
CREATED:20250718T050958Z
LAST-MODIFIED:20250718T050958Z
UID:10004120-1752861600-1752861600@www.party-insider.com
SUMMARY:Sabado Cliente - Gallery Lounge Konstanz
DESCRIPTION:Adresse:\nFritz-Arnold-Straße 7\n78467 Konstanz
URL:https://www.party-insider.com/event/sabado-cliente-gallery-lounge-konstanz/
ATTACH;FMTTYPE=image/png:https://www.party-insider.com/wp-content/uploads/2025/07/IMG_2025-07-18-070912.png
END:VEVENT
BEGIN:VEVENT
DTSTART;TZID=Europe/Zurich:20250718T170000
DTEND;TZID=Europe/Zurich:20250718T220000
DTSTAMP:20260420T224420
CREATED:20250702T085426Z
LAST-MODIFIED:20250713T202932Z
UID:10004021-1752858000-1752876000@www.party-insider.com
SUMMARY:Sundowner - Ostbad Überlingen am See
DESCRIPTION:Wir freuen uns\, euch dann bei Sundowner Vibes im @ostbad.ueberlingen zu sehen! \nWir sind Zürich mit weiteren Sundowner \nVibes in @ostbad.ueberlingen \nChill House\, Sonne & See – was will man mehr? \nOstbad Überlingen \n18.07.25 \n17:00 – 22:00 Uhr Mit @djcosmicray \nKommt vorbei\, tanzt barfuß im Sand\, spürt den Beat und genießt den Sonnenuntergang direkt am Bodensee \nSignature Cocktails & Stimmung garantiert! \n#Überlingen #Sundowner #ChillHouse #DJCosmicRay #BodenseeVibes #OstbadÜberlingen #BeachParty #SummerFeelings #livedj
URL:https://www.party-insider.com/event/sundowner-ostbad-ueberlingen-am-see/
ATTACH;FMTTYPE=image/png:https://www.party-insider.com/wp-content/uploads/2025/07/IMG_2025-07-13-222907.png
END:VEVENT
BEGIN:VEVENT
DTSTART;TZID=Europe/Zurich:20250718T140000
DTEND;TZID=Europe/Zurich:20250718T220000
DTSTAMP:20260420T224420
CREATED:20250716T102251Z
LAST-MODIFIED:20250716T102251Z
UID:10004115-1752847200-1752876000@www.party-insider.com
SUMMARY:Rooftop Glorious Garden - Lago Konstanz
DESCRIPTION:
URL:https://www.party-insider.com/event/rooftop-glorious-garden-lago-konstanz-5/
LOCATION:Glorious Bastards Konstanz\, Bodanstraße 1\, Konstanz\, 78462\, Germany
CATEGORIES:Glorious Bastards
ATTACH;FMTTYPE=image/png:https://www.party-insider.com/wp-content/uploads/2025/07/IMG_2025-07-16-122135.png
END:VEVENT
BEGIN:VEVENT
DTSTART;TZID=Europe/Zurich:20250717T180000
DTEND;TZID=Europe/Zurich:20250717T180000
DTSTAMP:20260420T224420
CREATED:20250709T044052Z
LAST-MODIFIED:20250709T044605Z
UID:10004078-1752775200-1752775200@www.party-insider.com
SUMMARY:Lounge Beats - Hafenlounge Romanshorn
DESCRIPTION:Donnerstag ist Lounge Beats Tag chillige House Beats von Martez Delion versüssen euch den lauen Sommerabend \nAdresse:\nHafenstrasse 29\n8590 Romanshorn \n#loungebeats #housemusic #immerdonnerstags #bodenseeliebe #summerdrinks #deliciousfood
URL:https://www.party-insider.com/event/lounge-beats-hafenlounge-romanshorn/
ATTACH;FMTTYPE=image/png:https://www.party-insider.com/wp-content/uploads/2025/07/IMG_2025-07-09-063919.png
END:VEVENT
BEGIN:VEVENT
DTSTART;TZID=Europe/Zurich:20250717T170000
DTEND;TZID=Europe/Zurich:20250717T220000
DTSTAMP:20260420T224420
CREATED:20250713T171613Z
LAST-MODIFIED:20250713T171613Z
UID:10004097-1752771600-1752789600@www.party-insider.com
SUMMARY:OUT OF OFFICE: ELEKTRONISCHE BEATS ZUM FEIERABEND - US-MEX Terraza Kreuzlingen
DESCRIPTION:ENTFLIEHE DEM BÜROALLTAG UND TAUCHE EIN IN DIE ENTSPANNTE ATMOSPHÄRE VON OUT OF OFFICE!\nJeweils an ausgewählten Donnerstagabenden verwandelt sich die US-MEX Terraza\, unsere idyllische Strandbar direkt am See\, in einen Afterwork-Hotspot. Elektronische Musik von Live-DJs begleitet dich in den Feierabend und lässt den Stress der Woche vergessen. Komm vorbei\, geniesse die erfrischenden Drinks und lass den Alltag durch die Klänge der Musik und die malerische Abendstimmung vergessen. Out of Office – der Afterwork-Event\, welcher dich jede Woche aufs Neue begeistern wird. \n\nUS-MEX Terraza Kreuzlingen | Seestrasse 11B.2 / Seeufer West\nwww.usmex-terraza.ch
URL:https://www.party-insider.com/event/out-of-office-elektronische-beats-zum-feierabend-us-mex-terraza-kreuzlingen-2/
LOCATION:US-MEX Terraza Kreuzlingen\, Seestrasse 11B.2 / Seeufer West\, Kreuzlingen\, 8280\, Switzerland
CATEGORIES:US-MEX Terraza Kreuzlingen
ATTACH;FMTTYPE=image/jpeg:https://www.party-insider.com/wp-content/uploads/2025/07/IMG_5889.jpeg
END:VEVENT
BEGIN:VEVENT
DTSTART;TZID=Europe/Zurich:20250717T170000
DTEND;TZID=Europe/Zurich:20250717T190000
DTSTAMP:20260420T224420
CREATED:20250402T043915Z
LAST-MODIFIED:20250707T104217Z
UID:10001547-1752771600-1752778800@www.party-insider.com
SUMMARY:After Work - Peggys Frauenfeld
DESCRIPTION:
URL:https://www.party-insider.com/event/after-work-im-peggys-frauenfeld/2025-07-17/
LOCATION:Peggys Frauenfeld\, Metzgerstrasse 1\, Frauenfeld\, 8500\, Switzerland
CATEGORIES:Peggy
ATTACH;FMTTYPE=image/jpeg:https://www.party-insider.com/wp-content/uploads/2025/04/IMG_6453.jpeg
END:VEVENT
BEGIN:VEVENT
DTSTART;TZID=Europe/Zurich:20250714T170000
DTEND;TZID=Europe/Zurich:20250714T220000
DTSTAMP:20260420T224420
CREATED:20250713T173746Z
LAST-MODIFIED:20250713T173746Z
UID:10004101-1752512400-1752530400@www.party-insider.com
SUMMARY:Easy Monday Afterwork - DOM Konstanz
DESCRIPTION:Adresse:\nBrückengasse\n78462 Konstanz
URL:https://www.party-insider.com/event/easy-monday-afterwork-dom-konstanz/
ATTACH;FMTTYPE=image/jpeg:https://www.party-insider.com/wp-content/uploads/2025/07/IMG_6626.jpeg
END:VEVENT
BEGIN:VEVENT
DTSTART;TZID=Europe/Zurich:20250713T140000
DTEND;TZID=Europe/Zurich:20250713T140000
DTSTAMP:20260420T224420
CREATED:20250706T125121Z
LAST-MODIFIED:20250706T125121Z
UID:10004039-1752415200-1752415200@www.party-insider.com
SUMMARY:SUN.DAY.LAKE.MUSIC - US-MEX Terraza Kreuzlingen
DESCRIPTION:SONNENSCHEIN\, ENTSPANNTE BEATS UND URLAUBSFEELING DIREKT AM WASSER:\nFreut euch auf elektronische Klänge in chilliger Atmosphäre und erfrischende Drinks – alles eingebettet in unsere einzigartige Kulisse direkt am See. Pack deine Sonnenbrille ein und geniesse den Sonntag wie einen Kurzurlaub. Wir freuen uns auf dich! \n\nUS-MEX Terraza Kreuzlingen | Seestrasse 11B.2 / Seeufer West\nBei Sonnenschein täglich ab 12.00 Uhr geöffnet | www.usmex-terraza.ch
URL:https://www.party-insider.com/event/sun-day-lake-music-us-mex-terraza-kreuzlingen-2/
LOCATION:US-MEX Terraza Kreuzlingen\, Seestrasse 11B.2 / Seeufer West\, Kreuzlingen\, 8280\, Switzerland
CATEGORIES:US-MEX Terraza Kreuzlingen
ATTACH;FMTTYPE=image/jpeg:https://www.party-insider.com/wp-content/uploads/2025/07/IMG_5893.jpeg
END:VEVENT
BEGIN:VEVENT
DTSTART;TZID=Europe/Zurich:20250713T120000
DTEND;TZID=Europe/Zurich:20250713T190000
DTSTAMP:20260420T224420
CREATED:20250708T104025Z
LAST-MODIFIED:20250708T104025Z
UID:10004073-1752408000-1752433200@www.party-insider.com
SUMMARY:Rooftop Glorious Garden - Lago Konstanz
DESCRIPTION:
URL:https://www.party-insider.com/event/rooftop-glorious-garden-lago-konstanz-2/
LOCATION:Glorious Bastards Konstanz\, Bodanstraße 1\, Konstanz\, 78462\, Germany
CATEGORIES:Glorious Bastards
ATTACH;FMTTYPE=image/png:https://www.party-insider.com/wp-content/uploads/2025/07/IMG_2025-07-08-123533.png
END:VEVENT
BEGIN:VEVENT
DTSTART;TZID=Europe/Zurich:20250712T230000
DTEND;TZID=Europe/Zurich:20250713T040000
DTSTAMP:20260420T224420
CREATED:20250706T123532Z
LAST-MODIFIED:20250706T123532Z
UID:10004035-1752361200-1752379200@www.party-insider.com
SUMMARY:Urbanity & Moonlight - Bolero Winterthur
DESCRIPTION:
URL:https://www.party-insider.com/event/urbanity-moonlight-bolero-winterthur/
LOCATION:Bolero Winterthur\, Vogelsangstrasse 10\, Winterthur\, 8400\, Switzerland
CATEGORIES:Bolero
ATTACH;FMTTYPE=image/jpeg:https://www.party-insider.com/wp-content/uploads/2025/07/IMG_6406.jpeg
END:VEVENT
BEGIN:VEVENT
DTSTART;TZID=Europe/Zurich:20250712T220000
DTEND;TZID=Europe/Zurich:20250713T050000
DTSTAMP:20260420T224420
CREATED:20250706T122628Z
LAST-MODIFIED:20250706T122743Z
UID:10004033-1752357600-1752382800@www.party-insider.com
SUMMARY:Die Mega 90er Party - Erdbeermund Singen
DESCRIPTION:Die Mega 90er Party\nOh ja wir schreiben wieder Geschichte…\nLasst uns gemeinsam 90er\, erleben!!!\nDER Samstag in deinem Lieblings Club\, wo jeder auf seine Kosten kommt.\nPartymukke  der 90er All Night Long und dieses Gefühl schwerelos zu sein.\nHier kannst du DU SELBST sein!!! Sei frei\, sei großartig & einzigartig.\nFühle die Nacht und tauche ein\, in alten und neuen Zeiten.\n\nDie wichtigsten Facts:\n– Separater Eingang (links auf dem Parkplatz)\n– Einlass ab 21 Jahren\n– Parkplätze vor der Tür\n– Kein Durchgang vom TOP10 innerhalb der Räumlichkeiten\n\nIhr habt Fragen? Schreibt uns eine Mail an\ninfo@erdbeermund-singen.de\n\nGrüße vom Erdbeermund Team\n▀▀▀▀▀▀▀▀▀▀▀▀▀▀▀▀▀▀▀▀▀\nBest of 90’s by DJ MIKA\n▀▀▀▀▀▀▀▀▀▀▀▀▀▀▀▀▀▀▀▀▀\nmore info:\n►► Eintritt: 9\,00 €\n►► ab 21 Jahren\n►► Öffnungszeiten 22:00 – 5:00 Uhr\n►► https://www.erdbeermund-singen.de
URL:https://www.party-insider.com/event/die-mega-90er-party-erdbeermund-singen/
LOCATION:Erdbeermund Singen\, Otto-Hahn-Str. 5\, Singen (Hohentwiel)\, 78224\, Germany
CATEGORIES:Erdbeermund
ATTACH;FMTTYPE=image/png:https://www.party-insider.com/wp-content/uploads/2025/07/IMG_2025-07-06-142522.png
END:VEVENT
BEGIN:VEVENT
DTSTART;TZID=Europe/Zurich:20250712T220000
DTEND;TZID=Europe/Zurich:20250713T050000
DTSTAMP:20260420T224420
CREATED:20250706T122327Z
LAST-MODIFIED:20250706T122327Z
UID:10004032-1752357600-1752382800@www.party-insider.com
SUMMARY:Russian City Beats - Top10 Singen
DESCRIPTION:Russische Nacht – Open Air Special im Nachtpark @ Top10 Singen 🇷🇺\n📅 Samstag\, 12.07.2025 | ⏰ Einlass ab 22:00 Uhr | 📍 Nachtpark – Top10 Singen | ab 18 Jahren\n\nAm 12. Juli holen wir das beste aus der russischen Clubszene direkt nach Singen – unter freiem Himmel!\n\nFeier mit uns eine unvergessliche Nacht im 800 m² großen Open Air Nachtpark mit:\n\n🎧 DJ Andy – mit den aktuellsten russischen Hits & den angesagtesten internationalen Charts\n🍹 Coole Cocktails\n🏝️ Chill Out Area zum Relaxen\n🏊 Pool für die Abkühlung zwischendurch\n🌙 Feiern unter dem Sternenhimmel\n\nMach dich bereit für pure Sommer-Vibes\, russische Beats und ausgelassene Stimmung – ganz exklusiv im Top10 Singen!\n\nDress to impress – и да начнётся ночь!\n(Sag’s deinen Freunden – das wird eine Nacht\, über die man spricht!)\n💖\n\n✪ NACHTPARK ✪\nDJ ANDY // Mixed Music\n\nRESERVIERUNGEN:\nDirekt über unsere Homepage – www.top10-singen.de\n\n★★★★★★★★★★★★★★★★★\nEINLASS AB 18 JAHREN\nDRESS TO IMPRESS\nÖffnungszeiten 22:00 – 5:00 Uhr\nEintritt: Abendkasse 8€\n★★★★★★★★★★★★★★★★★
URL:https://www.party-insider.com/event/russian-city-beats-top10-singen/
LOCATION:TOP10 Singen\, Otto-Hahn-Str. 5\, Singen (Hohentwiel)\, 78224\, Germany
CATEGORIES:Top10
ATTACH;FMTTYPE=image/jpeg:https://www.party-insider.com/wp-content/uploads/2025/07/IMG_6402.jpeg
END:VEVENT
BEGIN:VEVENT
DTSTART;TZID=Europe/Zurich:20250712T220000
DTEND;TZID=Europe/Zurich:20250713T050000
DTSTAMP:20260420T224420
CREATED:20250706T120922Z
LAST-MODIFIED:20250706T121159Z
UID:10004030-1752357600-1752382800@www.party-insider.com
SUMMARY:HIGH CLVSS x I LOVE AFROBEATS - Grey Konstanz
DESCRIPTION:BEACH PARTY SPECIAL \nDeutschlands größte Hip-Hop & Afrobeats-Collab kommt nach Konstanz! \nAm Samstag\, den 12. Juli\, verwandelt sich der Club Grey Konstanz in den ultimativen Hotspot für alle Liebhaber urbaner Musik. Unter dem Motto «HIGH CLVSS x I Love Afrobeats» präsentiert sich die wohl aufregendste musikalische Fusion des Jahres – und das pünktlich zum Vorfeiertag! \nAuf vier Floors mit fünf Musikrichtungen erwartet die Gäste eine Nacht voller Energie\, Vibes und unvergesslicher Momente. Der Main Floor steht ganz im Zeichen von Hip Hop und Afrobeats\, während weitere Bereiche Trap\, Reggaeton\, Afro House und Dancehall zelebrieren. \nMit den besten DJs\, Live-Tänzern und exklusiven Specials bietet dieses Event mehr als nur Musik – es wird ein Erlebnis!
URL:https://www.party-insider.com/event/high-clvss-grey-konstanz/
LOCATION:Grey Konstanz\, Max-Stromeyerstr. 33\, Konstanz\, 78467\, Germany
CATEGORIES:Grey
ATTACH;FMTTYPE=image/jpeg:https://www.party-insider.com/wp-content/uploads/2025/07/IMG_6399.jpeg
END:VEVENT
BEGIN:VEVENT
DTSTART;TZID=Europe/Zurich:20250712T220000
DTEND;TZID=Europe/Zurich:20250713T030000
DTSTAMP:20260420T224420
CREATED:20250711T051550Z
LAST-MODIFIED:20250712T215055Z
UID:10004085-1752357600-1752375600@www.party-insider.com
SUMMARY:Tanzabend - GenX Konstanz
DESCRIPTION:Samstag = TANZABEND \nAm 12. Juli bringen wir Club GenX zum Beben – mit einem Musikmix\, der Generationen verbindet! \nSchlager\, Disco\, Rock’n’Roll & mehr – live gespielt vom Duo Fantastic! \nOb Tanzprofi oder einfach gut gelaunt – bei uns zählt der Spaß! \nGenX\, Maybachstraße 8\, Konstanz \nStart: 22:00 Uhr w Komm früh\, tanz lange\, lach viel! \n#Tanzabend #SchlagerDiscoRocknRoll #GenXKonstanz #DuoFantastic #LiveMusikKonstanz #Schlagerparty #SamstagNacht #KonstanzTanzt #DiscoNight
URL:https://www.party-insider.com/event/tanzabend-genx-konstanz/
LOCATION:Poly Club Konstanz\, Maybachstraße 8\, Konstanz\, 78467\, Germany
CATEGORIES:Poly Club Konstanz
ATTACH;FMTTYPE=image/jpeg:https://www.party-insider.com/wp-content/uploads/2025/07/IMG_6549.jpeg
END:VEVENT
BEGIN:VEVENT
DTSTART;TZID=Europe/Zurich:20250712T220000
DTEND;TZID=Europe/Zurich:20250713T010000
DTSTAMP:20260420T224420
CREATED:20250711T180810Z
LAST-MODIFIED:20250711T181306Z
UID:10004088-1752357600-1752368400@www.party-insider.com
SUMMARY:Rooftop Glorious Garden - Lago Konstanz
DESCRIPTION:www.the-am-society.com
URL:https://www.party-insider.com/event/rooftop-glorious-garden-lago-konstanz-3/
LOCATION:Glorious Bastards Konstanz\, Bodanstraße 1\, Konstanz\, 78462\, Germany
CATEGORIES:Glorious Bastards
ATTACH;FMTTYPE=image/jpeg:https://www.party-insider.com/wp-content/uploads/2025/07/IMG_6575.jpeg
END:VEVENT
BEGIN:VEVENT
DTSTART;TZID=Europe/Zurich:20250712T220000
DTEND;TZID=Europe/Zurich:20250712T220000
DTSTAMP:20260420T224420
CREATED:20250518T203204Z
LAST-MODIFIED:20260419T171012Z
UID:10002240-1752357600-1752357600@www.party-insider.com
SUMMARY:Club Time - Peggys Frauenfeld
DESCRIPTION:
URL:https://www.party-insider.com/event/club-time-in-peggys-frauenfeld/2025-07-12/
LOCATION:Peggys Frauenfeld\, Metzgerstrasse 1\, Frauenfeld\, 8500\, Switzerland
CATEGORIES:Peggy
ATTACH;FMTTYPE=image/jpeg:https://www.party-insider.com/wp-content/uploads/2025/05/IMG_1341.jpeg
END:VEVENT
BEGIN:VEVENT
DTSTART;TZID=Europe/Zurich:20250712T210000
DTEND;TZID=Europe/Zurich:20250712T210000
DTSTAMP:20260420T224420
CREATED:20250708T144603Z
LAST-MODIFIED:20250708T144637Z
UID:10004074-1752354000-1752354000@www.party-insider.com
SUMMARY:House Music - NOA Konstanz
DESCRIPTION:Groovige house Musik von heute\, gepaart mit den grösste House Hits von früher und dazu noch den ein oder anderen Dance Hit aus den 90er. Was für ein Fest. Hier gibts was auf die Ohren\, zum tanzen und zum mitsingen\, kommt vorbei. Ab 21 Uhr
URL:https://www.party-insider.com/event/house-music-noa-konstanz/
ATTACH;FMTTYPE=image/jpeg:https://www.party-insider.com/wp-content/uploads/2025/07/IMG_6494.jpeg
END:VEVENT
BEGIN:VEVENT
DTSTART;TZID=Europe/Zurich:20250712T180000
DTEND;TZID=Europe/Zurich:20250712T235500
DTSTAMP:20260420T224420
CREATED:20250707T083731Z
LAST-MODIFIED:20250707T122813Z
UID:10004041-1752343200-1752364500@www.party-insider.com
SUMMARY:Beach Party - Buchenseebad Güttingen - Radolfzell am Bodensee
DESCRIPTION:AFTERWORK BEACH PARTY \nSommer\, Sonne\, Cocktailbar – was will man mehr? Komm am 12.07.2025 zur ultimativen Beach Party im Buchenseebad und begrüße den Sommer mit uns! \nMit dabei: DJ Mastersplinter \nMusikrichtung: Techno \n\nOrt: Buchenseebad\, Güttingen\nAdresse: 78315 Radolfzell am Bodensee\nUhrzeit: 18:00 – 24:00 Uhr\n\nEintritt: Nur 5€ \nSei dabei und feier mit uns direkt am Seeufer! #beachparty #afterwork #radolfzell #sommer2025 #technovibes #cocktailbar #güttingen #buchenseebad
URL:https://www.party-insider.com/event/beach-party-buchenseebad-guettingen-radolfzell-am-bodensee/
ATTACH;FMTTYPE=image/png:https://www.party-insider.com/wp-content/uploads/2025/07/IMG_2025-07-07-103454.png
END:VEVENT
END:VCALENDAR