BEGIN:VCALENDAR
VERSION:2.0
PRODID:-//Party-Insider - ECPv6.15.20//NONSGML v1.0//EN
CALSCALE:GREGORIAN
METHOD:PUBLISH
X-WR-CALNAME:Party-Insider
X-ORIGINAL-URL:https://www.party-insider.com
X-WR-CALDESC:Veranstaltungen im Party-Insider
REFRESH-INTERVAL;VALUE=DURATION:PT1H
X-Robots-Tag:noindex
X-PUBLISHED-TTL:PT1H
BEGIN:VTIMEZONE
TZID:Europe/Zurich
BEGIN:DAYLIGHT
TZOFFSETFROM:+0100
TZOFFSETTO:+0200
TZNAME:CEST
DTSTART:20240331T010000
END:DAYLIGHT
BEGIN:STANDARD
TZOFFSETFROM:+0200
TZOFFSETTO:+0100
TZNAME:CET
DTSTART:20241027T010000
END:STANDARD
BEGIN:DAYLIGHT
TZOFFSETFROM:+0100
TZOFFSETTO:+0200
TZNAME:CEST
DTSTART:20250330T010000
END:DAYLIGHT
BEGIN:STANDARD
TZOFFSETFROM:+0200
TZOFFSETTO:+0100
TZNAME:CET
DTSTART:20251026T010000
END:STANDARD
BEGIN:DAYLIGHT
TZOFFSETFROM:+0100
TZOFFSETTO:+0200
TZNAME:CEST
DTSTART:20260329T010000
END:DAYLIGHT
BEGIN:STANDARD
TZOFFSETFROM:+0200
TZOFFSETTO:+0100
TZNAME:CET
DTSTART:20261025T010000
END:STANDARD
END:VTIMEZONE
BEGIN:VEVENT
DTSTART;TZID=Europe/Zurich:20250503T190000
DTEND;TZID=Europe/Zurich:20250504T020000
DTSTAMP:20260423T152438
CREATED:20250418T125614Z
LAST-MODIFIED:20250418T131653Z
UID:10001850-1746298800-1746324000@www.party-insider.com
SUMMARY:Polnisches Fest
DESCRIPTION:Polski festiwal z polskim jedzeniem! \n  \nBar Centro 3 Staatsstrasse 58\, 9437 Marbach \n3 maja 2025 roku zapraszamy wszystkich na uroczysty wieczór z muzyką na żywo i tradycyjnym polskim jedzeniem. \nMenu: Golonka wieprzowa w kiszonej kapuście z ziemniakami i deserem. \nCena: 35 CHF – w cenę wliczone jest jedzenie i muzyka. \n  \nLiczba miejsc jest ograniczona. \nZapisy i rezerwacje przyjmujemy telefonicznie najpóźniej do 28 kwietnia: \nPo polsku: \n+41 76 620 42 79 \nW języku niemieckim/portugalskim: +41 79 663 78 98
URL:https://www.party-insider.com/event/polnisches-fest/
ATTACH;FMTTYPE=image/jpeg:https://www.party-insider.com/wp-content/uploads/2025/04/Screenshot_20250418_144037_Facebook.jpg
END:VEVENT
BEGIN:VEVENT
DTSTART;VALUE=DATE:20250503
DTEND;VALUE=DATE:20250505
DTSTAMP:20260423T152438
CREATED:20250306T214823Z
LAST-MODIFIED:20250306T215038Z
UID:10000396-1746252000-1746338399@www.party-insider.com
SUMMARY:ZALOOZA Open Air in Bodenseearena Kreuzlingen
DESCRIPTION:ZALOOZA Open Air | May 3rd \nA new chapter begins. \nGroove. Trance. Bounce. \nOn May 3rd\, we gather under the open sky – united by the music\, driven by the energy\, lost in the moment.\nAn open-air experience like no other\, with headliners & local support\, a unique stage design\, and a setting that will pull you in from the very first sound. \n@elevents_ofc together with our friends from @katakumba_events\, we are creating something new. Something intense. Something unforgettable. \nThis is more than just an Open Air. This is ZALOOZA. \n📍 Outdoor Area\, Bodenseearena Kreuzlingen\n🎟 Ticket presale starts Sunday\, March 9th at 18:00 \nArtwork: @t1.arts
URL:https://www.party-insider.com/event/zalooza-open-air-in-bodenseearena-kreuzlingen/
ATTACH;FMTTYPE=image/png:https://www.party-insider.com/wp-content/uploads/2025/03/Screenshot-2025-03-06-at-22.35.45_V2.png
END:VEVENT
BEGIN:VEVENT
DTSTART;TZID=Europe/Zurich:20250503T010000
DTEND;TZID=Europe/Zurich:20250503T220000
DTSTAMP:20260423T152438
CREATED:20250428T072259Z
LAST-MODIFIED:20250428T072259Z
UID:10001886-1746234000-1746309600@www.party-insider.com
SUMMARY:Breeze Day-Dance Rooftop im Glorious Bastards Konstanz
DESCRIPTION:
URL:https://www.party-insider.com/event/breeze-day-dance-rooftop-im-glorious-bastards-konstanz/
LOCATION:Glorious Bastards Konstanz\, Bodanstraße 1\, Konstanz\, 78462\, Germany
CATEGORIES:Glorious Bastards
ATTACH;FMTTYPE=image/png:https://www.party-insider.com/wp-content/uploads/2025/04/IMG_2025-04-28-091651-1.png
END:VEVENT
BEGIN:VEVENT
DTSTART;TZID=Europe/Zurich:20250502T230000
DTEND;TZID=Europe/Zurich:20250503T050000
DTSTAMP:20260423T152438
CREATED:20250502T165901Z
LAST-MODIFIED:20250502T165901Z
UID:10001898-1746226800-1746248400@www.party-insider.com
SUMMARY:HIP HOP & RNB OLDSKOOL in Kantine Konstanz
DESCRIPTION:L’ÉQUIPE ~ \nHIPHOP & RNB OLDSKOOL EDITION \nAM FREITAG (02.05.) GEHT ES ZURÜCK IN DIE 90er\, 2000er | THROWBACK \nKANTINE KN ~ 23:00 UHR \nASTRO (BERLIN) \nCAÏD (AMOURLAC)
URL:https://www.party-insider.com/event/hip-hop-rnb-oldskool-in-kantine-konstanz/
LOCATION:Kantine Konstanz\, Oberlohnstraße 3\, Konstanz\, 78467\, Germany
CATEGORIES:Kantine
ATTACH;FMTTYPE=image/jpeg:https://www.party-insider.com/wp-content/uploads/2025/05/IMG_3262.jpeg
END:VEVENT
BEGIN:VEVENT
DTSTART;TZID=Europe/Zurich:20250502T220000
DTEND;TZID=Europe/Zurich:20250503T050000
DTSTAMP:20260423T152438
CREATED:20250427T145058Z
LAST-MODIFIED:20250427T145058Z
UID:10001871-1746223200-1746248400@www.party-insider.com
SUMMARY:💄LADIES NIGHT💄 im Grey Konstanz
DESCRIPTION:20 EURO FREIVERZEHR FÜR LADIES! \n❤️ Und sie feiern wieder in ihrem Lieblingsclub ❤️ \n🔆 Mädelsabend…\n🔆 Ladies Night…\n🔆 Queensclub… \n❣️Specials:\nLadies erhalten bis 00:00Uhr 20€ Getränkefreiverzehr\n(gültig die ganze Nacht) \n❌❌❌ EINTRITT FREI BIS 23 UHR FÜR ALLE ❌❌❌\ndie Ladies sind heute Abend wieder im größten Club am Bodensee zum feiern unterwegs.\nFeier mit uns DEIN WOCHENENDE auf 🔴 FÜNF MUSIKBEREICHEN 🔴! \n# Lounge Reservierung unter:\nhttp://www.greyclub.de
URL:https://www.party-insider.com/event/%f0%9f%92%84ladies-night%f0%9f%92%84-im-grey-konstanz-5/
LOCATION:Grey Konstanz\, Max-Stromeyerstr. 33\, Konstanz\, 78467\, Germany
CATEGORIES:Grey
ATTACH;FMTTYPE=image/jpeg:https://www.party-insider.com/wp-content/uploads/2025/04/IMG_2997.jpeg
END:VEVENT
BEGIN:VEVENT
DTSTART;TZID=Europe/Zurich:20250502T220000
DTEND;TZID=Europe/Zurich:20250503T040000
DTSTAMP:20260423T152438
CREATED:20250427T151707Z
LAST-MODIFIED:20250427T151810Z
UID:10001876-1746223200-1746244800@www.party-insider.com
SUMMARY:Weil ich ein Mädchen bin im Erdbeermund Singen
DESCRIPTION:Weil ich ein Mädchen bin!!! \nWei ich ein Mädchen bin ist…\nEine säuft. Eine heult. Eine kichert irre vor sich hin.\nZwei rennen schreiend durch den Club.\nEine steht beim DJ und macht sich über den Rest der Truppe lustig…\n\nFrauen haben die ganze Nacht freien Eintritt.\n\nUnsere Getränkeaktionen:\njede 3er Gruppe Frauen erhält eine Falsche Sekt gratis\n\nGrüße vom Erdbeermund Team\n▀▀▀▀▀▀▀▀▀▀▀▀▀▀▀▀▀▀▀▀▀\nX Music by DJ Slott X\nBest of Mainstream\, Latino und Partyhits\n▀▀▀▀▀▀▀▀▀▀▀▀▀▀▀▀▀▀▀▀▀\nmore info\n►► Eintritt: 8\,00 EUR\n►► ab 21 Jahren\n►► Öffnungszeiten 22:00 – 4:00 Uhr\n►► Reservierungen: https://www.erdbeermund-singen.de
URL:https://www.party-insider.com/event/weil-ich-ein-maedchen-bin-im-erdbeermund-singen-11/
LOCATION:Erdbeermund Singen\, Otto-Hahn-Str. 5\, Singen (Hohentwiel)\, 78224\, Germany
CATEGORIES:Erdbeermund
ATTACH;FMTTYPE=image/png:https://www.party-insider.com/wp-content/uploads/2025/04/IMG_2025-04-27-171739.png
END:VEVENT
BEGIN:VEVENT
DTSTART;TZID=Europe/Zurich:20250502T220000
DTEND;TZID=Europe/Zurich:20250503T040000
DTSTAMP:20260423T152438
CREATED:20250427T145733Z
LAST-MODIFIED:20250427T145733Z
UID:10001873-1746223200-1746244800@www.party-insider.com
SUMMARY:City Beats & cheers im Bolero Winterthur
DESCRIPTION:
URL:https://www.party-insider.com/event/city-beats-cheers-im-bolero-winterthur-2/
LOCATION:Bolero Winterthur\, Vogelsangstrasse 10\, Winterthur\, 8400\, Switzerland
CATEGORIES:Bolero
ATTACH;FMTTYPE=image/jpeg:https://www.party-insider.com/wp-content/uploads/2025/04/IMG_2999.jpeg
END:VEVENT
BEGIN:VEVENT
DTSTART;TZID=Europe/Zurich:20250502T220000
DTEND;TZID=Europe/Zurich:20250503T040000
DTSTAMP:20260423T152438
CREATED:20250427T144225Z
LAST-MODIFIED:20250427T144225Z
UID:10001869-1746223200-1746244800@www.party-insider.com
SUMMARY:6 Partys – 1 Nacht! 16+ im Top10 Singen
DESCRIPTION:6 PARTYS – 1 NACHTAm 02.05. feiern wir nicht nur eine Party – sondern gleich 6 im TOP 10 Singen! Und das Beste ist – ihr bezahlt nur einmal Eintritt! \nWie das gehen soll? \n22:00-23:00 UHR 2 EURO PARTYAlle Shots und Bier für nur 2\,00€!\n 23:00-00:00 UHR DEUTSCHRAP PARTYWir spielen für euch das Beste vom Besten! Deutschrap von den 90’s bis heute!\n 00:00-01:00 UHR KONFETTI PARTYEs wird bunt – freut euch auf eine absolute Konfetti Eskalation. Aller 10 Minuten zünden wir einen großen Konfetti-Drop!\n 01:00-02:00 UHR 90ER & 2000ER PARTYWir spielen die besten Hits von 1990-2019 für euch. Zudem verteilen wir hunderte 90s Süßigkeiten & LED Sticks an euch!\n 02:00-03:00 UHR MALLEPARTY XXLWir holen euch den Ballermann ins TOP 10 und spielen für euch die geilsten Malle Hits zum Mitsingen!\n 03:00-04:00 UHR CANDY PARTYSüßigkeiten für alle und solange der Vorrat reicht!\n✘✘✘ MUSIC ✘✘✘Party auf 2 FloorsMAINHALL– EDM\, Charts\, Black\, 90er 6 2000er\, Malle-Hits –\n\nGROOVE CLUB– Best of Black & Deutschrap –\n✘✘✘ TICKETS ✘✘✘unter https://bit.ly/6partys1nachttop10singenEarly Bird Ticket: 7\,90€ (die ersten 250 Tickets)Normales Ticket: 9\,90€\n✘✘✘ INFOS ✘✘✘・ Geöffnet ab 22:00・ Freitag\, 02.05.2025・ TOP 10 Singen・ P16 mit Partyzettel
URL:https://www.party-insider.com/event/6-partys-1-nacht-16-im-top10-singen/
LOCATION:TOP10 Singen\, Otto-Hahn-Str. 5\, Singen (Hohentwiel)\, 78224\, Germany
CATEGORIES:Top10
ATTACH;FMTTYPE=image/jpeg:https://www.party-insider.com/wp-content/uploads/2025/04/IMG_2995.jpeg
END:VEVENT
BEGIN:VEVENT
DTSTART;TZID=Europe/Zurich:20250502T220000
DTEND;TZID=Europe/Zurich:20250503T030000
DTSTAMP:20260423T152438
CREATED:20250429T165743Z
LAST-MODIFIED:20250429T165743Z
UID:10001894-1746223200-1746241200@www.party-insider.com
SUMMARY:Breathless im Zum Löwen Kreuzlingen
DESCRIPTION:
URL:https://www.party-insider.com/event/breathless-im-zum-loewen-kreuzlingen-2/
ATTACH;FMTTYPE=image/jpeg:https://www.party-insider.com/wp-content/uploads/2025/04/IMG_3139.jpeg
END:VEVENT
BEGIN:VEVENT
DTSTART;TZID=Europe/Zurich:20250502T220000
DTEND;TZID=Europe/Zurich:20250503T010000
DTSTAMP:20260423T152438
CREATED:20250427T153249Z
LAST-MODIFIED:20250427T153249Z
UID:10001880-1746223200-1746234000@www.party-insider.com
SUMMARY:Ohrwürmer Party in Peggys Frauenfeld
DESCRIPTION:
URL:https://www.party-insider.com/event/ohrwuermer-party-in-peggys-frauenfeld/
LOCATION:Peggys Frauenfeld\, Metzgerstrasse 1\, Frauenfeld\, 8500\, Switzerland
CATEGORIES:Peggy
ATTACH;FMTTYPE=image/jpeg:https://www.party-insider.com/wp-content/uploads/2025/04/IMG_3009.jpeg
END:VEVENT
BEGIN:VEVENT
DTSTART;TZID=Europe/Zurich:20250502T210000
DTEND;TZID=Europe/Zurich:20250503T030000
DTSTAMP:20260423T152438
CREATED:20250323T151749Z
LAST-MODIFIED:20250405T112304Z
UID:10001265-1746219600-1746241200@www.party-insider.com
SUMMARY:Disco Party im GenX Konstanz
DESCRIPTION:
URL:https://www.party-insider.com/event/disco-party-im-genx-konstanz-3/2025-05-02/
LOCATION:Poly Club Konstanz\, Maybachstraße 8\, Konstanz\, 78467\, Germany
CATEGORIES:Poly Club Konstanz
ATTACH;FMTTYPE=image/png:https://www.party-insider.com/wp-content/uploads/2025/03/IMG_2025-03-18-234314.png
END:VEVENT
BEGIN:VEVENT
DTSTART;VALUE=DATE:20250502
DTEND;VALUE=DATE:20250505
DTSTAMP:20260423T152438
CREATED:20250425T111745Z
LAST-MODIFIED:20250425T111809Z
UID:10001863-1746165600-1746338399@www.party-insider.com
SUMMARY:Party Weekend Sirnach
DESCRIPTION:Die best 16+ Party im TG. In Kombination vo de beste Alkohol-Priese und en Heifahrdienst mached mir die Party unvergesslich. \nTickets findsch zumne erschwingliche Pries uf @party_weekend_sirnach so wie alli wichtige Infos. Bis am 2.&3. Mai / Gömer Steil \n#partynight #barbetrieb #fäschte
URL:https://www.party-insider.com/event/party-weekend-sirnach/
ATTACH;FMTTYPE=image/jpeg:https://www.party-insider.com/wp-content/uploads/2025/04/98BA1F61-7A56-47B4-9476-9A60B1E0E622.jpeg
END:VEVENT
BEGIN:VEVENT
DTSTART;TZID=Europe/Zurich:20250501T170000
DTEND;TZID=Europe/Zurich:20250501T170000
DTSTAMP:20260423T152438
CREATED:20250402T043915Z
LAST-MODIFIED:20260422T173806Z
UID:10001536-1746118800-1746118800@www.party-insider.com
SUMMARY:After Work - Peggys Frauenfeld
DESCRIPTION:
URL:https://www.party-insider.com/event/after-work-im-peggys-frauenfeld/2025-05-01/
LOCATION:Peggys Frauenfeld\, Metzgerstrasse 1\, Frauenfeld\, 8500\, Switzerland
CATEGORIES:Peggy
ATTACH;FMTTYPE=image/jpeg:https://www.party-insider.com/wp-content/uploads/2025/04/IMG_6453.jpeg
END:VEVENT
BEGIN:VEVENT
DTSTART;TZID=Europe/Zurich:20250501T160000
DTEND;TZID=Europe/Zurich:20250501T220000
DTSTAMP:20260423T152438
CREATED:20250428T073618Z
LAST-MODIFIED:20250428T073618Z
UID:10001887-1746115200-1746136800@www.party-insider.com
SUMMARY:Delicious Lake Music im US-MEX Terraza
DESCRIPTION:
URL:https://www.party-insider.com/event/delicious-lake-music-im-us-mex-terraza/
LOCATION:US-MEX Terraza Kreuzlingen\, Seestrasse 11B.2 / Seeufer West\, Kreuzlingen\, 8280\, Switzerland
CATEGORIES:US-MEX Terraza Kreuzlingen
ATTACH;FMTTYPE=image/jpeg:https://www.party-insider.com/wp-content/uploads/2025/04/IMG_3068.jpeg
END:VEVENT
BEGIN:VEVENT
DTSTART;TZID=Europe/Zurich:20250501T120000
DTEND;TZID=Europe/Zurich:20250501T120000
DTSTAMP:20260423T152438
CREATED:20250429T150854Z
LAST-MODIFIED:20250429T150854Z
UID:10001893-1746100800-1746100800@www.party-insider.com
SUMMARY:Beach Day Party in Seeliebe Beach Club Sipplingen
DESCRIPTION:wir freuen uns auf euch! Die erste DAY PARTY in diesem Jahr! Lasst uns auf den Sommer anstoßen!
URL:https://www.party-insider.com/event/beach-day-party-in-seeliebe-beach-club-sipplingen/
ATTACH;FMTTYPE=image/jpeg:https://www.party-insider.com/wp-content/uploads/2025/04/IMG_3124.jpeg
END:VEVENT
BEGIN:VEVENT
DTSTART;TZID=Europe/Zurich:20250430T220000
DTEND;TZID=Europe/Zurich:20250501T050000
DTSTAMP:20260423T152438
CREATED:20250427T150804Z
LAST-MODIFIED:20250427T151309Z
UID:10001875-1746050400-1746075600@www.party-insider.com
SUMMARY:Tanz in den Mai im Erdbeermund Singen
DESCRIPTION:Hergerannt liebe Erdbeerchen! 🍓\n\nTanzen wir gemeinsam in den Mai..\n\nMail: info@erdbeermund-singen.de oder Telefon 07731/796796\n\n▀▀▀▀▀▀▀▀▀▀▀▀▀▀▀▀▀▀▀▀▀\n\nX DJ Fribus X\nBest of Mainstream und Partyhits\n\n▀▀▀▀▀▀▀▀▀▀▀▀▀▀▀▀▀▀▀▀▀\n\nmore info\n►► Eintritt: 9\,00 EUR\n►► ab 21 Jahren\n►► Öffnungszeiten 22:00 – 5:00 Uhr\n►► Reservierungen: https://www.erdbeermund-singen.de
URL:https://www.party-insider.com/event/tanz-in-den-mai-im-erdbeermund-singen/
LOCATION:Erdbeermund Singen\, Otto-Hahn-Str. 5\, Singen (Hohentwiel)\, 78224\, Germany
CATEGORIES:Erdbeermund
ATTACH;FMTTYPE=image/png:https://www.party-insider.com/wp-content/uploads/2025/04/IMG_2025-04-27-171110.png
END:VEVENT
BEGIN:VEVENT
DTSTART;TZID=Europe/Zurich:20250430T220000
DTEND;TZID=Europe/Zurich:20250501T050000
DTSTAMP:20260423T152438
CREATED:20250425T164831Z
LAST-MODIFIED:20250425T164907Z
UID:10001865-1746050400-1746075600@www.party-insider.com
SUMMARY:I Love HIP HOP im Grey Konstanz
DESCRIPTION:PARTY AUF 4 FLOORS \nI LOVE HIP HOP DAS ORIGINAL\nDeutschland größtes Hip Hop Event\nin der größten Disco am Bodensee. \nGREY Konstanz \nBig energy\, bigger than ever! \nYou better be there. \nILHH! AND YOU?\n💕
URL:https://www.party-insider.com/event/i-love-hip-hop-im-grey-konstanz/
LOCATION:Grey Konstanz\, Max-Stromeyerstr. 33\, Konstanz\, 78467\, Germany
CATEGORIES:Grey
ATTACH;FMTTYPE=image/jpeg:https://www.party-insider.com/wp-content/uploads/2025/04/IMG_2025-04-22-070422.jpeg
END:VEVENT
BEGIN:VEVENT
DTSTART;TZID=Europe/Zurich:20250430T220000
DTEND;TZID=Europe/Zurich:20250501T050000
DTSTAMP:20260423T152438
CREATED:20250118T133453Z
LAST-MODIFIED:20250118T133453Z
UID:10000105-1746050400-1746075600@www.party-insider.com
SUMMARY:Rave in den Mai im Top10 Singen
DESCRIPTION:Freunde\, am 30.04 machen wir aus dem\nTop10 in Singen einen Techno Tempel. Auf 2 Floors bieten wir euch Techno & House mit internationalen DJ Größen und unseren Local Heros!\n\nMassives LINE UP\n\nPATRIK BERG (Drumcode\, Terminal M\, Exzess)NANOVIOLA live (Bassgeflüster Booking)ADI DASSLER (Rave with us)\n+ LOCAL SUPPORT———-\nHol dir jetzt dein Ticket auf https://top10-singen.de/tickets\nEARLY BIRD Ticket ab 12\,00 Euro! (Nur solange Vorrat reicht)\n\nEINLASS AB 18 JAHREN // AUSWEISPFLICHT———-\nmore infos soon\n#ravewithus#top10singen
URL:https://www.party-insider.com/event/rave-in-den-mai-im-top10-singen/
LOCATION:TOP10 Singen\, Otto-Hahn-Str. 5\, Singen (Hohentwiel)\, 78224\, Germany
CATEGORIES:Top10
ATTACH;FMTTYPE=image/png:https://www.party-insider.com/wp-content/uploads/2025/01/Top10_30-04-25.png
END:VEVENT
BEGIN:VEVENT
DTSTART;TZID=Europe/Zurich:20250430T220000
DTEND;TZID=Europe/Zurich:20250501T043000
DTSTAMP:20260423T152438
CREATED:20250429T140419Z
LAST-MODIFIED:20250429T140419Z
UID:10001892-1746050400-1746073800@www.party-insider.com
SUMMARY:Tanz in den Mai im P-Club Konstanz
DESCRIPTION:
URL:https://www.party-insider.com/event/tanz-in-den-mai-im-p-club-konstanz/
LOCATION:P-Club Konstanz\, Hussenstraße 4\, Konstanz\,\, 78462\, Germany
CATEGORIES:P-Club
ATTACH;FMTTYPE=image/png:https://www.party-insider.com/wp-content/uploads/2025/04/IMG_2025-04-29-160231.png
END:VEVENT
BEGIN:VEVENT
DTSTART;TZID=Europe/Zurich:20250430T220000
DTEND;TZID=Europe/Zurich:20250501T040000
DTSTAMP:20260423T152438
CREATED:20250416T173516Z
LAST-MODIFIED:20250416T210344Z
UID:10001847-1746050400-1746072000@www.party-insider.com
SUMMARY:Tanz in den Mai im Steg4 Konstanz
DESCRIPTION:Steg4 – Tanz in den Mai \nTraditionell wird am 30.04. die Walpurgisnacht gefeiert\, der Wechsel von der dunklen in die helle Jahreszeit. Grund genug das mit einem ordentlichen Tanz in den Mai im Steg4 direkt am Hafen abzuschließen. \nWir clubben in den Mai mit der traditionellen Happy-Hour bis 23:00 Uhr und dem sensationellen 2for1 Angebot. \nEuch erwartet erneut: Spitzen Sound\, super Drinks und heisse Typen bzw. Mädels. Freut Euch auf eine unvergessliche und schweisstreibende Partynacht!!!\nDJ Type F & DJ Unique heizen euch die ganze Nacht ein mit den größten Mixed Music & Club Hits\, Reggaeton & Black Music Hits und den besten Ohrwürmen aus den 90ern. Putzt euch raus und freut euch auf einen epochalen Tanz in den Mai! \nwww.party-news.de \nVergünstigter Eintritt mit Reservierung auf www.party-news.de \nPresented by: party-news.de\nBeginn 22:00 Uhr
URL:https://www.party-insider.com/event/tanz-in-den-mai-im-steg4-konstanz/
LOCATION:Steg4 Konstanz\, Hafenstraße 8\, Konstanz\, 78462
CATEGORIES:Steg4
ATTACH;FMTTYPE=image/png:https://www.party-insider.com/wp-content/uploads/2025/04/IMG_2176-scaled.png
END:VEVENT
BEGIN:VEVENT
DTSTART;TZID=Europe/Zurich:20250430T220000
DTEND;TZID=Europe/Zurich:20250501T040000
DTSTAMP:20260423T152438
CREATED:20250205T050122Z
LAST-MODIFIED:20250205T050122Z
UID:10000187-1746050400-1746072000@www.party-insider.com
SUMMARY:We love 2000 im Bolero Winterthur
DESCRIPTION:
URL:https://www.party-insider.com/event/we-love-2000-im-bolero-winterthur/
LOCATION:Bolero Winterthur\, Vogelsangstrasse 10\, Winterthur\, 8400\, Switzerland
CATEGORIES:Bolero
ATTACH;FMTTYPE=image/jpeg:https://www.party-insider.com/wp-content/uploads/2025/02/IMG_0044-1.jpeg
END:VEVENT
BEGIN:VEVENT
DTSTART;TZID=Europe/Zurich:20250430T220000
DTEND;TZID=Europe/Zurich:20250501T030000
DTSTAMP:20260423T152438
CREATED:20250428T222607Z
LAST-MODIFIED:20250428T223034Z
UID:10001890-1746050400-1746068400@www.party-insider.com
SUMMARY:House in den Mai in NOA Konstanz
DESCRIPTION:Eintritt frei
URL:https://www.party-insider.com/event/house-in-den-mai-in-noa-konstanz/
ATTACH;FMTTYPE=image/jpeg:https://www.party-insider.com/wp-content/uploads/2025/04/IMG_3089.jpeg
END:VEVENT
BEGIN:VEVENT
DTSTART;TZID=Europe/Zurich:20250430T220000
DTEND;TZID=Europe/Zurich:20250501T020000
DTSTAMP:20260423T152438
CREATED:20250427T154401Z
LAST-MODIFIED:20250427T154401Z
UID:10001882-1746050400-1746064800@www.party-insider.com
SUMMARY:Tanz in den Mai in Schwarze Katz Konstanz
DESCRIPTION:KATZ KLUB – Tanz in den Mai\nAm Mittwoch\, dem 30. April starten wir wieder den Tanz in den Mai des großen Katz Klubs!\nEuch erwarten bester Club und House-Sound.\nBis 23:00 Uhr ist der Eintritt frei!\nDanach liegt er bei 8\,00 Euro an der Abendkasse.
URL:https://www.party-insider.com/event/tanz-in-den-mai-in-schwarze-katz-konstanz/
LOCATION:Schwarze Katz Konstanz\, Katzgasse 8\, Konstanz\, 78462\, Germany
CATEGORIES:Schwarze Katz
ATTACH;FMTTYPE=image/jpeg:https://www.party-insider.com/wp-content/uploads/2025/04/IMG_3012.jpeg
END:VEVENT
BEGIN:VEVENT
DTSTART;TZID=Europe/Zurich:20250430T220000
DTEND;TZID=Europe/Zurich:20250501T020000
DTSTAMP:20260423T152438
CREATED:20250407T164848Z
LAST-MODIFIED:20250407T165009Z
UID:10001808-1746050400-1746064800@www.party-insider.com
SUMMARY:Campari-Night - Tanz in den Mai im il Boccone Konstanz
DESCRIPTION:Eintritt frei mit DJ Paolo
URL:https://www.party-insider.com/event/campari-night-tanz-in-den-mai-im-il-boccone-konstanz/
LOCATION:Il Boccone Konstanz\, Bodanstraße 20 - 26\, Konstanz\, 78462
CATEGORIES:il Boccone
ATTACH;FMTTYPE=image/jpeg:https://www.party-insider.com/wp-content/uploads/2025/04/IMG_1882.jpeg
END:VEVENT
BEGIN:VEVENT
DTSTART;TZID=Europe/Zurich:20250430T210000
DTEND;TZID=Europe/Zurich:20250501T050000
DTSTAMP:20260423T152438
CREATED:20250406T185511Z
LAST-MODIFIED:20250406T185533Z
UID:10001802-1746046800-1746075600@www.party-insider.com
SUMMARY:19. Jahre in Kantine Konstanz
DESCRIPTION:Hey Leute! Wir werden 19 Jahre alt! #kreisch \nBesondere Anlässe erfordern besondere Gäste! \nDarum haben wir uns diesmal ein besonders gewitztes Programm für unseren Geburtstag überlegt. \nEröffnet wird der Abend von der Band Die Anteile: \nDie deutsche Post-Punk-Band ist bekannt für ihren energiegeladenen Sound und behandelt politisch sozialkritische Themen. Sie selbst beschreiben ihr Genre als: Robot-Rock-Electro-Dance-Punk-Disco-Extravaganza. Von allem etwas\, so wie wir! \nTüroffnung 21 Uhr Start 22 Uhr \nDen zweiten Teil\, dieser denkwürdigen Geburtstagsnacht\, widmen wir der Tanzfläche. House und Disco stehen auf dem Tableu und mit ihnen der Regulator André Dancekowski und die Queen of House Music Rebecca\, hinter den Plattentellern. \nStart 24 Uhr \nEa: limitierter VVK für 10\,00 Euro | Link in der Bio \n@dieanteile \n@dancekowski \n@rebecca_von_singen \nWie immer gilt: Be kind! Bei uns ist kein Platz für Sexismus\, Rassismus\, Homophobie\, Antisemitismus und Frauenfeindlichkeit. \n#wirhättendichsonstsehrvermisst
URL:https://www.party-insider.com/event/19-jahre-in-kantine-konstanz/
LOCATION:Kantine Konstanz\, Oberlohnstraße 3\, Konstanz\, 78467\, Germany
CATEGORIES:Kantine
ATTACH;FMTTYPE=image/jpeg:https://www.party-insider.com/wp-content/uploads/2025/04/IMG_1857.jpeg
END:VEVENT
BEGIN:VEVENT
DTSTART;TZID=Europe/Zurich:20250430T210000
DTEND;TZID=Europe/Zurich:20250501T030000
DTSTAMP:20260423T152438
CREATED:20250410T105322Z
LAST-MODIFIED:20250414T210047Z
UID:10001818-1746046800-1746068400@www.party-insider.com
SUMMARY:HOOD JAM 5 im GenX Konstanz
DESCRIPTION:Hood Jam5 – Live Acts\, Djingho & du mittendrin! \nAm 30. April kracht’s im GenX! \nHood Jam 5 bringt den Sound von der Straße direkt in den Club: \nLive on stage: Cash-n-Fame\, Kenny Velly & TraphouseMafia \nAn den Decks: Djingho mit Beats\, die alles zum Beben bringen. \nAb 21 Uhr. Laut. Echt. Voller Energie. \nWenn du echten Sound willst – hier ist dein Spot! \n#HoodJam5 #KonstanzLiveActs #DJIngho #GenXKonstanz #RealHipHop #LiveRap #StreetVibes #KonstanzEvents #BassUndBars #30AprilParty #KonstanzNachtleben #ClubKonstanz
URL:https://www.party-insider.com/event/hood-jam-5-im-genx-konstanz/
LOCATION:Poly Club Konstanz\, Maybachstraße 8\, Konstanz\, 78467\, Germany
CATEGORIES:Poly Club Konstanz
ATTACH;FMTTYPE=image/png:https://www.party-insider.com/wp-content/uploads/2025/04/IMG_2025-04-14-225910.png
END:VEVENT
BEGIN:VEVENT
DTSTART;TZID=Europe/Zurich:20250430T210000
DTEND;TZID=Europe/Zurich:20250501T020000
DTSTAMP:20260423T152438
CREATED:20250427T174441Z
LAST-MODIFIED:20250427T174441Z
UID:10001885-1746046800-1746064800@www.party-insider.com
SUMMARY:Afterwork Pinsa-Day in Treu Tägerwilen
DESCRIPTION:
URL:https://www.party-insider.com/event/afterwork-pinsa-day-in-treu-taegerwilen/
LOCATION:Zur Treu Tägerwilen\, Hauptstrasse 99\, Tägerwilen\, 8274\, Switzerland
CATEGORIES:Zur Treu
ATTACH;FMTTYPE=image/jpeg:https://www.party-insider.com/wp-content/uploads/2025/04/IMG_3040.jpeg
END:VEVENT
BEGIN:VEVENT
DTSTART;TZID=Europe/Zurich:20250430T210000
DTEND;TZID=Europe/Zurich:20250501T010000
DTSTAMP:20260423T152438
CREATED:20250427T153555Z
LAST-MODIFIED:20250427T153555Z
UID:10001881-1746046800-1746061200@www.party-insider.com
SUMMARY:Tanz in den Mai in Peggys Frauenfeld
DESCRIPTION:
URL:https://www.party-insider.com/event/tanz-in-den-mai-in-peggys-frauenfeld/
LOCATION:Peggys Frauenfeld\, Metzgerstrasse 1\, Frauenfeld\, 8500\, Switzerland
CATEGORIES:Peggy
ATTACH;FMTTYPE=image/jpeg:https://www.party-insider.com/wp-content/uploads/2025/04/IMG_3008.jpeg
END:VEVENT
BEGIN:VEVENT
DTSTART;TZID=Europe/Zurich:20250430T190000
DTEND;TZID=Europe/Zurich:20250430T235900
DTSTAMP:20260423T152438
CREATED:20250425T165455Z
LAST-MODIFIED:20250425T165455Z
UID:10001867-1746039600-1746057540@www.party-insider.com
SUMMARY:Swing im Apollo Kreuzlingen
DESCRIPTION:Lust auf eine schwungvolle Nacht? Tanz in den Mai –  am 30. April 2025  um 19:00 Uhr lädt der Verein Swing in Konstanz e.V. in den grossen Saal des APOLLO zur mitreissenden Swing it Tanzparty ein! Egal\, ob Anfänger:in oder erfahrene:r Tänzer:in – schnapp dir deine liebsten Tanzschuhe und geniesse eine unvergessliche Nacht voller Rhythmus\, Energie und guter Laune eingehüllt in die tragenden Rhythmen des Swing. Die Band Bouncy Rythm Club spielt live Swing-Musik aus den 20er und 30er Jahren. \n📍 Ort: Apollo Kreuzlingen🎟 Veranstalter: Swing in Konstanz \nLet’s swing! 💃🎺 \n\n\n19-20 Uhr Crashkurs\nab 20 Uhr Party\nEintritt 20\,- / 25\,- (Mitglieder / Nichtmitglieder Swing in Konstanz)\nDer Crashkurs ist im Entrittspreis enthalten.
URL:https://www.party-insider.com/event/swing-im-apollo-kreuzlingen/
LOCATION:APOLLO Kreuzlingen\, Konstanzerstrasse 32\, Kreuzlingen\, 8280\, Switzerland
CATEGORIES:Apollo
ATTACH;FMTTYPE=image/jpeg:https://www.party-insider.com/wp-content/uploads/2025/04/IMG_2651.jpeg
END:VEVENT
BEGIN:VEVENT
DTSTART;TZID=Europe/Zurich:20250430T170000
DTEND;TZID=Europe/Zurich:20250430T220000
DTSTAMP:20260423T152439
CREATED:20250415T145940Z
LAST-MODIFIED:20250415T145940Z
UID:10001843-1746032400-1746050400@www.party-insider.com
SUMMARY:L’Aperitivo im Pane e Amore Konstanz
DESCRIPTION:
URL:https://www.party-insider.com/event/laperitivo-im-pane-e-amore-konstanz-4/
LOCATION:Pane E Amore Konstanz\, Brotlaube 1\, Konstanz\, 78462\, Germany
CATEGORIES:Pane E Amore
ATTACH;FMTTYPE=image/png:https://www.party-insider.com/wp-content/uploads/2025/04/IMG_2025-04-15-165842.png
END:VEVENT
END:VCALENDAR