BEGIN:VCALENDAR
VERSION:2.0
PRODID:-//Party-Insider - ECPv6.14.2//NONSGML v1.0//EN
CALSCALE:GREGORIAN
METHOD:PUBLISH
X-WR-CALNAME:Party-Insider
X-ORIGINAL-URL:https://www.party-insider.com
X-WR-CALDESC:Veranstaltungen im Party-Insider
REFRESH-INTERVAL;VALUE=DURATION:PT1H
X-Robots-Tag:noindex
X-PUBLISHED-TTL:PT1H
BEGIN:VTIMEZONE
TZID:Europe/Zurich
BEGIN:DAYLIGHT
TZOFFSETFROM:+0100
TZOFFSETTO:+0200
TZNAME:CEST
DTSTART:20250330T010000
END:DAYLIGHT
BEGIN:STANDARD
TZOFFSETFROM:+0200
TZOFFSETTO:+0100
TZNAME:CET
DTSTART:20251026T010000
END:STANDARD
END:VTIMEZONE
BEGIN:VEVENT
DTSTART;VALUE=DATE:20250606
DTEND;VALUE=DATE:20250610
DTSTAMP:20260423T002247
CREATED:20250523T061700Z
LAST-MODIFIED:20250523T061700Z
UID:10002764-1749189600-1749448799@www.party-insider.com
SUMMARY:Open See Festival 2025 in Stadtgarten Konstanz
DESCRIPTION:Das Open See Festival kehrt vom 6. bis 8. Juni 2025 in den Stadtgarten Konstanz zurück. Drei Tage Live-Musik unter freiem Himmel\, bei freiem Eintritt – mit einem Programm\, das internationale Acts\, aufstrebende Stimmen und regionale Newcomer verbindet. Zwischen Indie\, Jazz\, elektronischen Klängen und globalen Grooves entsteht ein Ort für Begegnung\, Austausch und Bewegung. Dazu kommen DJ-Sets\, Streetfood\, Familienkonzerte und eine Atmosphäre\, die man so nur am See findet. Gefördert vom Land Baden-Württemberg und der Stadt Konstanz – veranstaltet vom Kulturladen Konstanz. \n#kulakonstanz #openseekonstanz #openseefestival #openseefestival2025
URL:https://www.party-insider.com/event/open-see-festival-2025-in-stadtgarten-konstanz/
ATTACH;FMTTYPE=image/png:https://www.party-insider.com/wp-content/uploads/2025/05/IMG_2025-05-23-081421.png
END:VEVENT
BEGIN:VEVENT
DTSTART;TZID=Europe/Zurich:20250608T210000
DTEND;TZID=Europe/Zurich:20250609T050000
DTSTAMP:20260423T002247
CREATED:20250510T073048Z
LAST-MODIFIED:20250510T073224Z
UID:10001933-1749416400-1749445200@www.party-insider.com
SUMMARY:Radio7 Ü30 – Event vor Feiertag im Top10 Singen
DESCRIPTION:Radio 7 Ü30 – Event vor Feiertag\n\nWir bringen euch die Radio 7 Ü30 Party ins Top10!\n\n♠️ MAINHALL ♠️\nTanzen\, feiern und flirten zu den Highlights aus Kult-Hits\, Charts und aktuellen Titeln. Das Beste aus 3 Jahrzehnten gemixt mit aktuellen Hit Giganten aus Black\, House und Pop by Matze Ihring & DJ Webster\n\n♠️ FIESTA ♠️\nTrance & Dance Classics by DJ MOE “watch out for MOE” .\n\n♠️ GROOVE CLUB ♠️\nBlack Music by DJ JAM TASTIC\n\n♠️ERDBEERMUND ♠️\nPartyhits by DJ WAWANIX\n\nVIP LOUNGE RESERVIERUNGEN\nwww.top10-singen.de\n\n★★★★★★★★★★★★★★★★★\nEINLASS AB 25 JAHREN\nDRESS TO IMPRESS!\nÖffnungszeiten 21:00 – 5:00 Uhr\nEintritt: Abendkasse 10 €\n★★★★★★★★★★★★★★★★★
URL:https://www.party-insider.com/event/radio-7-ue30-event-vor-feiertag-im-top10-singen-3/
LOCATION:TOP10 Singen\, Otto-Hahn-Str. 5\, Singen (Hohentwiel)\, 78224\, Germany
CATEGORIES:Top10
ATTACH;FMTTYPE=image/jpeg:https://www.party-insider.com/wp-content/uploads/2025/05/IMG_3567.jpeg
END:VEVENT
BEGIN:VEVENT
DTSTART;TZID=Europe/Zurich:20250608T220000
DTEND;TZID=Europe/Zurich:20250609T010000
DTSTAMP:20260423T002247
CREATED:20250606T123010Z
LAST-MODIFIED:20250606T123134Z
UID:10003623-1749420000-1749430800@www.party-insider.com
SUMMARY:Spring Break Party in Peggys Frauenfeld
DESCRIPTION:
URL:https://www.party-insider.com/event/spring-break-party-in-peggys-frauenfeld/
LOCATION:Peggys Frauenfeld\, Metzgerstrasse 1\, Frauenfeld\, 8500\, Switzerland
CATEGORIES:Peggy
ATTACH;FMTTYPE=image/jpeg:https://www.party-insider.com/wp-content/uploads/2025/06/IMG_4989.jpeg
END:VEVENT
BEGIN:VEVENT
DTSTART;TZID=Europe/Zurich:20250608T220000
DTEND;TZID=Europe/Zurich:20250609T050000
DTSTAMP:20260423T002247
CREATED:20250601T122846Z
LAST-MODIFIED:20250601T123359Z
UID:10003341-1749420000-1749445200@www.party-insider.com
SUMMARY:I LOVE HIP HOP & AFROBEATS in Grey Konstanz
DESCRIPTION:PARTY AUF 4 FLOORS \nDeutschlands größte Hip-Hop & Afrobeats-Collab kommt nach Konstanz! \nAm Sonntag\, den 08. Juni\, verwandelt sich der Club Grey Konstanz in den ultimativen Hotspot für alle Liebhaber urbaner Musik. Unter dem Motto «I Love Hip Hop das Original x I Love Afrobeats» präsentiert sich die wohl aufregendste musikalische Fusion des Jahres – und das pünktlich zum Vorfeiertag! \nAuf vier Floors mit fünf Musikrichtungen erwartet die Gäste eine Nacht voller Energie\, Vibes und unvergesslicher Momente. Der Main Floor steht ganz im Zeichen von Hip Hop und Afrobeats\, während weitere Bereiche Trap\, Reggaeton\, Afro House und Dancehall zelebrieren. \nMit 5 DJs\, Live-Tänzern und exklusiven Specials bietet dieses Event mehr als nur Musik – es wird ein Erlebnis! \n📅 Datum: Sonntag\, 08. Juni\n🕙 Einlass: ab 22:00 Uhr\n📍 Location: Grey Konstanz\, Max-Stromeyer-Straße 33\, 78467 Konstanz\n🌐 Mehr Infos: www.grey-konstanz.de \nErlebe die Nacht\, die du nicht vergessen wirst – «I Love Hip Hop das Original x I Love Afrobeats»!
URL:https://www.party-insider.com/event/i-love-hip-hop-afrobeats-in-grey-konstanz/
LOCATION:Grey Konstanz\, Max-Stromeyerstr. 33\, Konstanz\, 78467\, Germany
CATEGORIES:Grey
ATTACH;FMTTYPE=image/jpeg:https://www.party-insider.com/wp-content/uploads/2025/06/IMG_4805.jpeg
END:VEVENT
BEGIN:VEVENT
DTSTART;TZID=Europe/Zurich:20250608T230000
DTEND;TZID=Europe/Zurich:20250609T050000
DTSTAMP:20260423T002247
CREATED:20250527T215115Z
LAST-MODIFIED:20250527T215143Z
UID:10002793-1749423600-1749445200@www.party-insider.com
SUMMARY:PPPP Play in Kantine Konstanz
DESCRIPTION:PLAY SONNTAG 08. JUNI \nKANTINE KN 11 PM \nMit @hallowerner Showcase \nPPPP © 2025プレイーッジ \nPICNIC Aftershow \nLineup: \nValera [ @siehatkeinplan ] \nTobex [ @tobex.ger] \nMortl [@mortl.ofc] \nMatthias Lein [ @matthiaslein ] \nNo sexism\, no homophobia\, no fascism or any other form of discrimination. \nPlease come with open hearts and loving minds.
URL:https://www.party-insider.com/event/pppp-play-in-kantine-konstanz-2/
LOCATION:Kantine Konstanz\, Oberlohnstraße 3\, Konstanz\, 78467\, Germany
CATEGORIES:Kantine
ATTACH;FMTTYPE=image/jpeg:https://www.party-insider.com/wp-content/uploads/2025/05/IMG_4458.jpeg
END:VEVENT
BEGIN:VEVENT
DTSTART;TZID=Europe/Zurich:20250609T160000
DTEND;TZID=Europe/Zurich:20250609T160000
DTSTAMP:20260423T002247
CREATED:20250606T234703Z
LAST-MODIFIED:20250606T234703Z
UID:10003904-1749484800-1749484800@www.party-insider.com
SUMMARY:SUN.DAY.LAKE.MUSIC in US-MEX Terraza Kreuzlingen
DESCRIPTION:Pfingstmontag = Kurzurlaub \nAb 16.00 Uhr verwöhnt euch Rich mit chilligen elektronischen Beats – direkt am Wasser\, unter freiem Himmel. SUN.DAY.LAKE.MUSIC ist dein Soundtrack für entspannte Feiertagsvibes. Komm vorbei\, geniess den Tag und lass die Seele baumeln. \nNur bei schönem Wetter. Eintritt frei. Mehr unter \nwww.2bevents.ch \n#usmexsummer #usmexterraza #strandbar #kreuzlingen #bodensee #thurgau #enjoysummer #sun #sunshine #beachbar #nevermissasunset #summer #sommer #sunday #music #dj #lake #daydance #house #electronic #sundayvibes
URL:https://www.party-insider.com/event/sun-day-lake-music-in-us-mex-terraza-kreuzlingen/
LOCATION:US-MEX Terraza Kreuzlingen\, Seestrasse 11B.2 / Seeufer West\, Kreuzlingen\, 8280\, Switzerland
CATEGORIES:US-MEX Terraza Kreuzlingen
ATTACH;FMTTYPE=image/png:https://www.party-insider.com/wp-content/uploads/2025/06/IMG_2025-06-07-014442.png
END:VEVENT
BEGIN:VEVENT
DTSTART;VALUE=DATE:20250612
DTEND;VALUE=DATE:20250617
DTSTAMP:20260423T002247
CREATED:20250611T143618Z
LAST-MODIFIED:20250611T143618Z
UID:10003933-1749708000-1750053599@www.party-insider.com
SUMMARY:Sail & Sound - Konstanz Hafen
DESCRIPTION:
URL:https://www.party-insider.com/event/sail-sound-konstanz-hafen/
ATTACH;FMTTYPE=image/jpeg:https://www.party-insider.com/wp-content/uploads/2025/06/9B44C520-B780-4C5F-B518-DE5A33C8FB36.jpeg
END:VEVENT
BEGIN:VEVENT
DTSTART;TZID=Europe/Zurich:20250612T170000
DTEND;TZID=Europe/Zurich:20250612T170000
DTSTAMP:20260423T002247
CREATED:20250402T043915Z
LAST-MODIFIED:20260422T173806Z
UID:10001542-1749747600-1749747600@www.party-insider.com
SUMMARY:After Work - Peggys Frauenfeld
DESCRIPTION:
URL:https://www.party-insider.com/event/after-work-im-peggys-frauenfeld/2025-06-12/
LOCATION:Peggys Frauenfeld\, Metzgerstrasse 1\, Frauenfeld\, 8500\, Switzerland
CATEGORIES:Peggy
ATTACH;FMTTYPE=image/jpeg:https://www.party-insider.com/wp-content/uploads/2025/04/IMG_6453.jpeg
END:VEVENT
BEGIN:VEVENT
DTSTART;TZID=Europe/Zurich:20250612T180000
DTEND;TZID=Europe/Zurich:20250612T180000
DTSTAMP:20260423T002247
CREATED:20250609T121828Z
LAST-MODIFIED:20250609T121828Z
UID:10003910-1749751200-1749751200@www.party-insider.com
SUMMARY:Lounge Beats in Hafenlounge Romanshorn
DESCRIPTION:Der Sommer ist da Gönn dir einen Sommerabend mit chilligen Summer Beats am Donnerstag Abend mit Robin Replay. \n#loungebeats #sommernächte #housemusic #chillouttime #enjoysummer #immerwiederdonnerstags #bodenseeliebe
URL:https://www.party-insider.com/event/lounge-beats-in-hafenlounge-romanshorn/
ATTACH;FMTTYPE=image/png:https://www.party-insider.com/wp-content/uploads/2025/06/IMG_2025-06-09-141558.png
END:VEVENT
BEGIN:VEVENT
DTSTART;VALUE=DATE:20250613
DTEND;VALUE=DATE:20250616
DTSTAMP:20260423T002247
CREATED:20250313T230830Z
LAST-MODIFIED:20250313T230830Z
UID:10000411-1749794400-1749967199@www.party-insider.com
SUMMARY:Krach am Bach 25 Jahre in Tägerwilen
DESCRIPTION:25 Jahre Openair Krach am \nFeier mit uns das Krach am Bach Jubiläum – mit noch mehr Spiel\, Spass und Musik! \n13. & 14. Juni 2025 \nSeerheinbadi Tägerwilen \nFreu dich auf unvergessliche Festivalmomente – save the date! \n#festival #music #25jahre #KaB #openair
URL:https://www.party-insider.com/event/krach-am-bach-25-jahre-in-taegerwilen/
ATTACH;FMTTYPE=image/jpeg:https://www.party-insider.com/wp-content/uploads/2025/03/IMG_1007.jpeg
END:VEVENT
BEGIN:VEVENT
DTSTART;VALUE=DATE:20250613
DTEND;VALUE=DATE:20250616
DTSTAMP:20260423T002247
CREATED:20250605T154851Z
LAST-MODIFIED:20250605T154851Z
UID:10003620-1749794400-1749967199@www.party-insider.com
SUMMARY:Lindli Fäscht in Schaffhausen
DESCRIPTION:
URL:https://www.party-insider.com/event/lindli-faescht-in-schaffhausen/
ATTACH;FMTTYPE=image/png:https://www.party-insider.com/wp-content/uploads/2025/06/IMG_2025-06-05-160441-1.png
END:VEVENT
BEGIN:VEVENT
DTSTART;VALUE=DATE:20250613
DTEND;VALUE=DATE:20250617
DTSTAMP:20260423T002247
CREATED:20250609T183924Z
LAST-MODIFIED:20250609T184044Z
UID:10003919-1749794400-1750053599@www.party-insider.com
SUMMARY:STREETART FESTIVAL FRAUENFELD - US-MEX Terraza Frauenfeld
DESCRIPTION:DIE US-MEX TERRAZA LÄSST SICH VON DER\nKREATIVITÄT DER STREETART ARTISTS INSPIRIEREN.\nDas Plätschern der Murg wird am Freitag ab 18 Uhr\, am Samstag und Sonntag ab 15 Uhr durch elektronische Musik von lokalen DJs verstärkt. \n\n\nFr\, 13.06.25\, ab 18 Uhr: Simon di Mella\nSa\, 14.06.25\, ab 15 Uhr: Gua\nSo\, 15.06.25\, ab 15 Uhr: Phil Z\nSo\, 15.06.25\, ab 18.30 Uhr: Dualize\n\n\nUS-MEX Terraza Frauenfeld | Zürcherstrasse 148\nwww.usmex-terraza.ch
URL:https://www.party-insider.com/event/streetart-festival-frauenfeld-us-mex-terraza-frauenfeld/
ATTACH;FMTTYPE=image/jpeg:https://www.party-insider.com/wp-content/uploads/2025/06/IMG_5192.jpeg
END:VEVENT
BEGIN:VEVENT
DTSTART;TZID=Europe/Zurich:20250613T210000
DTEND;TZID=Europe/Zurich:20250614T040000
DTSTAMP:20260423T002247
CREATED:20250601T105211Z
LAST-MODIFIED:20250601T105211Z
UID:10003334-1749848400-1749873600@www.party-insider.com
SUMMARY:Tanznacht40 im Bolero Winterthur
DESCRIPTION:
URL:https://www.party-insider.com/event/tanznacht40-im-bolero-winterthur-5/
LOCATION:Bolero Winterthur\, Vogelsangstrasse 10\, Winterthur\, 8400\, Switzerland
CATEGORIES:Bolero
ATTACH;FMTTYPE=image/jpeg:https://www.party-insider.com/wp-content/uploads/2025/06/IMG_4789.jpeg
END:VEVENT
BEGIN:VEVENT
DTSTART;TZID=Europe/Zurich:20250613T210000
DTEND;TZID=Europe/Zurich:20250614T050000
DTSTAMP:20260423T002247
CREATED:20250607T160135Z
LAST-MODIFIED:20250607T161027Z
UID:10003905-1749848400-1749877200@www.party-insider.com
SUMMARY:CLUBNIGHT mit DJ PandaX im GenX Konstanz
DESCRIPTION:🎉 CLUBNIGHT – Remix 80er 90er bis heute mit DJ PandaX 🎉\n📍 Club GenX\, Konstanz | 📅 Freitag\, 13. Juni 2025 | 🕘 Start: 21:00 Uhr \nDJ PandaX bringt dir die größten Hits der 80er\, 90er bis heute – komplett neu\, fett gemixt und clubtauglich verpackt.\nErlebe eine Nacht voller Remixe und Dance-Versionen legendärer Klassiker\, gepaart mit modernen Clubbeats von heute. \n💃 Tanzen\, feiern\, mitsingen – CLUBNIGHT \n📍 Club GenX – Maybachstraße 8\, 78467 Konstanz \n⸻ \n🔗 DJ PandaX online:\n🎥 YouTube: youtube.com/@DJ.PandaX\n📸 Instagram: instagram.com/dj.pandax\n📘 Facebook: facebook.com/pandax.ch\n📼 Livestream-Aufnahmen: djpandax.ch/aufnahmen\n🎮 Twitch: twitch.tv/DJPandaxLive\n💬 WhatsApp Community: Jetzt beitreten\n📱 TikTok: https://www.tiktok.com/@dj.pandax?_t=ZN-8x0abT7II9W&_r=1 \n⸻ \n80er 90er bis heute Heute. Alles in einem Sound vereint – und der Club vibriert.\n#ClubNight #Remix #DJpandaX #GenXKonstanz
URL:https://www.party-insider.com/event/clubnight-mit-dj-pandax-im-genx-konstanz/
LOCATION:Poly Club Konstanz\, Maybachstraße 8\, Konstanz\, 78467\, Germany
CATEGORIES:Poly Club Konstanz
ATTACH;FMTTYPE=image/png:https://www.party-insider.com/wp-content/uploads/2025/06/IMG_2025-06-07-180029.png
END:VEVENT
BEGIN:VEVENT
DTSTART;TZID=Europe/Zurich:20250613T220000
DTEND;TZID=Europe/Zurich:20250613T220000
DTSTAMP:20260423T002247
CREATED:20250518T203204Z
LAST-MODIFIED:20260419T171012Z
UID:10002231-1749852000-1749852000@www.party-insider.com
SUMMARY:Club Time - Peggys Frauenfeld
DESCRIPTION:
URL:https://www.party-insider.com/event/club-time-in-peggys-frauenfeld/2025-06-13/
LOCATION:Peggys Frauenfeld\, Metzgerstrasse 1\, Frauenfeld\, 8500\, Switzerland
CATEGORIES:Peggy
ATTACH;FMTTYPE=image/jpeg:https://www.party-insider.com/wp-content/uploads/2025/05/IMG_1341.jpeg
END:VEVENT
BEGIN:VEVENT
DTSTART;TZID=Europe/Zurich:20250613T220000
DTEND;TZID=Europe/Zurich:20250614T040000
DTSTAMP:20260423T002247
CREATED:20250609T180543Z
LAST-MODIFIED:20250609T181215Z
UID:10003915-1749852000-1749873600@www.party-insider.com
SUMMARY:Freitag der 13te! 13 gute Gründe zu feiern in Top10 Singen
DESCRIPTION:Angst vor Freitag dem 13ten? Nicht bei uns! Wir geben euch heute Nacht 13 GUTE Gründe bei uns abzufeiern! \nAngst vor Freitag dem 13ten? Nicht bei uns! Wir geben euch heute Nacht 13 GUTE Gründe bei uns abzufeiern!\nGRUND NR 1:Bis 22.30 gibt es freien Eintritt!\nGRUND NR 2:BOX Challenge! Wer hat den härtesten Schlag bis 0.00 Uhr der Gewinner erhält einen 50 € Getränkegutschein!\nGRUND NR 3:Alle Ladies erhalten bis 23 Uhr einen 10 € Getränkegutschein!\nGRUND NR 4:Sing deinen Favourite Song LIVE! Karaoke Bar im Fiesta!\nGRUND NR 5:Gratis Leuchtarmbänder!\n\nGRUND NR 6:Gratis Sonnenbrillen! (solange der Vorrat reicht)\nGRUND NR 7:FIFA Turnier an der Empfangstheke\, wer holt sich den Cup?\nGRUND NR 8:Konfetti Blast!\nGRUND NR 9:Saltos verschenkt eine 2 Buckets Saltos an die größte Gruppe die bis 24 Uhr eincheckt!\nGRUND NR 10:Douglas verschenkt an die ersten 20 Ladies ein Goodie Bag!\nGRUND NR 11:Um 2.00 Uhr gibt es Pizza Slides for free!\nGRUND NR 12:Ertönt die Sirene gibt es gratis Shots am DJ Pult!\nGRUND NR 13:Jedes Salitos nur 2\,50 € die ganze Nacht!\n✪ MAINHALL ✪DJ UNAM // Mixed Clubsounds\nRESERVIERUNGEN:Direkt über unsere Homepage – www.top10-singen.de\n\n★★★★★★★★★★★★★★★★★EINLASS AB 16 JAHREN (in Verbindung mit U18 Formular)DRESS TO IMPRESSÖffnungszeiten 22:00 – 4:00 UhrEintritt: Abendkasse 8€\n★★★★★★★★★★★★★★★★★\nWir freuen uns auf euch!
URL:https://www.party-insider.com/event/freitag-der-13te-13-gute-gruende-zu-feiern-in-top10-singen/
LOCATION:TOP10 Singen\, Otto-Hahn-Str. 5\, Singen (Hohentwiel)\, 78224\, Germany
CATEGORIES:Top10
ATTACH;FMTTYPE=image/png:https://www.party-insider.com/wp-content/uploads/2025/06/IMG_5186.png
END:VEVENT
BEGIN:VEVENT
DTSTART;TZID=Europe/Zurich:20250613T220000
DTEND;TZID=Europe/Zurich:20250614T040000
DTSTAMP:20260423T002247
CREATED:20250609T182711Z
LAST-MODIFIED:20250609T182917Z
UID:10003917-1749852000-1749873600@www.party-insider.com
SUMMARY:Weil ich ein Mädchen bin in Erdbeermund Singen
DESCRIPTION:Weil ich ein Mädchen bin!!! \nWei ich ein Mädchen bin ist…\nEine säuft. Eine heult. Eine kichert irre vor sich hin.\nZwei rennen schreiend durch den Club.\nEine steht beim DJ und macht sich über den Rest der Truppe lustig…\n\nFrauen haben die ganze Nacht freien Eintritt.\n\nUnsere Getränkeaktionen:\njede 3er Gruppe Frauen erhält eine Falsche Sekt gratis\n\nGrüße vom Erdbeermund Team\n▀▀▀▀▀▀▀▀▀▀▀▀▀▀▀▀▀▀▀▀▀\nX Music by DJ Padi X\nBest of Mainstream\, Latino und Partyhits\n▀▀▀▀▀▀▀▀▀▀▀▀▀▀▀▀▀▀▀▀▀\nmore info\n►► Eintritt: 8\,00 EUR\n►► ab 21 Jahren\n►► Öffnungszeiten 22:00 – 4:00 Uhr\n►► Reservierungen: https://www.erdbeermund-singen.de
URL:https://www.party-insider.com/event/weil-ich-ein-maedchen-bin-in-erdbeermund-singen-2/
LOCATION:Erdbeermund Singen\, Otto-Hahn-Str. 5\, Singen (Hohentwiel)\, 78224\, Germany
CATEGORIES:Erdbeermund
ATTACH;FMTTYPE=image/png:https://www.party-insider.com/wp-content/uploads/2025/06/IMG_2025-06-09-202440.png
END:VEVENT
BEGIN:VEVENT
DTSTART;TZID=Europe/Zurich:20250613T220000
DTEND;TZID=Europe/Zurich:20250614T050000
DTSTAMP:20260423T002247
CREATED:20250609T173924Z
LAST-MODIFIED:20250609T173924Z
UID:10003912-1749852000-1749877200@www.party-insider.com
SUMMARY:💄LADIES NIGHT💄 im Grey Konstanz
DESCRIPTION:💄LADIES NIGHT💄 \n20 EURO FREIVERZEHR FÜR LADIES! \n❤️ Und sie feiern wieder in ihrem Lieblingsclub ❤️ \n🔆 Mädelsabend…\n🔆 Ladies Night…\n🔆 Queensclub… \n❣️Specials:\nLadies erhalten bis 00:00Uhr 20€ Getränkefreiverzehr\n(gültig die ganze Nacht) \n❌❌❌ EINTRITT FREI BIS 23 UHR FÜR ALLE ❌❌❌\ndie Ladies sind heute Abend wieder im größten Club am Bodensee zum feiern unterwegs.\nFeier mit uns DEIN WOCHENENDE auf 🔴 FÜNF MUSIKBEREICHEN 🔴! \n# Lounge Reservierung unter:\nhttp://www.greyclub.de
URL:https://www.party-insider.com/event/%f0%9f%92%84ladies-night%f0%9f%92%84-im-grey-konstanz-8/
LOCATION:Grey Konstanz\, Max-Stromeyerstr. 33\, Konstanz\, 78467\, Germany
CATEGORIES:Grey
ATTACH;FMTTYPE=image/jpeg:https://www.party-insider.com/wp-content/uploads/2025/05/IMG_2997.jpeg
END:VEVENT
BEGIN:VEVENT
DTSTART;TZID=Europe/Zurich:20250614T140000
DTEND;TZID=Europe/Zurich:20250614T140000
DTSTAMP:20260423T002247
CREATED:20250610T074842Z
LAST-MODIFIED:20250610T074842Z
UID:10003924-1749909600-1749909600@www.party-insider.com
SUMMARY:ROOFTOP DJ Lex Green im Glorious Bastards - Lago Konstanz
DESCRIPTION:
URL:https://www.party-insider.com/event/rooftop-dj-lex-green-im-glorious-bastards-lago-konstanz/
LOCATION:Glorious Bastards Konstanz\, Bodanstraße 1\, Konstanz\, 78462\, Germany
CATEGORIES:Glorious Bastards
ATTACH;FMTTYPE=image/jpeg:https://www.party-insider.com/wp-content/uploads/2025/06/IMG_5252.jpeg
END:VEVENT
BEGIN:VEVENT
DTSTART;TZID=Europe/Zurich:20250614T140000
DTEND;TZID=Europe/Zurich:20250614T140000
DTSTAMP:20260423T002247
CREATED:20250612T190259Z
LAST-MODIFIED:20250612T190259Z
UID:10003935-1749909600-1749909600@www.party-insider.com
SUMMARY:Italo & House im Mamma mia Konstanz
DESCRIPTION:Adresse:\nAugustinerplatz 5\n78462 Konstanz\nDeutschland
URL:https://www.party-insider.com/event/italo-house-im-mamma-mia-konstanz/
ATTACH;FMTTYPE=image/jpeg:https://www.party-insider.com/wp-content/uploads/2025/06/680C355E-1ACC-41FF-9006-595DE86208E3.jpeg
END:VEVENT
BEGIN:VEVENT
DTSTART;TZID=Europe/Zurich:20250614T150000
DTEND;TZID=Europe/Zurich:20250614T220000
DTSTAMP:20260423T002247
CREATED:20250528T180714Z
LAST-MODIFIED:20250528T180850Z
UID:10002801-1749913200-1749938400@www.party-insider.com
SUMMARY:Day Dance Katakumba in US-MEX Terraza Kreuzlingen
DESCRIPTION:Am 14. Juni sind wir auch dieses Jahr wieder für euch in der @usmex_terraza Kreuzlingen am Start. \nDAYDANCE / FREE ENTRY / HOUSE / MELODIC \nMusikalische Verwöhnung gibt’s von: @di_forelle b2b @tigosito @die_garret_frank_stunde \n@michl_im_technoland \n@can_sa_dj \n@outsidethebox_music \nAftershow Party @kataclub_ch
URL:https://www.party-insider.com/event/day-dance-katakumba-in-us-mex-terraza-kreuzlingen/
LOCATION:US-MEX Terraza Kreuzlingen\, Seestrasse 11B.2 / Seeufer West\, Kreuzlingen\, 8280\, Switzerland
CATEGORIES:US-MEX Terraza Kreuzlingen
ATTACH;FMTTYPE=image/png:https://www.party-insider.com/wp-content/uploads/2025/05/IMG_2025-05-28-200545.png
END:VEVENT
BEGIN:VEVENT
DTSTART;TZID=Europe/Zurich:20250614T160000
DTEND;TZID=Europe/Zurich:20250615T010000
DTSTAMP:20260423T002247
CREATED:20250520T051321Z
LAST-MODIFIED:20250609T195725Z
UID:10002752-1749916800-1749949200@www.party-insider.com
SUMMARY:Silent Day-Dance am See in Festplatz Rorschach
DESCRIPTION:FEIERN\, WO ANDERE FERIEN MACHEN \nSilent Daydance am See – dieses Jahr zum ersten Mal auf dem wunderschönen Festplatz Rorschach! Zwischen Segelhafen und Würth Haus wird getanzt und gefeiert – direkt neben dem Bahnhof\, direkt am Wasser\, direkt im Sommermodus. \nPack deine Sonnenbrille ein\, schnapp dir deine Crew und tauch ein in einen Tag voller Beats\, guter Leute und dieser unschlagbaren Kulisse am Bodensee. Und wenn du denkst\, es geht nicht schöner – wartet der kitschigste Sonnenuntergang ever auf dich. \nSichere dir jetzt dein Ticket im Vorverkauf – die letzten Events waren restlos ausverkauft! \nhttps://treppenhaus.ch/events/sdd-am-see/ \nFlip-Flops an\, Sorgen aus – wir sehen uns!\nSOUND\nAn der Silentparty erhältst du Kopfhörer und kannst frei zwischen drei Kanälen auswählen. Die verschiedenen DJs treffen damit also immer genau deinen Geschmack. Wenn nicht\, NEXT! \n\nKanal 1: HITS\nKanal 2: URBAN\nKanal 3: ELECTRONIC\n\nDRINKS & FOOD\nDie Crew versorgt dich an der Bar mit kühlen Getränken. Die vielleicht weltbeste Margarita darf dabei natürlich nicht fehlen. Zusätzlich gibt es auf dem Areal diverse Verpflegungsmöglichkeiten.\nLOCATION\nDie Party findet auf dem Festplatz Rorschach direkt am Bodensee statt. Der Bahnhof Rorschach Hafen ist gleich nebenan. Google Maps\nHEADPHONES\n1. Ticket an der Kasse vorweisen oder falls noch vorrätig kaufen und Kopfhörer entgegen nehmen\n3. Wenn du das Event-Gelände verlässt\, gibst du deine Kopfhörer am Ausgang ab.\n3. Let’s get the Party started!\nFAQ \n\nEinlass ab 18 Jahren.\nBei stürmischem Wetter wird der Event auf Samstag\, 21.06.2024 verschoben. Alle Tickets behalten ihre Gültigkeit. Bei einer Absage des Events werden alle Tickets zurücker­stattet.\nInformationen zur Rückerstattung versicherter Tickets bei Event-Verschiebung\, Krankheitsfall etc. findest du beim Bezahlvorgang.\nDeine eigenen Kopfhörer kannst du nicht nutzen.\nAn- und Abreise: Wir empfehlen mittels ÖV anzureisen\, die Location ist direkt neben dem Hauptbahnhof Rorschach.\nPayment: Wir akzeptieren Bargeld\, Karte und TWINT.\nDas Gelände ist Rollstuhltauglich.\nSchliessfächer sind im Gelände als auch am Hauptbahnhof Rorschach vorhanden.\nAuf dem Eventgelände nicht erlaubt sind: eigene Getränke\, Drogen\, Waffen\, Fahrräder und Haustiere.\nDie Kopfhörer werden von silentparty.ch zur Verfügung gestellt.
URL:https://www.party-insider.com/event/silent-day-dance-am-see-in-festplatz-rorschach/
ATTACH;FMTTYPE=image/webp:https://www.party-insider.com/wp-content/uploads/2025/05/IMG_4106.webp
END:VEVENT
BEGIN:VEVENT
DTSTART;TZID=Europe/Zurich:20250614T170000
DTEND;TZID=Europe/Zurich:20250614T233000
DTSTAMP:20260423T002247
CREATED:20250611T155559Z
LAST-MODIFIED:20250611T155656Z
UID:10003934-1749920400-1749943800@www.party-insider.com
SUMMARY:Clubbing in Vauna & Vlora Konstanz
DESCRIPTION:Wir starten am Samstag\, den 14.06.25 17:00 Uhr in unser Clubbing mit schönen House-Beats direkt am Seerhein. Gegenüber vom Bodenseeforum. Wir freuen uns auf Euch! \nAdresse:\nVauna & Vlora Seerhein\nReichenaustr. 27\n78467 Konstanz
URL:https://www.party-insider.com/event/seerhein-clubbing-in-vauna-vlora-konstanz/
ATTACH;FMTTYPE=image/png:https://www.party-insider.com/wp-content/uploads/2025/06/IMG_2025-06-11-175337.png
END:VEVENT
BEGIN:VEVENT
DTSTART;TZID=Europe/Zurich:20250614T210000
DTEND;TZID=Europe/Zurich:20250615T020000
DTSTAMP:20260423T002248
CREATED:20250609T192336Z
LAST-MODIFIED:20250609T192337Z
UID:10001945-1749934800-1749952800@www.party-insider.com
SUMMARY:Die K9-Disco im Kulturzentrum K9 Konstanz
DESCRIPTION:mit DJane WegAs \nVon den 70zigern bis Jetzt\, Rund um die Welt\, Gute-Laune-Sound\, «»The Beat is Rhythm»»!\nDJane WegAs liebt es abwechslungsreich\, deswegen gehen manchmal die Breaks mit ihr durch!
URL:https://www.party-insider.com/event/die-k9-disco-im-kulturzentrum-k9-konstanz-4/
LOCATION:K9 Konstanz\, Hieronymusgasse 3\, Konstanz\, 78462\, Switzerland
CATEGORIES:K9
ATTACH;FMTTYPE=image/jpeg:https://www.party-insider.com/wp-content/uploads/2025/02/IMG_0500.jpeg
END:VEVENT
BEGIN:VEVENT
DTSTART;TZID=Europe/Zurich:20250614T210000
DTEND;TZID=Europe/Zurich:20250615T030000
DTSTAMP:20260423T002248
CREATED:20250323T151749Z
LAST-MODIFIED:20250405T112304Z
UID:10000499-1749934800-1749956400@www.party-insider.com
SUMMARY:Disco Party im GenX Konstanz
DESCRIPTION:
URL:https://www.party-insider.com/event/disco-party-im-genx-konstanz-3/2025-06-14/
LOCATION:Poly Club Konstanz\, Maybachstraße 8\, Konstanz\, 78467\, Germany
CATEGORIES:Poly Club Konstanz
ATTACH;FMTTYPE=image/png:https://www.party-insider.com/wp-content/uploads/2025/03/IMG_2025-03-18-234314.png
END:VEVENT
BEGIN:VEVENT
DTSTART;TZID=Europe/Zurich:20250614T220000
DTEND;TZID=Europe/Zurich:20250614T220000
DTSTAMP:20260423T002248
CREATED:20250518T203204Z
LAST-MODIFIED:20260419T171012Z
UID:10002232-1749938400-1749938400@www.party-insider.com
SUMMARY:Club Time - Peggys Frauenfeld
DESCRIPTION:
URL:https://www.party-insider.com/event/club-time-in-peggys-frauenfeld/2025-06-14/
LOCATION:Peggys Frauenfeld\, Metzgerstrasse 1\, Frauenfeld\, 8500\, Switzerland
CATEGORIES:Peggy
ATTACH;FMTTYPE=image/jpeg:https://www.party-insider.com/wp-content/uploads/2025/05/IMG_1341.jpeg
END:VEVENT
BEGIN:VEVENT
DTSTART;TZID=Europe/Zurich:20250614T220000
DTEND;TZID=Europe/Zurich:20250615T010000
DTSTAMP:20260423T002248
CREATED:20250610T175005Z
LAST-MODIFIED:20250610T175005Z
UID:10003929-1749938400-1749949200@www.party-insider.com
SUMMARY:Afro House in Peggys Frauenfeld
DESCRIPTION:
URL:https://www.party-insider.com/event/afro-house-in-peggys-frauenfeld/
LOCATION:Peggys Frauenfeld\, Metzgerstrasse 1\, Frauenfeld\, 8500\, Switzerland
CATEGORIES:Peggy
ATTACH;FMTTYPE=image/png:https://www.party-insider.com/wp-content/uploads/2025/06/IMG_2025-06-10-194812.png
END:VEVENT
BEGIN:VEVENT
DTSTART;TZID=Europe/Zurich:20250614T220000
DTEND;TZID=Europe/Zurich:20250615T040000
DTSTAMP:20260423T002248
CREATED:20250611T102230Z
LAST-MODIFIED:20250611T102330Z
UID:10003931-1749938400-1749960000@www.party-insider.com
SUMMARY:Retro Disco Machine in Arena Amriswil
DESCRIPTION:WE ARE READY! Diesen Samstag Retro Disco Machine mit @djandreasmeck Hits der 90er und 2000er Abendkasse: CHF 20.- (Twint auch möglich) Lounge-Reservierungen >> DM auf Insta! \nEinlass ab 18 J. \nEgész ejjel a megszokott fergeteges buli hangulatban Andreas Meck és vendégei a @RetroDiscoMachine formácio (Dj Dezi és Dj Plastic) pörgeti a 90-es és a \n2000-es évek\, illetve napjaink nagy slágereit\, sok-sok magyar zenével. \nMindenkit várunk szeretettel! u Kezdés: 22.00 \nZárás: 04.00 \nBelépó: 20 Fr\, a helyszinen vásárolható meg. (készpénzes vagy Twintes fizetés)
URL:https://www.party-insider.com/event/retro-disco-machine-in-arena-amriswil/
LOCATION:Mood12 Amriswil\, Schrofenstrasse 12\, Amriswil​​​​​​​\, 8580\, Switzerland
CATEGORIES:MOOD12 Amriswil
ATTACH;FMTTYPE=image/jpeg:https://www.party-insider.com/wp-content/uploads/2025/06/IMG_5323.jpeg
END:VEVENT
BEGIN:VEVENT
DTSTART;TZID=Europe/Zurich:20250614T220000
DTEND;TZID=Europe/Zurich:20250615T044500
DTSTAMP:20260423T002248
CREATED:20250528T181520Z
LAST-MODIFIED:20250528T181520Z
UID:10002802-1749938400-1749962700@www.party-insider.com
SUMMARY:MINDFLOWER in Katakumba Tägerwilen
DESCRIPTION:ARE YOU READY? \nWe are happy to announce you the first ever ALL NIGHT LONG of our beloved @t1mo.takelmore \nThe event will take place at the @kataclub_ch in collaboration with @katakumba_events \nLINEUP RUNNING ORDER: \nH8 MAIN 28 \nUBERSTUNDEN @ueber.stunden \nTIMO B2B NOTESPEN @notespen.techno \nTIMO \nTMO B2B LETY @lety_anisa \nT1MO B2B NOKI @noki.techno \n88 TUNNEL 88 \nCHILL SOUND
URL:https://www.party-insider.com/event/mindflower-in-katakumba-taegerwilen/
LOCATION:Katakumba Tägerwilen\, Unterseestrasse 29B\, Kreuzlingen\, 8280\, Switzerland
CATEGORIES:Katakumba
ATTACH;FMTTYPE=image/jpeg:https://www.party-insider.com/wp-content/uploads/2025/05/IMG_4502.jpeg
END:VEVENT
BEGIN:VEVENT
DTSTART;TZID=Europe/Zurich:20250614T220000
DTEND;TZID=Europe/Zurich:20250615T050000
DTSTAMP:20260423T002248
CREATED:20250609T174740Z
LAST-MODIFIED:20250609T174740Z
UID:10003913-1749938400-1749963600@www.party-insider.com
SUMMARY:COCKTAIL NIGHT im Grey Konstanz
DESCRIPTION:COCKTAIL NIGHT \nPARTY AUF 4 FLOORS \nWir präsentieren Euch die COCKTAIL NIGHT!\nWürfel um den Preis Deines Cocktails in der Lobby!\nEintritt frei bis 23 Uhr! \nParty auf 4 Floors\, wo garantiert für jeden etwas dabei ist!\nEINTRITT FREI BIS 23 UHR!\nFeier mit uns DEIN WOCHENENDE auf 🔴 VIER MUSIKBEREICHEN 🔴! \n# Lounge Reservierung unter:\nhttp://www.greyclub.de
URL:https://www.party-insider.com/event/cocktail-night-im-grey-konstanz/
LOCATION:Grey Konstanz\, Max-Stromeyerstr. 33\, Konstanz\, 78467\, Germany
CATEGORIES:Grey
ATTACH;FMTTYPE=image/jpeg:https://www.party-insider.com/wp-content/uploads/2025/06/IMG_5182.jpeg
END:VEVENT
END:VCALENDAR