BEGIN:VCALENDAR
VERSION:2.0
PRODID:-//Party-Insider - ECPv6.15.20//NONSGML v1.0//EN
CALSCALE:GREGORIAN
METHOD:PUBLISH
X-ORIGINAL-URL:https://www.party-insider.com
X-WR-CALDESC:Veranstaltungen im Party-Insider
REFRESH-INTERVAL;VALUE=DURATION:PT1H
X-Robots-Tag:noindex
X-PUBLISHED-TTL:PT1H
BEGIN:VTIMEZONE
TZID:Europe/Zurich
BEGIN:DAYLIGHT
TZOFFSETFROM:+0100
TZOFFSETTO:+0200
TZNAME:CEST
DTSTART:20300331T010000
END:DAYLIGHT
BEGIN:STANDARD
TZOFFSETFROM:+0200
TZOFFSETTO:+0100
TZNAME:CET
DTSTART:20301027T010000
END:STANDARD
BEGIN:DAYLIGHT
TZOFFSETFROM:+0100
TZOFFSETTO:+0200
TZNAME:CEST
DTSTART:20310330T010000
END:DAYLIGHT
BEGIN:STANDARD
TZOFFSETFROM:+0200
TZOFFSETTO:+0100
TZNAME:CET
DTSTART:20311026T010000
END:STANDARD
BEGIN:DAYLIGHT
TZOFFSETFROM:+0100
TZOFFSETTO:+0200
TZNAME:CEST
DTSTART:20320328T010000
END:DAYLIGHT
BEGIN:STANDARD
TZOFFSETFROM:+0200
TZOFFSETTO:+0100
TZNAME:CET
DTSTART:20321031T010000
END:STANDARD
END:VTIMEZONE
BEGIN:VEVENT
DTSTART;TZID=Europe/Zurich:20310301T220000
DTEND;TZID=Europe/Zurich:20310301T220000
DTSTAMP:20260426T022254
CREATED:20250518T203204Z
LAST-MODIFIED:20260419T171012Z
UID:10009287-1930168800-1930168800@www.party-insider.com
SUMMARY:Club Time - Peggys Frauenfeld
DESCRIPTION:
URL:https://www.party-insider.com/event/club-time-in-peggys-frauenfeld/2031-03-01/
LOCATION:Peggys Frauenfeld\, Metzgerstrasse 1\, Frauenfeld\, 8500\, Switzerland
CATEGORIES:Peggy
ATTACH;FMTTYPE=image/jpeg:https://www.party-insider.com/wp-content/uploads/2025/05/IMG_1341.jpeg
END:VEVENT
BEGIN:VEVENT
DTSTART;TZID=Europe/Zurich:20310301T220000
DTEND;TZID=Europe/Zurich:20310301T220000
DTSTAMP:20260426T022254
CREATED:20251227T002346Z
LAST-MODIFIED:20260419T170537Z
UID:10009966-1930168800-1930168800@www.party-insider.com
SUMMARY:Live DJ - minoo Konstanz
DESCRIPTION:
URL:https://www.party-insider.com/event/babylon-bar-noa-konstanz-9/2031-03-01/
LOCATION:minoo Konstanz\, Bruderturmgasse 3\, Konstanz\, 78462\, Germany
CATEGORIES:minoo konstanz
ATTACH;FMTTYPE=image/jpeg:https://www.party-insider.com/wp-content/uploads/2025/12/IMG_5111.jpeg
END:VEVENT
BEGIN:VEVENT
DTSTART;TZID=Europe/Zurich:20310306T170000
DTEND;TZID=Europe/Zurich:20310306T170000
DTSTAMP:20260426T022254
CREATED:20250402T043915Z
LAST-MODIFIED:20260422T173806Z
UID:10010172-1930582800-1930582800@www.party-insider.com
SUMMARY:After Work - Peggys Frauenfeld
DESCRIPTION:
URL:https://www.party-insider.com/event/after-work-im-peggys-frauenfeld/2031-03-06/
LOCATION:Peggys Frauenfeld\, Metzgerstrasse 1\, Frauenfeld\, 8500\, Switzerland
CATEGORIES:Peggy
ATTACH;FMTTYPE=image/jpeg:https://www.party-insider.com/wp-content/uploads/2025/04/IMG_6453.jpeg
END:VEVENT
BEGIN:VEVENT
DTSTART;TZID=Europe/Zurich:20310307T220000
DTEND;TZID=Europe/Zurich:20310307T220000
DTSTAMP:20260426T022254
CREATED:20250518T203204Z
LAST-MODIFIED:20260419T171012Z
UID:10009288-1930687200-1930687200@www.party-insider.com
SUMMARY:Club Time - Peggys Frauenfeld
DESCRIPTION:
URL:https://www.party-insider.com/event/club-time-in-peggys-frauenfeld/2031-03-07/
LOCATION:Peggys Frauenfeld\, Metzgerstrasse 1\, Frauenfeld\, 8500\, Switzerland
CATEGORIES:Peggy
ATTACH;FMTTYPE=image/jpeg:https://www.party-insider.com/wp-content/uploads/2025/05/IMG_1341.jpeg
END:VEVENT
BEGIN:VEVENT
DTSTART;TZID=Europe/Zurich:20310307T220000
DTEND;TZID=Europe/Zurich:20310307T220000
DTSTAMP:20260426T022254
CREATED:20251227T002346Z
LAST-MODIFIED:20260419T170537Z
UID:10009967-1930687200-1930687200@www.party-insider.com
SUMMARY:Live DJ - minoo Konstanz
DESCRIPTION:
URL:https://www.party-insider.com/event/babylon-bar-noa-konstanz-9/2031-03-07/
LOCATION:minoo Konstanz\, Bruderturmgasse 3\, Konstanz\, 78462\, Germany
CATEGORIES:minoo konstanz
ATTACH;FMTTYPE=image/jpeg:https://www.party-insider.com/wp-content/uploads/2025/12/IMG_5111.jpeg
END:VEVENT
BEGIN:VEVENT
DTSTART;TZID=Europe/Zurich:20310308T210000
DTEND;TZID=Europe/Zurich:20310308T210000
DTSTAMP:20260426T022254
CREATED:20250510T155008Z
LAST-MODIFIED:20260419T170713Z
UID:10009310-1930770000-1930770000@www.party-insider.com
SUMMARY:Die K9-Disco im Kulturzentrum K9 Konstanz
DESCRIPTION:
URL:https://www.party-insider.com/event/die-k9-disco-im-kulturzentrum-k9-konstanz/2031-03-08/
LOCATION:K9 Konstanz\, Hieronymusgasse 3\, Konstanz\, 78462\, Switzerland
CATEGORIES:K9
ATTACH;FMTTYPE=image/jpeg:https://www.party-insider.com/wp-content/uploads/2025/02/IMG_0500.jpeg
END:VEVENT
BEGIN:VEVENT
DTSTART;TZID=Europe/Zurich:20310308T220000
DTEND;TZID=Europe/Zurich:20310308T220000
DTSTAMP:20260426T022254
CREATED:20250518T203204Z
LAST-MODIFIED:20260419T171012Z
UID:10009289-1930773600-1930773600@www.party-insider.com
SUMMARY:Club Time - Peggys Frauenfeld
DESCRIPTION:
URL:https://www.party-insider.com/event/club-time-in-peggys-frauenfeld/2031-03-08/
LOCATION:Peggys Frauenfeld\, Metzgerstrasse 1\, Frauenfeld\, 8500\, Switzerland
CATEGORIES:Peggy
ATTACH;FMTTYPE=image/jpeg:https://www.party-insider.com/wp-content/uploads/2025/05/IMG_1341.jpeg
END:VEVENT
BEGIN:VEVENT
DTSTART;TZID=Europe/Zurich:20310308T220000
DTEND;TZID=Europe/Zurich:20310308T220000
DTSTAMP:20260426T022254
CREATED:20251227T002346Z
LAST-MODIFIED:20260419T170537Z
UID:10009968-1930773600-1930773600@www.party-insider.com
SUMMARY:Live DJ - minoo Konstanz
DESCRIPTION:
URL:https://www.party-insider.com/event/babylon-bar-noa-konstanz-9/2031-03-08/
LOCATION:minoo Konstanz\, Bruderturmgasse 3\, Konstanz\, 78462\, Germany
CATEGORIES:minoo konstanz
ATTACH;FMTTYPE=image/jpeg:https://www.party-insider.com/wp-content/uploads/2025/12/IMG_5111.jpeg
END:VEVENT
BEGIN:VEVENT
DTSTART;TZID=Europe/Zurich:20310313T170000
DTEND;TZID=Europe/Zurich:20310313T170000
DTSTAMP:20260426T022254
CREATED:20250402T043915Z
LAST-MODIFIED:20260422T173806Z
UID:10010173-1931187600-1931187600@www.party-insider.com
SUMMARY:After Work - Peggys Frauenfeld
DESCRIPTION:
URL:https://www.party-insider.com/event/after-work-im-peggys-frauenfeld/2031-03-13/
LOCATION:Peggys Frauenfeld\, Metzgerstrasse 1\, Frauenfeld\, 8500\, Switzerland
CATEGORIES:Peggy
ATTACH;FMTTYPE=image/jpeg:https://www.party-insider.com/wp-content/uploads/2025/04/IMG_6453.jpeg
END:VEVENT
BEGIN:VEVENT
DTSTART;TZID=Europe/Zurich:20310314T220000
DTEND;TZID=Europe/Zurich:20310314T220000
DTSTAMP:20260426T022254
CREATED:20250518T203204Z
LAST-MODIFIED:20260419T171012Z
UID:10009290-1931292000-1931292000@www.party-insider.com
SUMMARY:Club Time - Peggys Frauenfeld
DESCRIPTION:
URL:https://www.party-insider.com/event/club-time-in-peggys-frauenfeld/2031-03-14/
LOCATION:Peggys Frauenfeld\, Metzgerstrasse 1\, Frauenfeld\, 8500\, Switzerland
CATEGORIES:Peggy
ATTACH;FMTTYPE=image/jpeg:https://www.party-insider.com/wp-content/uploads/2025/05/IMG_1341.jpeg
END:VEVENT
BEGIN:VEVENT
DTSTART;TZID=Europe/Zurich:20310314T220000
DTEND;TZID=Europe/Zurich:20310314T220000
DTSTAMP:20260426T022254
CREATED:20251227T002346Z
LAST-MODIFIED:20260419T170537Z
UID:10009969-1931292000-1931292000@www.party-insider.com
SUMMARY:Live DJ - minoo Konstanz
DESCRIPTION:
URL:https://www.party-insider.com/event/babylon-bar-noa-konstanz-9/2031-03-14/
LOCATION:minoo Konstanz\, Bruderturmgasse 3\, Konstanz\, 78462\, Germany
CATEGORIES:minoo konstanz
ATTACH;FMTTYPE=image/jpeg:https://www.party-insider.com/wp-content/uploads/2025/12/IMG_5111.jpeg
END:VEVENT
BEGIN:VEVENT
DTSTART;TZID=Europe/Zurich:20310315T210000
DTEND;TZID=Europe/Zurich:20310315T210000
DTSTAMP:20260426T022254
CREATED:20250510T155008Z
LAST-MODIFIED:20260419T170713Z
UID:10009311-1931374800-1931374800@www.party-insider.com
SUMMARY:Die K9-Disco im Kulturzentrum K9 Konstanz
DESCRIPTION:
URL:https://www.party-insider.com/event/die-k9-disco-im-kulturzentrum-k9-konstanz/2031-03-15/
LOCATION:K9 Konstanz\, Hieronymusgasse 3\, Konstanz\, 78462\, Switzerland
CATEGORIES:K9
ATTACH;FMTTYPE=image/jpeg:https://www.party-insider.com/wp-content/uploads/2025/02/IMG_0500.jpeg
END:VEVENT
BEGIN:VEVENT
DTSTART;TZID=Europe/Zurich:20310315T220000
DTEND;TZID=Europe/Zurich:20310315T220000
DTSTAMP:20260426T022254
CREATED:20250518T203204Z
LAST-MODIFIED:20260419T171012Z
UID:10009348-1931378400-1931378400@www.party-insider.com
SUMMARY:Club Time - Peggys Frauenfeld
DESCRIPTION:
URL:https://www.party-insider.com/event/club-time-in-peggys-frauenfeld/2031-03-15/
LOCATION:Peggys Frauenfeld\, Metzgerstrasse 1\, Frauenfeld\, 8500\, Switzerland
CATEGORIES:Peggy
ATTACH;FMTTYPE=image/jpeg:https://www.party-insider.com/wp-content/uploads/2025/05/IMG_1341.jpeg
END:VEVENT
BEGIN:VEVENT
DTSTART;TZID=Europe/Zurich:20310315T220000
DTEND;TZID=Europe/Zurich:20310315T220000
DTSTAMP:20260426T022254
CREATED:20251227T002346Z
LAST-MODIFIED:20260419T170537Z
UID:10009970-1931378400-1931378400@www.party-insider.com
SUMMARY:Live DJ - minoo Konstanz
DESCRIPTION:
URL:https://www.party-insider.com/event/babylon-bar-noa-konstanz-9/2031-03-15/
LOCATION:minoo Konstanz\, Bruderturmgasse 3\, Konstanz\, 78462\, Germany
CATEGORIES:minoo konstanz
ATTACH;FMTTYPE=image/jpeg:https://www.party-insider.com/wp-content/uploads/2025/12/IMG_5111.jpeg
END:VEVENT
BEGIN:VEVENT
DTSTART;TZID=Europe/Zurich:20310320T170000
DTEND;TZID=Europe/Zurich:20310320T170000
DTSTAMP:20260426T022254
CREATED:20250402T043915Z
LAST-MODIFIED:20260422T173806Z
UID:10010174-1931792400-1931792400@www.party-insider.com
SUMMARY:After Work - Peggys Frauenfeld
DESCRIPTION:
URL:https://www.party-insider.com/event/after-work-im-peggys-frauenfeld/2031-03-20/
LOCATION:Peggys Frauenfeld\, Metzgerstrasse 1\, Frauenfeld\, 8500\, Switzerland
CATEGORIES:Peggy
ATTACH;FMTTYPE=image/jpeg:https://www.party-insider.com/wp-content/uploads/2025/04/IMG_6453.jpeg
END:VEVENT
BEGIN:VEVENT
DTSTART;TZID=Europe/Zurich:20310321T220000
DTEND;TZID=Europe/Zurich:20310321T220000
DTSTAMP:20260426T022254
CREATED:20250518T203204Z
LAST-MODIFIED:20260419T171012Z
UID:10009401-1931896800-1931896800@www.party-insider.com
SUMMARY:Club Time - Peggys Frauenfeld
DESCRIPTION:
URL:https://www.party-insider.com/event/club-time-in-peggys-frauenfeld/2031-03-21/
LOCATION:Peggys Frauenfeld\, Metzgerstrasse 1\, Frauenfeld\, 8500\, Switzerland
CATEGORIES:Peggy
ATTACH;FMTTYPE=image/jpeg:https://www.party-insider.com/wp-content/uploads/2025/05/IMG_1341.jpeg
END:VEVENT
BEGIN:VEVENT
DTSTART;TZID=Europe/Zurich:20310321T220000
DTEND;TZID=Europe/Zurich:20310321T220000
DTSTAMP:20260426T022254
CREATED:20251227T002346Z
LAST-MODIFIED:20260419T170537Z
UID:10009971-1931896800-1931896800@www.party-insider.com
SUMMARY:Live DJ - minoo Konstanz
DESCRIPTION:
URL:https://www.party-insider.com/event/babylon-bar-noa-konstanz-9/2031-03-21/
LOCATION:minoo Konstanz\, Bruderturmgasse 3\, Konstanz\, 78462\, Germany
CATEGORIES:minoo konstanz
ATTACH;FMTTYPE=image/jpeg:https://www.party-insider.com/wp-content/uploads/2025/12/IMG_5111.jpeg
END:VEVENT
BEGIN:VEVENT
DTSTART;TZID=Europe/Zurich:20310322T210000
DTEND;TZID=Europe/Zurich:20310322T210000
DTSTAMP:20260426T022254
CREATED:20250510T155008Z
LAST-MODIFIED:20260419T170713Z
UID:10009381-1931979600-1931979600@www.party-insider.com
SUMMARY:Die K9-Disco im Kulturzentrum K9 Konstanz
DESCRIPTION:
URL:https://www.party-insider.com/event/die-k9-disco-im-kulturzentrum-k9-konstanz/2031-03-22/
LOCATION:K9 Konstanz\, Hieronymusgasse 3\, Konstanz\, 78462\, Switzerland
CATEGORIES:K9
ATTACH;FMTTYPE=image/jpeg:https://www.party-insider.com/wp-content/uploads/2025/02/IMG_0500.jpeg
END:VEVENT
BEGIN:VEVENT
DTSTART;TZID=Europe/Zurich:20310322T220000
DTEND;TZID=Europe/Zurich:20310322T220000
DTSTAMP:20260426T022254
CREATED:20250518T203204Z
LAST-MODIFIED:20260419T171012Z
UID:10009402-1931983200-1931983200@www.party-insider.com
SUMMARY:Club Time - Peggys Frauenfeld
DESCRIPTION:
URL:https://www.party-insider.com/event/club-time-in-peggys-frauenfeld/2031-03-22/
LOCATION:Peggys Frauenfeld\, Metzgerstrasse 1\, Frauenfeld\, 8500\, Switzerland
CATEGORIES:Peggy
ATTACH;FMTTYPE=image/jpeg:https://www.party-insider.com/wp-content/uploads/2025/05/IMG_1341.jpeg
END:VEVENT
BEGIN:VEVENT
DTSTART;TZID=Europe/Zurich:20310322T220000
DTEND;TZID=Europe/Zurich:20310322T220000
DTSTAMP:20260426T022254
CREATED:20251227T002346Z
LAST-MODIFIED:20260419T170537Z
UID:10009972-1931983200-1931983200@www.party-insider.com
SUMMARY:Live DJ - minoo Konstanz
DESCRIPTION:
URL:https://www.party-insider.com/event/babylon-bar-noa-konstanz-9/2031-03-22/
LOCATION:minoo Konstanz\, Bruderturmgasse 3\, Konstanz\, 78462\, Germany
CATEGORIES:minoo konstanz
ATTACH;FMTTYPE=image/jpeg:https://www.party-insider.com/wp-content/uploads/2025/12/IMG_5111.jpeg
END:VEVENT
BEGIN:VEVENT
DTSTART;TZID=Europe/Zurich:20310327T170000
DTEND;TZID=Europe/Zurich:20310327T170000
DTSTAMP:20260426T022254
CREATED:20250402T043915Z
LAST-MODIFIED:20260422T173806Z
UID:10010175-1932397200-1932397200@www.party-insider.com
SUMMARY:After Work - Peggys Frauenfeld
DESCRIPTION:
URL:https://www.party-insider.com/event/after-work-im-peggys-frauenfeld/2031-03-27/
LOCATION:Peggys Frauenfeld\, Metzgerstrasse 1\, Frauenfeld\, 8500\, Switzerland
CATEGORIES:Peggy
ATTACH;FMTTYPE=image/jpeg:https://www.party-insider.com/wp-content/uploads/2025/04/IMG_6453.jpeg
END:VEVENT
BEGIN:VEVENT
DTSTART;TZID=Europe/Zurich:20310328T220000
DTEND;TZID=Europe/Zurich:20310328T220000
DTSTAMP:20260426T022254
CREATED:20250518T203204Z
LAST-MODIFIED:20260419T171012Z
UID:10009438-1932501600-1932501600@www.party-insider.com
SUMMARY:Club Time - Peggys Frauenfeld
DESCRIPTION:
URL:https://www.party-insider.com/event/club-time-in-peggys-frauenfeld/2031-03-28/
LOCATION:Peggys Frauenfeld\, Metzgerstrasse 1\, Frauenfeld\, 8500\, Switzerland
CATEGORIES:Peggy
ATTACH;FMTTYPE=image/jpeg:https://www.party-insider.com/wp-content/uploads/2025/05/IMG_1341.jpeg
END:VEVENT
BEGIN:VEVENT
DTSTART;TZID=Europe/Zurich:20310328T220000
DTEND;TZID=Europe/Zurich:20310328T220000
DTSTAMP:20260426T022254
CREATED:20251227T002346Z
LAST-MODIFIED:20260419T170537Z
UID:10009973-1932501600-1932501600@www.party-insider.com
SUMMARY:Live DJ - minoo Konstanz
DESCRIPTION:
URL:https://www.party-insider.com/event/babylon-bar-noa-konstanz-9/2031-03-28/
LOCATION:minoo Konstanz\, Bruderturmgasse 3\, Konstanz\, 78462\, Germany
CATEGORIES:minoo konstanz
ATTACH;FMTTYPE=image/jpeg:https://www.party-insider.com/wp-content/uploads/2025/12/IMG_5111.jpeg
END:VEVENT
BEGIN:VEVENT
DTSTART;TZID=Europe/Zurich:20310329T210000
DTEND;TZID=Europe/Zurich:20310329T210000
DTSTAMP:20260426T022254
CREATED:20250510T155008Z
LAST-MODIFIED:20260419T170713Z
UID:10009442-1932584400-1932584400@www.party-insider.com
SUMMARY:Die K9-Disco im Kulturzentrum K9 Konstanz
DESCRIPTION:
URL:https://www.party-insider.com/event/die-k9-disco-im-kulturzentrum-k9-konstanz/2031-03-29/
LOCATION:K9 Konstanz\, Hieronymusgasse 3\, Konstanz\, 78462\, Switzerland
CATEGORIES:K9
ATTACH;FMTTYPE=image/jpeg:https://www.party-insider.com/wp-content/uploads/2025/02/IMG_0500.jpeg
END:VEVENT
BEGIN:VEVENT
DTSTART;TZID=Europe/Zurich:20310329T220000
DTEND;TZID=Europe/Zurich:20310329T220000
DTSTAMP:20260426T022254
CREATED:20250518T203204Z
LAST-MODIFIED:20260419T171012Z
UID:10009439-1932588000-1932588000@www.party-insider.com
SUMMARY:Club Time - Peggys Frauenfeld
DESCRIPTION:
URL:https://www.party-insider.com/event/club-time-in-peggys-frauenfeld/2031-03-29/
LOCATION:Peggys Frauenfeld\, Metzgerstrasse 1\, Frauenfeld\, 8500\, Switzerland
CATEGORIES:Peggy
ATTACH;FMTTYPE=image/jpeg:https://www.party-insider.com/wp-content/uploads/2025/05/IMG_1341.jpeg
END:VEVENT
BEGIN:VEVENT
DTSTART;TZID=Europe/Zurich:20310329T220000
DTEND;TZID=Europe/Zurich:20310329T220000
DTSTAMP:20260426T022254
CREATED:20251227T002346Z
LAST-MODIFIED:20260419T170537Z
UID:10009974-1932588000-1932588000@www.party-insider.com
SUMMARY:Live DJ - minoo Konstanz
DESCRIPTION:
URL:https://www.party-insider.com/event/babylon-bar-noa-konstanz-9/2031-03-29/
LOCATION:minoo Konstanz\, Bruderturmgasse 3\, Konstanz\, 78462\, Germany
CATEGORIES:minoo konstanz
ATTACH;FMTTYPE=image/jpeg:https://www.party-insider.com/wp-content/uploads/2025/12/IMG_5111.jpeg
END:VEVENT
BEGIN:VEVENT
DTSTART;TZID=Europe/Zurich:20310403T170000
DTEND;TZID=Europe/Zurich:20310403T170000
DTSTAMP:20260426T022254
CREATED:20250402T043915Z
LAST-MODIFIED:20260422T173806Z
UID:10010176-1933002000-1933002000@www.party-insider.com
SUMMARY:After Work - Peggys Frauenfeld
DESCRIPTION:
URL:https://www.party-insider.com/event/after-work-im-peggys-frauenfeld/2031-04-03/
LOCATION:Peggys Frauenfeld\, Metzgerstrasse 1\, Frauenfeld\, 8500\, Switzerland
CATEGORIES:Peggy
ATTACH;FMTTYPE=image/jpeg:https://www.party-insider.com/wp-content/uploads/2025/04/IMG_6453.jpeg
END:VEVENT
BEGIN:VEVENT
DTSTART;TZID=Europe/Zurich:20310404T220000
DTEND;TZID=Europe/Zurich:20310404T220000
DTSTAMP:20260426T022254
CREATED:20250518T203204Z
LAST-MODIFIED:20260419T171012Z
UID:10010072-1933106400-1933106400@www.party-insider.com
SUMMARY:Club Time - Peggys Frauenfeld
DESCRIPTION:
URL:https://www.party-insider.com/event/club-time-in-peggys-frauenfeld/2031-04-04/
LOCATION:Peggys Frauenfeld\, Metzgerstrasse 1\, Frauenfeld\, 8500\, Switzerland
CATEGORIES:Peggy
ATTACH;FMTTYPE=image/jpeg:https://www.party-insider.com/wp-content/uploads/2025/05/IMG_1341.jpeg
END:VEVENT
BEGIN:VEVENT
DTSTART;TZID=Europe/Zurich:20310404T220000
DTEND;TZID=Europe/Zurich:20310404T220000
DTSTAMP:20260426T022254
CREATED:20251227T002346Z
LAST-MODIFIED:20260419T170537Z
UID:10010080-1933106400-1933106400@www.party-insider.com
SUMMARY:Live DJ - minoo Konstanz
DESCRIPTION:
URL:https://www.party-insider.com/event/babylon-bar-noa-konstanz-9/2031-04-04/
LOCATION:minoo Konstanz\, Bruderturmgasse 3\, Konstanz\, 78462\, Germany
CATEGORIES:minoo konstanz
ATTACH;FMTTYPE=image/jpeg:https://www.party-insider.com/wp-content/uploads/2025/12/IMG_5111.jpeg
END:VEVENT
BEGIN:VEVENT
DTSTART;TZID=Europe/Zurich:20310405T210000
DTEND;TZID=Europe/Zurich:20310405T210000
DTSTAMP:20260426T022254
CREATED:20250510T155008Z
LAST-MODIFIED:20260419T170713Z
UID:10010074-1933189200-1933189200@www.party-insider.com
SUMMARY:Die K9-Disco im Kulturzentrum K9 Konstanz
DESCRIPTION:
URL:https://www.party-insider.com/event/die-k9-disco-im-kulturzentrum-k9-konstanz/2031-04-05/
LOCATION:K9 Konstanz\, Hieronymusgasse 3\, Konstanz\, 78462\, Switzerland
CATEGORIES:K9
ATTACH;FMTTYPE=image/jpeg:https://www.party-insider.com/wp-content/uploads/2025/02/IMG_0500.jpeg
END:VEVENT
END:VCALENDAR