BEGIN:VCALENDAR
VERSION:2.0
PRODID:-//Party-Insider - ECPv6.14.2//NONSGML v1.0//EN
CALSCALE:GREGORIAN
METHOD:PUBLISH
X-WR-CALNAME:Party-Insider
X-ORIGINAL-URL:https://www.party-insider.com
X-WR-CALDESC:Veranstaltungen im Party-Insider
REFRESH-INTERVAL;VALUE=DURATION:PT1H
X-Robots-Tag:noindex
X-PUBLISHED-TTL:PT1H
BEGIN:VTIMEZONE
TZID:Europe/Zurich
BEGIN:DAYLIGHT
TZOFFSETFROM:+0100
TZOFFSETTO:+0200
TZNAME:CEST
DTSTART:20250330T010000
END:DAYLIGHT
BEGIN:STANDARD
TZOFFSETFROM:+0200
TZOFFSETTO:+0100
TZNAME:CET
DTSTART:20251026T010000
END:STANDARD
END:VTIMEZONE
BEGIN:VEVENT
DTSTART;TZID=Europe/Zurich:20250522T170000
DTEND;TZID=Europe/Zurich:20250522T170000
DTSTAMP:20260423T002149
CREATED:20250402T043915Z
LAST-MODIFIED:20260422T173806Z
UID:10001539-1747933200-1747933200@www.party-insider.com
SUMMARY:After Work - Peggys Frauenfeld
DESCRIPTION:
URL:https://www.party-insider.com/event/after-work-im-peggys-frauenfeld/2025-05-22/
LOCATION:Peggys Frauenfeld\, Metzgerstrasse 1\, Frauenfeld\, 8500\, Switzerland
CATEGORIES:Peggy
ATTACH;FMTTYPE=image/jpeg:https://www.party-insider.com/wp-content/uploads/2025/04/IMG_6453.jpeg
END:VEVENT
BEGIN:VEVENT
DTSTART;TZID=Europe/Zurich:20250522T230000
DTEND;TZID=Europe/Zurich:20250523T050000
DTSTAMP:20260423T002149
CREATED:20250509T191010Z
LAST-MODIFIED:20250509T191349Z
UID:10001932-1747954800-1747976400@www.party-insider.com
SUMMARY:AsMa Party in Kantine Konstanz
DESCRIPTION:AsMa Party – 22. Mai \nZum ersten Mal gemeinsam: Die Fachschaft Asian Studies and Management und die Fachschaft Maschinenbau X organisieren zusammen die AsMa Party! \nKommt am Mittwoch\, 22.05.\, ab 23 Uhr in die Kantine KN \n– wir starten in eine neue Partyreihe! \nVorverkauf: 15. & 19. Mai\, jeweils 11-14 Uhr an der \nHTWG Mensa \n→ Preis: 6 € VVK | 8 € Abendkasse \nAusweis nicht vergessen! Einlass nur mit gültigem Ausweis \nGarderobe je nach Wetterlage – Infos folgen kurzfristig \nLine-up:\n@wearelasnis\n@phillip_tm\nTBA \nWir freuen uns auf eine unvergessliche Nacht mit euch! \n#kantine #fachschaftsparty #fachschaft #asianstudies #maschinenbau #konstanz #htwgkonstanz #party
URL:https://www.party-insider.com/event/asma-party-in-kantine-konstanz/
LOCATION:Kantine Konstanz\, Oberlohnstraße 3\, Konstanz\, 78467\, Germany
CATEGORIES:Kantine
ATTACH;FMTTYPE=image/png:https://www.party-insider.com/wp-content/uploads/2025/05/IMG_2025-05-09-210835.png
END:VEVENT
BEGIN:VEVENT
DTSTART;TZID=Europe/Zurich:20250523T210000
DTEND;TZID=Europe/Zurich:20250524T030000
DTSTAMP:20260423T002149
CREATED:20250523T054415Z
LAST-MODIFIED:20250523T054452Z
UID:10001268-1748034000-1748055600@www.party-insider.com
SUMMARY:Reggaeton Latino Party in GenX Konstanz
DESCRIPTION:
URL:https://www.party-insider.com/event/disco-party-im-genx-konstanz-3-6/
LOCATION:Poly Club Konstanz\, Maybachstraße 8\, Konstanz\, 78467\, Germany
CATEGORIES:Poly Club Konstanz
ATTACH;FMTTYPE=image/jpeg:https://www.party-insider.com/wp-content/uploads/2025/03/IMG_4225.jpeg
END:VEVENT
BEGIN:VEVENT
DTSTART;TZID=Europe/Zurich:20250523T213000
DTEND;TZID=Europe/Zurich:20250524T020000
DTSTAMP:20260423T002149
CREATED:20250521T172913Z
LAST-MODIFIED:20250521T173134Z
UID:10002753-1748035800-1748052000@www.party-insider.com
SUMMARY:Party Time in Treu Tägerwilen
DESCRIPTION:
URL:https://www.party-insider.com/event/party-time-in-treu-taegerwilen-4/
LOCATION:Zur Treu Tägerwilen\, Hauptstrasse 99\, Tägerwilen\, 8274\, Switzerland
CATEGORIES:Zur Treu
ATTACH;FMTTYPE=image/jpeg:https://www.party-insider.com/wp-content/uploads/2025/05/IMG_4164.jpeg
END:VEVENT
BEGIN:VEVENT
DTSTART;TZID=Europe/Zurich:20250523T220000
DTEND;TZID=Europe/Zurich:20250523T220000
DTSTAMP:20260423T002149
CREATED:20250518T203204Z
LAST-MODIFIED:20260419T171012Z
UID:10002225-1748037600-1748037600@www.party-insider.com
SUMMARY:Club Time - Peggys Frauenfeld
DESCRIPTION:
URL:https://www.party-insider.com/event/club-time-in-peggys-frauenfeld/2025-05-23/
LOCATION:Peggys Frauenfeld\, Metzgerstrasse 1\, Frauenfeld\, 8500\, Switzerland
CATEGORIES:Peggy
ATTACH;FMTTYPE=image/jpeg:https://www.party-insider.com/wp-content/uploads/2025/05/IMG_1341.jpeg
END:VEVENT
BEGIN:VEVENT
DTSTART;TZID=Europe/Zurich:20250523T220000
DTEND;TZID=Europe/Zurich:20250524T030000
DTSTAMP:20260423T002150
CREATED:20250522T195248Z
LAST-MODIFIED:20250522T195508Z
UID:10002759-1748037600-1748055600@www.party-insider.com
SUMMARY:New Opening in Nelson Winterthur
DESCRIPTION:
URL:https://www.party-insider.com/event/new-opening-in-nelson-winterthur/
ATTACH;FMTTYPE=image/png:https://www.party-insider.com/wp-content/uploads/2025/05/IMG_2025-05-22-215044.png
END:VEVENT
BEGIN:VEVENT
DTSTART;TZID=Europe/Zurich:20250523T220000
DTEND;TZID=Europe/Zurich:20250524T040000
DTSTAMP:20260423T002150
CREATED:20250518T200320Z
LAST-MODIFIED:20250518T200451Z
UID:10002220-1748037600-1748059200@www.party-insider.com
SUMMARY:Red Carpet Party im Top10 Singen
DESCRIPTION: Red Carpet Party – Prom Night Edition Präsentiert vom Jugendgemeinderat & Top10 Singen\nAm 23.05 verwandelt sich das Top10 Singen in eine glamouröse Prom Night! Zusammen mit dem Jugendgemeinderat feiern wir zum ersten Mal die Red Carpet Party – ein Abend ganz im Stil der legendären amerikanischen Abschlussbälle. Holt eure eleganten Outfits raus und macht euch bereit für eine unvergessliche Nacht! \n DRESS TO IMPRESS!Alle Gäste\, die bis 24:00 Uhr im Hemd oder Kleid erscheinen\, erhalten einen 10 € Getränkegutschein – früh kommen lohnt sich also doppelt!\n SPECIALS DES ABENDS:\n Karaoke Floor im Fiesta – Zeigt euer Gesangstalent und feiert eure Lieblingssongs gemeinsam mit Freunden!\n FIFA Turnier – Du denkst\, du bist der König am Controller? Beweise es beim Turnier und gewinne coole Preise!\n Prom Night Deko – Roter Teppich\, Ballons\, Fotowand & mehr für das perfekte Prom-Feeling!\n Fotospots & Erinnerungsfotos – Fang die besten Momente des Abends mit professionellen Bildern ein!\n Weitere Aktionen & Überraschungen – Lasst euch überraschen\, was der Abend noch bereithält!\n Ob elegant\, stylisch oder einfach nur ready zum Feiern – wir rollen den roten Teppich für euch aus!\n Wann? 23.05.25 Wo? Top10 Singen Einlass: ab 22 Uhr\nLet’s make it a night to remember – Red Carpet Vibes only!
URL:https://www.party-insider.com/event/red-carpet-party-im-top10-singen/
LOCATION:TOP10 Singen\, Otto-Hahn-Str. 5\, Singen (Hohentwiel)\, 78224\, Germany
CATEGORIES:Top10
ATTACH;FMTTYPE=image/jpeg:https://www.party-insider.com/wp-content/uploads/2025/05/IMG_4033.jpeg
END:VEVENT
BEGIN:VEVENT
DTSTART;TZID=Europe/Zurich:20250523T220000
DTEND;TZID=Europe/Zurich:20250524T040000
DTSTAMP:20260423T002150
CREATED:20250518T202008Z
LAST-MODIFIED:20250518T202008Z
UID:10002222-1748037600-1748059200@www.party-insider.com
SUMMARY:Mama geht Tanzen\, Candy Secrets und Diamonds im Bolero Winterthur
DESCRIPTION:
URL:https://www.party-insider.com/event/mama-geht-tanzen-candy-secrets-und-diamonds-im-bolero-winterthur/
LOCATION:Bolero Winterthur\, Vogelsangstrasse 10\, Winterthur\, 8400\, Switzerland
CATEGORIES:Bolero
ATTACH;FMTTYPE=image/jpeg:https://www.party-insider.com/wp-content/uploads/2025/05/IMG_2025-05-18-221501.jpeg
END:VEVENT
BEGIN:VEVENT
DTSTART;TZID=Europe/Zurich:20250523T220000
DTEND;TZID=Europe/Zurich:20250524T040000
DTSTAMP:20260423T002150
CREATED:20250518T203916Z
LAST-MODIFIED:20250518T204059Z
UID:10002747-1748037600-1748059200@www.party-insider.com
SUMMARY:Weil ich ein Mädchen bin in Erdbeermund Singen
DESCRIPTION:Wei ich ein Mädchen bin ist…\nEine säuft. Eine heult. Eine kichert irre vor sich hin.\nZwei rennen schreiend durch den Club.\nEine steht beim DJ und macht sich über den Rest der Truppe lustig…\n\nFrauen haben die ganze Nacht freien Eintritt.\n\nUnsere Getränkeaktionen:\njede 3er Gruppe Frauen erhält eine Falsche Sekt gratis\n\nGrüße vom Erdbeermund Team\n▀▀▀▀▀▀▀▀▀▀▀▀▀▀▀▀▀▀▀▀▀\nX Music by DJ Frank GX\nBest of Mainstream\, Latino und Partyhits\n▀▀▀▀▀▀▀▀▀▀▀▀▀▀▀▀▀▀▀▀▀\nmore info\n►► Eintritt: 8\,00 EUR\n►► ab 21 Jahren\n►► Öffnungszeiten 22:00 – 4:00 Uhr\n►► Reservierungen: https://www.erdbeermund-singen.de
URL:https://www.party-insider.com/event/weil-ich-ein-maedchen-bin-im-erdbeermund-singen-14/
LOCATION:Erdbeermund Singen\, Otto-Hahn-Str. 5\, Singen (Hohentwiel)\, 78224\, Germany
CATEGORIES:Erdbeermund
ATTACH;FMTTYPE=image/png:https://www.party-insider.com/wp-content/uploads/2025/05/IMG_2025-05-18-223717.png
END:VEVENT
BEGIN:VEVENT
DTSTART;TZID=Europe/Zurich:20250523T220000
DTEND;TZID=Europe/Zurich:20250524T050000
DTSTAMP:20260423T002150
CREATED:20250510T121122Z
LAST-MODIFIED:20250510T121215Z
UID:10001937-1748037600-1748062800@www.party-insider.com
SUMMARY:💄LADIES NIGHT💄 im Grey Konstanz
DESCRIPTION:💄LADIES NIGHT💄 \n20 EURO FREIVERZEHR FÜR LADIES! \n❤️ Und sie feiern wieder in ihrem Lieblingsclub ❤️ \n🔆 Mädelsabend…\n🔆 Ladies Night…\n🔆 Queensclub… \n❣️Specials:\nLadies erhalten bis 00:00Uhr 20€ Getränkefreiverzehr\n(gültig die ganze Nacht) \n❌❌❌ EINTRITT FREI BIS 23 UHR FÜR ALLE ❌❌❌\ndie Ladies sind heute Abend wieder im größten Club am Bodensee zum feiern unterwegs.\nFeier mit uns DEIN WOCHENENDE auf 🔴 FÜNF MUSIKBEREICHEN 🔴! \n# Lounge Reservierung unter:\nhttp://www.greyclub.de
URL:https://www.party-insider.com/event/%f0%9f%92%84ladies-night%f0%9f%92%84-im-grey-konstanz-7/
LOCATION:Grey Konstanz\, Max-Stromeyerstr. 33\, Konstanz\, 78467\, Germany
CATEGORIES:Grey
ATTACH;FMTTYPE=image/jpeg:https://www.party-insider.com/wp-content/uploads/2025/05/IMG_2997.jpeg
END:VEVENT
BEGIN:VEVENT
DTSTART;TZID=Europe/Zurich:20250523T230000
DTEND;TZID=Europe/Zurich:20250524T050000
DTSTAMP:20260423T002150
CREATED:20250509T185444Z
LAST-MODIFIED:20250509T185509Z
UID:10001930-1748041200-1748062800@www.party-insider.com
SUMMARY:Under4round in Kantine Konstanz
DESCRIPTION:FR | 23.05.25 | 23:00 – 05:00 | Kantine Konstanz \nHipHop | Amapiano | FutureBeats | Newschool \n18+ \n+++*+++*+++*+++*+++* \nLineUp: \n@aleek.s_ \n@unamgram \n+++¥+++¥+++¥+++¥+++¥ \nVVK: 8€ \nAK: 10€ \n+++¥+++¥+++¥+++¥+++¥ \nWe do not tolerate any kind of racism\, sexism\, homophobia\, transphobia or other discrimination. \nHOUSE RIGHTS: House rights are the responsibility of the operator. The VVK ticket is not a guarantee of admission! \n#dontsstopthedance
URL:https://www.party-insider.com/event/under4round-in-kantine-konstanz/
LOCATION:Kantine Konstanz\, Oberlohnstraße 3\, Konstanz\, 78467\, Germany
CATEGORIES:Kantine
ATTACH;FMTTYPE=image/png:https://www.party-insider.com/wp-content/uploads/2025/05/IMG_2025-05-09-205223.png
END:VEVENT
BEGIN:VEVENT
DTSTART;TZID=Europe/Zurich:20250524T080000
DTEND;TZID=Europe/Zurich:20250525T050000
DTSTAMP:20260423T002150
CREATED:20250224T233256Z
LAST-MODIFIED:20250224T233408Z
UID:10000302-1748073600-1748149200@www.party-insider.com
SUMMARY:ESCAPE FESTIVAL 2025 in Diessenhofen
DESCRIPTION:☀️ ESCAPE to the Light: Melodic Techno & Trance \n🌑 ESCAPE to the Dark: Hardtechno \nEscape is back! Nach dem erfolgreichen Escape Festival im April 2024 sind wir hungrig nach einer nächsten Runde! Bist du auch bereit? \nDie zweite Outdoor Edition steht vor der Tür! Am 24. Mai feiern wir wieder Outdoor und entfliehen der Realität! Stattfinden wird das Spektakel wieder auf dem TopCC Areal in Diessenhofen. Mit dabei sind wieder internationale und nationale Acts höchster Klasse. Der feinste Techno wird euch in Extase versetzen! \nAre you ready? Wir sehen uns! \nInfos\n\nSa. 24. Mai 2025\n18:00 – 05:00 Uhr\n TopCC Areal Diessenhofen\, Ratihard 18\, 8253 Diessenhofen\nMain Floor: Melodic Techno & Trance\nSecond Floor: Hardtechno\nAb 18 Jahren / One Way + Cashless Event\n\n#Escape #Rave #Festival #Techno
URL:https://www.party-insider.com/event/escape-festival-2025-in-diessenhofen/
ATTACH;FMTTYPE=image/png:https://www.party-insider.com/wp-content/uploads/2025/02/Screenshot-2025-02-25-at-00.23.42.png
END:VEVENT
BEGIN:VEVENT
DTSTART;TZID=Europe/Zurich:20250524T160000
DTEND;TZID=Europe/Zurich:20250524T230000
DTSTAMP:20260423T002150
CREATED:20250507T180039Z
LAST-MODIFIED:20250507T180205Z
UID:10001924-1748102400-1748127600@www.party-insider.com
SUMMARY:Bieroase in Seeoase Konstanz
DESCRIPTION:24.05.25 – Save the date – Day Dance am Wasser \n@bierboutiquekonstanz meets @see_oase Part 3 a.k.a. Bieroase\nDas bedeutet von 16 – 23 Uhr gibt es gutes Bier – frisch gezapfte Highlights aus der Bierboutique\, tanzen im freien\, Sand zwischen den Zehen und den Blick auf den See und die Berge an der @see_oase in Zusammenarbeit mit der Bierboutique Konstanz \nDas lassen @dahvitson und meiner einer uns nicht entgehen und begleiten das Ganze musikalisch passend mit Hip Hop | Reggae | Dancehall X \nDieses Jahr dürfen insgesamt nur 5 Veranstaltungen an der Seeoase stattfinden und das ist leider unser einziger Termin. Also erzählt es ordentlich rum\, packt die Badehose\, gute Laune & Freunde ein und lasst uns gemeinsam gebührend feiern \nWie immer gilt: Eintritt frei und bei starkem Regen wird es leider verschoben werden müssen. \nWEITERSAGEN bitte & danke
URL:https://www.party-insider.com/event/bieroase-in-seeoase-konstanz/
LOCATION:Seeoase Konstanz\, Klein Venedig 1\, Konstanz\, 78462\, Germany
CATEGORIES:Seeoase
ATTACH;FMTTYPE=image/jpeg:https://www.party-insider.com/wp-content/uploads/2025/05/IMG_3494.jpeg
END:VEVENT
BEGIN:VEVENT
DTSTART;TZID=Europe/Zurich:20250524T170000
DTEND;TZID=Europe/Zurich:20250524T220000
DTSTAMP:20260423T002150
CREATED:20250515T052758Z
LAST-MODIFIED:20250515T053055Z
UID:10002217-1748106000-1748124000@www.party-insider.com
SUMMARY:Sommer Laune in Vauna & Vlora Konstanz
DESCRIPTION:  \nAdresse:\nVauna & Vlora Seerhein\nReichenaustr. 27\n78467 Konstanz
URL:https://www.party-insider.com/event/sommer-laune-in-vlora-vauna-konstanz/
ATTACH;FMTTYPE=image/png:https://www.party-insider.com/wp-content/uploads/2025/05/IMG_2025-05-15-072436.png
END:VEVENT
BEGIN:VEVENT
DTSTART;TZID=Europe/Zurich:20250524T170000
DTEND;TZID=Europe/Zurich:20250525T040000
DTSTAMP:20260423T002150
CREATED:20250406T194744Z
LAST-MODIFIED:20250406T194924Z
UID:10001804-1748106000-1748145600@www.party-insider.com
SUMMARY:Rave im Dörfli Weinfelden
DESCRIPTION:Unser Rave im Dörfli 2025 kommt näher Geniess mit uns das einzigartige Erlebnis! \n24.05.2025 17:00 – 04:00 Uhr \nEventfrog.ch \n#rave #tanz #gemeinschaft #feiern #proggressivehouse #techno
URL:https://www.party-insider.com/event/rave-im-doerfli-weinfelden/
ATTACH;FMTTYPE=image/jpeg:https://www.party-insider.com/wp-content/uploads/2025/04/IMG_1861.jpeg
END:VEVENT
BEGIN:VEVENT
DTSTART;TZID=Europe/Zurich:20250524T210000
DTEND;TZID=Europe/Zurich:20250524T210000
DTSTAMP:20260423T002150
CREATED:20250524T135238Z
LAST-MODIFIED:20250524T140039Z
UID:10002765-1748120400-1748120400@www.party-insider.com
SUMMARY:House Beats in NOA Konstanz
DESCRIPTION:
URL:https://www.party-insider.com/event/house-beats-in-noa-konstanz-2/
ATTACH;FMTTYPE=image/png:https://www.party-insider.com/wp-content/uploads/2025/05/IMG_2025-05-24-155041.png
END:VEVENT
BEGIN:VEVENT
DTSTART;TZID=Europe/Zurich:20250524T210000
DTEND;TZID=Europe/Zurich:20250525T030000
DTSTAMP:20260423T002150
CREATED:20250523T054642Z
LAST-MODIFIED:20250523T054845Z
UID:10000493-1748120400-1748142000@www.party-insider.com
SUMMARY:DiscoFox Schlager Party in GenX Konstanz
DESCRIPTION:
URL:https://www.party-insider.com/event/disco-party-im-genx-konstanz-3-7/
LOCATION:Poly Club Konstanz\, Maybachstraße 8\, Konstanz\, 78467\, Germany
CATEGORIES:Poly Club Konstanz
ATTACH;FMTTYPE=image/jpeg:https://www.party-insider.com/wp-content/uploads/2025/05/IMG_4226.jpeg
END:VEVENT
BEGIN:VEVENT
DTSTART;TZID=Europe/Zurich:20250524T220000
DTEND;TZID=Europe/Zurich:20250525T010000
DTSTAMP:20260423T002150
CREATED:20250523T184953Z
LAST-MODIFIED:20250523T185038Z
UID:10002226-1748124000-1748134800@www.party-insider.com
SUMMARY:Urban Boombox in Peggys Frauenfeld
DESCRIPTION:Samstag 24. Mai Urban Boombox French Edition mit DJ Little Maze!
URL:https://www.party-insider.com/event/club-time-in-peggys-frauenfeld-2/
LOCATION:Peggys Frauenfeld\, Metzgerstrasse 1\, Frauenfeld\, 8500\, Switzerland
CATEGORIES:Peggy
ATTACH;FMTTYPE=image/png:https://www.party-insider.com/wp-content/uploads/2025/05/IMG_2025-05-23-204627.png
END:VEVENT
BEGIN:VEVENT
DTSTART;TZID=Europe/Zurich:20250524T220000
DTEND;TZID=Europe/Zurich:20250525T030000
DTSTAMP:20260423T002150
CREATED:20250522T195736Z
LAST-MODIFIED:20250522T195736Z
UID:10002760-1748124000-1748142000@www.party-insider.com
SUMMARY:New Opening in Nelson Winterthur
DESCRIPTION:
URL:https://www.party-insider.com/event/new-opening-in-nelson-winterthur-2/
ATTACH;FMTTYPE=image/png:https://www.party-insider.com/wp-content/uploads/2025/05/IMG_2025-05-22-215105.png
END:VEVENT
BEGIN:VEVENT
DTSTART;TZID=Europe/Zurich:20250524T220000
DTEND;TZID=Europe/Zurich:20250525T040000
DTSTAMP:20260423T002150
CREATED:20250518T202545Z
LAST-MODIFIED:20250518T202545Z
UID:10002223-1748124000-1748145600@www.party-insider.com
SUMMARY:Booty Nite und Downtown im Bolero Winterthur
DESCRIPTION:
URL:https://www.party-insider.com/event/booty-nite-und-downtown-im-bolero-winterthur/
LOCATION:Bolero Winterthur\, Vogelsangstrasse 10\, Winterthur\, 8400\, Switzerland
CATEGORIES:Bolero
ATTACH;FMTTYPE=image/jpeg:https://www.party-insider.com/wp-content/uploads/2025/05/IMG_2025-05-18-221522.jpeg
END:VEVENT
BEGIN:VEVENT
DTSTART;TZID=Europe/Zurich:20250524T220000
DTEND;TZID=Europe/Zurich:20250525T040000
DTSTAMP:20260423T002150
CREATED:20250518T220100Z
LAST-MODIFIED:20250518T220100Z
UID:10002749-1748124000-1748145600@www.party-insider.com
SUMMARY:Retro 90s x 2000s in Arena Amriswil
DESCRIPTION:
URL:https://www.party-insider.com/event/retro-90s-x-2000s-in-arena-amriswil/
LOCATION:Mood12 Amriswil\, Schrofenstrasse 12\, Amriswil​​​​​​​\, 8580\, Switzerland
CATEGORIES:MOOD12 Amriswil
ATTACH;FMTTYPE=image/png:https://www.party-insider.com/wp-content/uploads/2025/05/IMG_2025-05-18-235856.png
END:VEVENT
BEGIN:VEVENT
DTSTART;TZID=Europe/Zurich:20250524T220000
DTEND;TZID=Europe/Zurich:20250525T050000
DTSTAMP:20260423T002150
CREATED:20250510T121917Z
LAST-MODIFIED:20250510T122112Z
UID:10001938-1748124000-1748149200@www.party-insider.com
SUMMARY:HIP HOP AT LAKE KONSTANZ im Grey Konstanz
DESCRIPTION:🎧 HIP HOP AT LAKE KONSTANZ 🎧 \nPARTY AUF 4 FLOORS \n🔥🎶 HIP HOP AT LAKE KONSTANZ – DIE PARTY LEGEND AM SEE! 🎶🔥\n💥 Today’s the Day: Die größte Hip Hop Party am Bodensee in der größten Diskothek der Region – Club 1! 💥\nDas wird Massiv\, das wird Laut\, das wird Unvergesslich!\n🎧 Sound Alert: DJ Mighty Mike von Planet Radio / Frankfurt liefert dir heute den feinsten Mix aus:\n➡️ Hip Hop\n➡️ Trap\n➡️ Dancehall\n➡️ Reggaeton\n➡️ R&B\n🔥 100% Lit Vibes garantiert – bring deine Moves! 🔥\n💃 Unsere heißen GoGo’s sind ON FIRE und pushen den Energielevel auf Maximum! 😏💎\n📣 How to join the party:\n👉 Einlass: Ab 22 Uhr\n👉 Free Entry bis 23 Uhr – Sei early\, save dein Spot und dreh mit uns durch! 😎\n🎉 Das wird der ULTIMATE TURN-UP\, den du nicht verpassen willst! Bring deine Crew und mach dich bereit für eine Nacht voller Beats\, Hype und intensiven Partymomenten.\n🚀 Club 1 – Hip Hop Heaven am Bodensee** 🚀\n#HipHopAtLake #PartyTurnUp #Club1Vibes #LetsGetIt\n# Lounge Reservierung unter:\nhttp://www.greyclub.de
URL:https://www.party-insider.com/event/hip-hop-at-lake-konstanz-im-grey-konstanz-2/
LOCATION:Grey Konstanz\, Max-Stromeyerstr. 33\, Konstanz\, 78467\, Germany
CATEGORIES:Grey
ATTACH;FMTTYPE=image/jpeg:https://www.party-insider.com/wp-content/uploads/2025/05/IMG_3582.jpeg
END:VEVENT
BEGIN:VEVENT
DTSTART;TZID=Europe/Zurich:20250524T220000
DTEND;TZID=Europe/Zurich:20250525T050000
DTSTAMP:20260423T002150
CREATED:20250518T200748Z
LAST-MODIFIED:20250518T200920Z
UID:10002221-1748124000-1748149200@www.party-insider.com
SUMMARY:Clubber Night – das große Comeback! 3 Floors geöffnet im Top10 Singen
DESCRIPTION:Clubber Night – das große Comeback! \nUnsere Clubber Night…\n\n…eine Nacht voller Erlebnisse\, schönen Menschen und dem passenden Sound. Ja richtig gelesen\, wir bringen euch EURE CLUBBER NIGHT zurück!\n\nWir haben für euch:\n\nALLE FLOORS GEÖFFNET!\nCLUBBER SPECIAL GILT FÜR ALLE GÄSTE\n\nBis 24 Uhr einchecken und\n\n10.-€ Eintritt = 22.-€ Freigetränke!\n20.-€ Eintritt = 45.-€ Freigetränke!\n30.-€ Eintritt = 65.-€ Freigetränke!\n\n♠️ MAINHALL ♠️\nFRANK G\nmixed clubsounds\n\n♠️ GROOVE CLUB ♠️\nTBA\n\n♠️ FIESTA ♠️\nSTEFAN VON BIERKELLER\npartyhits\, pop\, rock\n\n★★★★★★★★★★★★★★★★★\nEINLASS AB 18 JAHREN\nÖffnungszeiten 22:00 – 5:00 Uhr\nEintritt: 8€\n★★★★★★★★★★★★★★★★★
URL:https://www.party-insider.com/event/clubber-night-das-grosse-comeback-3-floors-geoeffnet-im-top10-singen/
LOCATION:TOP10 Singen\, Otto-Hahn-Str. 5\, Singen (Hohentwiel)\, 78224\, Germany
CATEGORIES:Top10
ATTACH;FMTTYPE=image/jpeg:https://www.party-insider.com/wp-content/uploads/2025/05/IMG_4034.jpeg
END:VEVENT
BEGIN:VEVENT
DTSTART;TZID=Europe/Zurich:20250524T220000
DTEND;TZID=Europe/Zurich:20250525T050000
DTSTAMP:20260423T002150
CREATED:20250518T204349Z
LAST-MODIFIED:20250518T204349Z
UID:10002748-1748124000-1748149200@www.party-insider.com
SUMMARY:Mädelsabend in Erdbeermund Singen
DESCRIPTION:Heute ist wieder Mädels Abend!!!\n\nMädels Abend ist…\nEine säuft. Eine heult. Eine kichert irre vor sich hin.\nZwei rennen schreiend durch den Club.\nEine steht beim DJ und macht sich über den Rest der Truppe lustig…\n\nFrauen haben bis 24.00 Uhr freien Eintritt.\n\nUnsere Getränkeaktionen:\nEmund Sekt 0\,7l 12€ statt 19€\nSalitos Pink 0\,33l 2\,50 € statt 4\,50€\nPiccolo 0\,2l 3€\n\nGrüße vom Erdbeermund Team\n▀▀▀▀▀▀▀▀▀▀▀▀▀▀▀▀▀▀▀▀▀\nX Music by DJ Sanvalentino X\nBest of Mainstream\, Latino und Partyhits\n▀▀▀▀▀▀▀▀▀▀▀▀▀▀▀▀▀▀▀▀▀\nmore info\n►► Eintritt: 9\,00 EUR\n►► ab 21 Jahren\n►► Öffnungszeiten 22:00 – 5:00 Uhr\n►► Reservierungen: https://www.erdbeermund-singen.de
URL:https://www.party-insider.com/event/maedelsabend-in-erdbeermund-singen/
LOCATION:Erdbeermund Singen\, Otto-Hahn-Str. 5\, Singen (Hohentwiel)\, 78224\, Germany
CATEGORIES:Erdbeermund
ATTACH;FMTTYPE=image/png:https://www.party-insider.com/wp-content/uploads/2025/05/IMG_2025-05-18-223749.png
END:VEVENT
BEGIN:VEVENT
DTSTART;TZID=Europe/Zurich:20250524T230000
DTEND;TZID=Europe/Zurich:20250525T050000
DTSTAMP:20260423T002150
CREATED:20250509T184809Z
LAST-MODIFIED:20250509T184843Z
UID:10001929-1748127600-1748149200@www.party-insider.com
SUMMARY:Sprung in Kantine Konstanz
DESCRIPTION:SPRUNG #32 \nMAY 24 | 11PM | KANTINE KN w/ SEVENSOL | ROSE | HELMUT FIT \nLIGHT: SHINY ALEX \n@sevensol_ \n@_milenarose @helmut_fit \n@shinyalex_blinkenlights \n@kantinekn \nPresale 7€ | Box office 10€ \nHOUSE AND TECHNO WITH AN ATTITUDE! \nNo sexism | no racism | no homophobia! \n#kantinekn #konstanz #techno #kreuzlingen #technoparty #sprungkn
URL:https://www.party-insider.com/event/sprung-in-kantine-konstanz/
LOCATION:Kantine Konstanz\, Oberlohnstraße 3\, Konstanz\, 78467\, Germany
CATEGORIES:Kantine
ATTACH;FMTTYPE=image/png:https://www.party-insider.com/wp-content/uploads/2025/05/IMG_2025-05-09-204557.png
END:VEVENT
BEGIN:VEVENT
DTSTART;VALUE=DATE:20250525
DTEND;VALUE=DATE:20250527
DTSTAMP:20260423T002150
CREATED:20250512T105110Z
LAST-MODIFIED:20250512T105228Z
UID:10002213-1748152800-1748239199@www.party-insider.com
SUMMARY:Vespa Tre Nazioni Bodensee in Kreuzlingen
DESCRIPTION:6 DJ heizen unser Vespa Tre Nazioni Bodensee auf… 🛵 \nAdresse:\nSeestrasse 45\n8280 Kreuzlingen
URL:https://www.party-insider.com/event/vespa-tre-nazioni-bodensee-in-kreuzlingen/
ATTACH;FMTTYPE=image/jpeg:https://www.party-insider.com/wp-content/uploads/2025/05/IMG_3683.jpeg
END:VEVENT
END:VCALENDAR