BEGIN:VCALENDAR
VERSION:2.0
PRODID:-//Party-Insider - ECPv6.15.20//NONSGML v1.0//EN
CALSCALE:GREGORIAN
METHOD:PUBLISH
X-WR-CALNAME:Party-Insider
X-ORIGINAL-URL:https://www.party-insider.com
X-WR-CALDESC:Veranstaltungen im Party-Insider
REFRESH-INTERVAL;VALUE=DURATION:PT1H
X-Robots-Tag:noindex
X-PUBLISHED-TTL:PT1H
BEGIN:VTIMEZONE
TZID:Europe/Zurich
BEGIN:DAYLIGHT
TZOFFSETFROM:+0100
TZOFFSETTO:+0200
TZNAME:CEST
DTSTART:20250330T010000
END:DAYLIGHT
BEGIN:STANDARD
TZOFFSETFROM:+0200
TZOFFSETTO:+0100
TZNAME:CET
DTSTART:20251026T010000
END:STANDARD
BEGIN:DAYLIGHT
TZOFFSETFROM:+0100
TZOFFSETTO:+0200
TZNAME:CEST
DTSTART:20260329T010000
END:DAYLIGHT
BEGIN:STANDARD
TZOFFSETFROM:+0200
TZOFFSETTO:+0100
TZNAME:CET
DTSTART:20261025T010000
END:STANDARD
BEGIN:DAYLIGHT
TZOFFSETFROM:+0100
TZOFFSETTO:+0200
TZNAME:CEST
DTSTART:20270328T010000
END:DAYLIGHT
BEGIN:STANDARD
TZOFFSETFROM:+0200
TZOFFSETTO:+0100
TZNAME:CET
DTSTART:20271031T010000
END:STANDARD
END:VTIMEZONE
BEGIN:VEVENT
DTSTART;TZID=Europe/Zurich:20260424T220000
DTEND;TZID=Europe/Zurich:20260424T220000
DTSTAMP:20260423T102824
CREATED:20260419T170220Z
LAST-MODIFIED:20260419T170329Z
UID:10010151-1777068000-1777068000@www.party-insider.com
SUMMARY:2000ER PARTY - Eden Club St. Gallen
DESCRIPTION:🔥 2000ER PARTY – BACK TO THE LEGENDARY ERA 🔥 \nWir holen die goldene Zeit zurück auf die Tanzfläche!\nDie 2000er waren mehr als nur Musik – sie waren ein Lifestyle. Und genau das spürst du in dieser Nacht. \nVon den grössten Club-Hits bis zu den Songs\, die du auswendig kennst –\nhier wird nicht nur getanzt\, hier wird mitgesungen\, gefeiert und komplett eskaliert. \n🎶 Die besten 2000er Classics & Party Hits\n💃 Mitsingen\, Tanzen & Abriss die ganze Nacht\n🍹 Pure Nostalgie & unvergessliche Vibes\n🔥 Energie\, die du nicht vergisst \n📅 24.04\n🕙 Türöffnung: 22:00\n🎧 DJ Kenco liefert dir die heissesten Throwbacks\n📍 Eden Club St. Gallen\n🔞 16+ \nHol deine Crew\, zieh dein bestes Outfit an und sei bereit für eine Nacht\,\ndie dich direkt zurück in die 2000er katapultiert. \nDas ist nicht nur eine Party – das ist eine Zeitreise.\nUnd du willst sie nicht verpassen. 🔥
URL:https://www.party-insider.com/event/2000er-party-eden-club-st-gallen-2/
LOCATION:Eden Club St. Gallen\, Bahnhofstrasse 10\, St. Gallen\, 9000\, Switzerland
CATEGORIES:Eden club
ATTACH;FMTTYPE=image/jpeg:https://www.party-insider.com/wp-content/uploads/2026/04/IMG_6464.jpeg
END:VEVENT
END:VCALENDAR