BEGIN:VCALENDAR
VERSION:2.0
PRODID:-//Party-Insider - ECPv6.14.2//NONSGML v1.0//EN
CALSCALE:GREGORIAN
METHOD:PUBLISH
X-ORIGINAL-URL:https://www.party-insider.com
X-WR-CALDESC:Veranstaltungen im Party-Insider
REFRESH-INTERVAL;VALUE=DURATION:PT1H
X-Robots-Tag:noindex
X-PUBLISHED-TTL:PT1H
BEGIN:VTIMEZONE
TZID:Europe/Zurich
BEGIN:DAYLIGHT
TZOFFSETFROM:+0100
TZOFFSETTO:+0200
TZNAME:CEST
DTSTART:20250330T010000
END:DAYLIGHT
BEGIN:STANDARD
TZOFFSETFROM:+0200
TZOFFSETTO:+0100
TZNAME:CET
DTSTART:20251026T010000
END:STANDARD
BEGIN:DAYLIGHT
TZOFFSETFROM:+0100
TZOFFSETTO:+0200
TZNAME:CEST
DTSTART:20260329T010000
END:DAYLIGHT
BEGIN:STANDARD
TZOFFSETFROM:+0200
TZOFFSETTO:+0100
TZNAME:CET
DTSTART:20261025T010000
END:STANDARD
END:VTIMEZONE
BEGIN:VEVENT
DTSTART;TZID=Europe/Zurich:20260207T210000
DTEND;TZID=Europe/Zurich:20260208T040000
DTSTAMP:20260421T150816
CREATED:20260201T114417Z
LAST-MODIFIED:20260201T114715Z
UID:10008633-1770498000-1770523200@www.party-insider.com
SUMMARY:OLD SCHOOL LOVE Ü30 - Eden Club St. Gallen
DESCRIPTION:🔥 OLD SCHOOL LOVE – IS BACK! 🔥 \nWo alte Erinnerungen auf neue Nächte treffen. \nAm Samstag\, 07.02.2026 wird St. Gallen zum Treffpunkt für alte Freunde\, bekannte Gesichter und echte Old-School-Vibes. \nEine Nacht\, in der man sich wieder sieht\, zusammen lacht\, tanzt und die Musik feiert\, die uns geprägt hat. \nDiese Edition ist exklusiv für Adults 30+ \nstilvoll\, entspannt und voller guter Energie. \n🎧 Music by: \nDJ Roc One | DJ Zenko | DJ Marc Mind \n🎤 Hosted by MC White P \n🎶 Sound: \n90er & 2000er Hip Hop\, RnB & Party Tunes – echte Classics\, echte Gefühle. \n⸻ \n✨ SPECIAL OLD SCHOOL APÉRO EDITION ✨ \nGanz exklusiv – nur für die Schnellsten! \n🥂 Die ERSTEN 100 Ticketkäufer/innen profitieren von einem Old School Apéro \n🕘 ab 21:00 Uhr \n🍹 Apéro inkl. Welcome Drink \n🎟 Im Ticketpreis inklusive \n>>> Tickets <<< \nEin stilvoller Start in die Nacht – bevor die Tanzfläche bebt. \n⸻ \n📍 Location: EDEN St. Gallen \nBahnhofstrasse 10\, 9000 St. Gallen \n🎟 Tickets: Eventfrog \nOder Privat ūber Instagram anfragen . \n👉 Bring deine alten Freunde mit\, triff bekannte Gesichter und feiere eine Nacht\, die sich anfühlt wie früher – nur besser. \nOLD SCHOOL LOVE IS BACK – St. Gallen\, wir sehen uns!
URL:https://www.party-insider.com/event/old-school-love-ue30-eden-club-st-gallen/
LOCATION:Eden Club St. Gallen\, Bahnhofstrasse 10\, St. Gallen\, 9000\, Switzerland
CATEGORIES:Eden club
ATTACH;FMTTYPE=image/jpeg:https://www.party-insider.com/wp-content/uploads/2026/02/IMG_3829.jpeg
END:VEVENT
BEGIN:VEVENT
DTSTART;TZID=Europe/Zurich:20260130T220000
DTEND;TZID=Europe/Zurich:20260131T040000
DTSTAMP:20260421T150816
CREATED:20260125T174507Z
LAST-MODIFIED:20260125T174801Z
UID:10008603-1769810400-1769832000@www.party-insider.com
SUMMARY:2000er Party - Eden Club St. Gallen
DESCRIPTION:2000ER PARTY IM EDEN CLUB ST. GALLEN \nAm Freitag\, 30. Januar 2026\, steigt im Eden Club St. \nGallen die ultimative 2000er Party – pure Throwback-Vibes garantiert So ++ \nEinlass: ab 22:00 Uhr \nOpen End \nAb 16 Jahren \n>>> Tickets <<< auf eventfrog.ch erhältlich
URL:https://www.party-insider.com/event/2000er-party-eden-club-st-gallen/
LOCATION:Eden Club St. Gallen\, Bahnhofstrasse 10\, St. Gallen\, 9000\, Switzerland
CATEGORIES:Eden club
ATTACH;FMTTYPE=image/jpeg:https://www.party-insider.com/wp-content/uploads/2026/01/IMG_3691.jpeg
END:VEVENT
BEGIN:VEVENT
DTSTART;TZID=Europe/Zurich:20260103T220000
DTEND;TZID=Europe/Zurich:20260104T040000
DTSTAMP:20260421T150816
CREATED:20260102T173319Z
LAST-MODIFIED:20260102T173319Z
UID:10007685-1767477600-1767499200@www.party-insider.com
SUMMARY:Black & White Party- Eden Club St. Gallen
DESCRIPTION:
URL:https://www.party-insider.com/event/black-white-party-eden-club-st-gallen/
LOCATION:Eden Club St. Gallen\, Bahnhofstrasse 10\, St. Gallen\, 9000\, Switzerland
CATEGORIES:Eden club
ATTACH;FMTTYPE=image/jpeg:https://www.party-insider.com/wp-content/uploads/2026/01/IMG_3088.jpeg
END:VEVENT
BEGIN:VEVENT
DTSTART;TZID=Europe/Zurich:20251220T220000
DTEND;TZID=Europe/Zurich:20251221T040000
DTSTAMP:20260421T150816
CREATED:20251216T205132Z
LAST-MODIFIED:20251216T205422Z
UID:10006659-1766268000-1766289600@www.party-insider.com
SUMMARY:Single Party- Eden Club St. Gallen
DESCRIPTION:SINGLE NIGHT 💘✨ \nAm Freitag\, 20. Dezember wird der Eden Club St. Gallen zum Treffpunkt für alle Singles\, die lieber feiern als swipen. Eine Clubnacht mit guter Musik\, lockerer Atmosphäre und echten Begegnungen. \nDatum: Freitag\, 20.12.\nDoors open: 22:00 Uhr\, gefeiert wird open end\nEintritt: ab 16 Jahren \nTickets sind auf eventfrog.ch erhältlich. 🎟️ \n>>> Tickets <<< \nWir freuen uns auf Dich! ❤️
URL:https://www.party-insider.com/event/single-party-eden-club-st-gallen/
LOCATION:Eden Club St. Gallen\, Bahnhofstrasse 10\, St. Gallen\, 9000\, Switzerland
CATEGORIES:Eden club
ATTACH;FMTTYPE=image/png:https://www.party-insider.com/wp-content/uploads/2025/12/IMG_2512.png
END:VEVENT
BEGIN:VEVENT
DTSTART;TZID=Europe/Zurich:20251031T220000
DTEND;TZID=Europe/Zurich:20251101T040000
DTSTAMP:20260421T150816
CREATED:20251014T191854Z
LAST-MODIFIED:20251014T192814Z
UID:10005014-1761948000-1761969600@www.party-insider.com
SUMMARY:Halloween Party- Eden Club St. Gallen
DESCRIPTION:Unsere Halloweenparty findet dieses Jahr im Eden Club St. Gallen statt und bringt dir ein völlig neues Konzept mit neuer Location\, neuer Crowd und einer unvergesslichen Stimmung. \nDer Einlass beginnt um 22:00 Uhr\, doch für die ersten 50 Gäste\, die sich ihr Ticket sichern\, gibt es ein exklusives Special: Sie dürfen bereits um 21:30 Uhr in den Club\, sich professionell schminken lassen und so perfekt gestylt in die Nacht starten. Dich erwartet ein Abend voller schauriger Halloweendeko\, elektrisierender Atmosphäre und einer Party\, die du so schnell nicht vergessen wirst. \nTickets sind in limitierter Stückzahl im Vorverkauf erhältlich. Zusätzlich wird es auch noch einige Tickets an der Abendkasse geben. Im Ticketpreis ist der Eintritt enthalten\, die Garderobe kostet 2 CHF. \nZutritt erhalten ausschliesslich Gäste im Alter von 16 bis 25 Jahren\, ältere Personen können wir ohne Ausnahme nicht einlassen. Für den Einlass akzeptieren wir ausschliesslich gültige Ausweisdokumente wie Personalausweis\, Reisepass\, ausländischen Ausweis oder Führerschein. Kopien\, Fotos\, Screenshots oder Schülerausweise sind nicht gültig. \nWir legen grossen Wert auf Sicherheit und Wohlbefinden: Vor Ort ist rund um die Uhr Security im Einsatz\, die bei Fehlverhalten sofort einschreiten und Hausverbot erteilen kann. \nAlso sichere dir jetzt dein Ticket und erlebe die gruseligste Nacht des Jahres im Eden Club St. Gallen.
URL:https://www.party-insider.com/event/halloween-party-eden-club-st-gallen/
LOCATION:Eden Club St. Gallen\, Bahnhofstrasse 10\, St. Gallen\, 9000\, Switzerland
CATEGORIES:Eden club
ATTACH;FMTTYPE=image/webp:https://www.party-insider.com/wp-content/uploads/2025/10/IMG_0718.webp
END:VEVENT
END:VCALENDAR