BEGIN:VCALENDAR
VERSION:2.0
PRODID:-//Party-Insider - ECPv6.15.20//NONSGML v1.0//EN
CALSCALE:GREGORIAN
METHOD:PUBLISH
X-ORIGINAL-URL:https://www.party-insider.com
X-WR-CALDESC:Veranstaltungen im Party-Insider
REFRESH-INTERVAL;VALUE=DURATION:PT1H
X-Robots-Tag:noindex
X-PUBLISHED-TTL:PT1H
BEGIN:VTIMEZONE
TZID:Europe/Zurich
BEGIN:DAYLIGHT
TZOFFSETFROM:+0100
TZOFFSETTO:+0200
TZNAME:CEST
DTSTART:20250330T010000
END:DAYLIGHT
BEGIN:STANDARD
TZOFFSETFROM:+0200
TZOFFSETTO:+0100
TZNAME:CET
DTSTART:20251026T010000
END:STANDARD
BEGIN:DAYLIGHT
TZOFFSETFROM:+0100
TZOFFSETTO:+0200
TZNAME:CEST
DTSTART:20260329T010000
END:DAYLIGHT
BEGIN:STANDARD
TZOFFSETFROM:+0200
TZOFFSETTO:+0100
TZNAME:CET
DTSTART:20261025T010000
END:STANDARD
BEGIN:DAYLIGHT
TZOFFSETFROM:+0100
TZOFFSETTO:+0200
TZNAME:CEST
DTSTART:20270328T010000
END:DAYLIGHT
BEGIN:STANDARD
TZOFFSETFROM:+0200
TZOFFSETTO:+0100
TZNAME:CET
DTSTART:20271031T010000
END:STANDARD
END:VTIMEZONE
BEGIN:VEVENT
DTSTART;TZID=Europe/Zurich:20260501T140000
DTEND;TZID=Europe/Zurich:20260501T140000
DTSTAMP:20260424T021517
CREATED:20260423T200351Z
LAST-MODIFIED:20260423T200647Z
UID:10010185-1777644000-1777644000@www.party-insider.com
SUMMARY:Schlagerparty - Osthof Steffelin Markdorf
DESCRIPTION:
URL:https://www.party-insider.com/event/schlagerparty-osthof-steffelin-markdorf/
LOCATION:Obsthof Steffelin Markdorf\, Gartenweg 1\, Markdorf\, 88677\, Germany
CATEGORIES:Osthof Steffelin Markdorf
ATTACH;FMTTYPE=image/jpeg:https://www.party-insider.com/wp-content/uploads/2026/04/IMG_6574.jpeg
END:VEVENT
END:VCALENDAR