BEGIN:VCALENDAR
VERSION:2.0
PRODID:-//Party-Insider - ECPv6.15.20//NONSGML v1.0//EN
CALSCALE:GREGORIAN
METHOD:PUBLISH
X-ORIGINAL-URL:https://www.party-insider.com
X-WR-CALDESC:Veranstaltungen im Party-Insider
REFRESH-INTERVAL;VALUE=DURATION:PT1H
X-Robots-Tag:noindex
X-PUBLISHED-TTL:PT1H
BEGIN:VTIMEZONE
TZID:Europe/Zurich
BEGIN:DAYLIGHT
TZOFFSETFROM:+0100
TZOFFSETTO:+0200
TZNAME:CEST
DTSTART:20250330T010000
END:DAYLIGHT
BEGIN:STANDARD
TZOFFSETFROM:+0200
TZOFFSETTO:+0100
TZNAME:CET
DTSTART:20251026T010000
END:STANDARD
BEGIN:DAYLIGHT
TZOFFSETFROM:+0100
TZOFFSETTO:+0200
TZNAME:CEST
DTSTART:20260329T010000
END:DAYLIGHT
BEGIN:STANDARD
TZOFFSETFROM:+0200
TZOFFSETTO:+0100
TZNAME:CET
DTSTART:20261025T010000
END:STANDARD
BEGIN:DAYLIGHT
TZOFFSETFROM:+0100
TZOFFSETTO:+0200
TZNAME:CEST
DTSTART:20270328T010000
END:DAYLIGHT
BEGIN:STANDARD
TZOFFSETFROM:+0200
TZOFFSETTO:+0100
TZNAME:CET
DTSTART:20271031T010000
END:STANDARD
END:VTIMEZONE
BEGIN:VEVENT
DTSTART;TZID=Europe/Zurich:20260404T210000
DTEND;TZID=Europe/Zurich:20260404T210000
DTSTAMP:20260425T042800
CREATED:20260310T085735Z
LAST-MODIFIED:20260310T123601Z
UID:10009264-1775336400-1775336400@www.party-insider.com
SUMMARY:Die Draufgänger - DJ Dee Cello - The Bandits Tuggen
DESCRIPTION:
URL:https://www.party-insider.com/event/die-draufgaenger-dj-dee-cello-the-bandits-tuggen/
LOCATION:The Bandits Tuggen\, Betti 67\, Tuggen\, 8856\, Switzerland
CATEGORIES:The Bandits Tuggen
ATTACH;FMTTYPE=image/jpeg:https://www.party-insider.com/wp-content/uploads/2026/03/IMG_5113.jpeg
END:VEVENT
BEGIN:VEVENT
DTSTART;TZID=Europe/Zurich:20260402T210000
DTEND;TZID=Europe/Zurich:20260402T210000
DTSTAMP:20260425T042800
CREATED:20260310T121246Z
LAST-MODIFIED:20260310T123140Z
UID:10009265-1775163600-1775163600@www.party-insider.com
SUMMARY:Welcome Mallorca 2 - The Bandits Tuggen
DESCRIPTION:
URL:https://www.party-insider.com/event/welcome-mallorca-2-the-bandits-tuggen/
LOCATION:The Bandits Tuggen\, Betti 67\, Tuggen\, 8856\, Switzerland
CATEGORIES:The Bandits Tuggen
ATTACH;FMTTYPE=image/jpeg:https://www.party-insider.com/wp-content/uploads/2026/03/IMG_5112.jpeg
END:VEVENT
END:VCALENDAR